BEGIN:VCALENDAR
VERSION:2.0
PRODID:-//BGSQD - ECPv6.15.20//NONSGML v1.0//EN
CALSCALE:GREGORIAN
METHOD:PUBLISH
X-WR-CALNAME:BGSQD
X-ORIGINAL-URL:https://www.bgsqd.com
X-WR-CALDESC:Events for BGSQD
REFRESH-INTERVAL;VALUE=DURATION:PT1H
X-Robots-Tag:noindex
X-PUBLISHED-TTL:PT1H
BEGIN:VTIMEZONE
TZID:America/New_York
BEGIN:DAYLIGHT
TZOFFSETFROM:-0500
TZOFFSETTO:-0400
TZNAME:EDT
DTSTART:20220313T070000
END:DAYLIGHT
BEGIN:STANDARD
TZOFFSETFROM:-0400
TZOFFSETTO:-0500
TZNAME:EST
DTSTART:20221106T060000
END:STANDARD
BEGIN:DAYLIGHT
TZOFFSETFROM:-0500
TZOFFSETTO:-0400
TZNAME:EDT
DTSTART:20230312T070000
END:DAYLIGHT
BEGIN:STANDARD
TZOFFSETFROM:-0400
TZOFFSETTO:-0500
TZNAME:EST
DTSTART:20231105T060000
END:STANDARD
BEGIN:DAYLIGHT
TZOFFSETFROM:-0500
TZOFFSETTO:-0400
TZNAME:EDT
DTSTART:20240310T070000
END:DAYLIGHT
BEGIN:STANDARD
TZOFFSETFROM:-0400
TZOFFSETTO:-0500
TZNAME:EST
DTSTART:20241103T060000
END:STANDARD
END:VTIMEZONE
BEGIN:VEVENT
DTSTART;TZID=America/New_York:20230727T183000
DTEND;TZID=America/New_York:20230727T210000
DTSTAMP:20260421T123013
CREATED:20230718T140908Z
LAST-MODIFIED:20230726T172836Z
UID:12609-1690482600-1690491600@www.bgsqd.com
SUMMARY:VIRTUE\, NYC REVIVAL OF LANDMARK QUEER FILM
DESCRIPTION:Join us for a screening of VIRTUE (1999)\, the historical experimental queer film\, followed by Q&A with director Camera Obscura\, moderated by August Bernadicou (The LGBTQ History Project). \nA quarter-century after its release\, Virtue reflects the historical moment during the 1990s in S.F. when the two worlds of tech and queer/punk collided. As a result\, Virtue was received as a perplexing anomaly. On the one hand\, it was a campy\, polymorphously perverse satire with music. On the other hand\, it was a scathing critique (exceedingly rare at the time) of Silicon Valley’s techno-utopian vision. Neither fish nor fowl\, the film defied genre. \nThe story\, reminiscent in tone of a Twilight Zone allegory\, involves a strange woman with an odd accent (Hundée) who loses her husband in a graphically depicted scene of auto-erotic asphyxiation. To cope with her loss\, she seeks a virtual-reality substitute (a “man chip” as she calls it). This pursuit leads her into the prurient world of tech addicts who rely on chip pushers (the drug metaphor is obvious). \nThe film is chock full of cameos by bohemian icons of the day\, including The Sisters of Perpetual Indulgence\, Jello Biafra\, Elvis Herselvis\, Phillip R. Ford\, and Miss X. Also included are interviews with futurists Timothy Leary\, William Gibson\, R.U. Sirius\, and John Perry Barlow. \nDirector Q/A to follow moderated by August Bernadicou (The LGBTQ History Project) \nThis event will take place in person at the Bureau of General Services—Queer Division\, on the second floor (room 210) of The LGBT Community Center\, 208 W. 13th St.\, NYC\, 10011. \nRegistration is not required. Seating is first come\, first served. \nSuggested donation $10 to benefit the Bureau’s work.\nAll are welcome to attend\, with or without donation. \nWe will pass a bag for donations at the start of the event\, but we can also take credit card donations at the register or on Venmo @bgsqd.
URL:https://www.bgsqd.com/event/virtue-nyc-revival-of-landmark-queer-filmvirtue-nyc-premier-screening/
LOCATION:Bureau of General Services–Queer Division\, 208 West 13th Street\, Room 210\, New York\, NY\, 10011\, United States
ATTACH;FMTTYPE=image/png:https://www.bgsqd.com/wp-content/uploads/2023/07/July-27-VIRTUE-POSTER-final.png
ORGANIZER;CN="Bureau of General Services%E2%80%94Queer Division":MAILTO:contact@bgsqd.com
END:VEVENT
END:VCALENDAR