BEGIN:VCALENDAR
VERSION:2.0
PRODID:-//BGSQD - ECPv6.15.20//NONSGML v1.0//EN
CALSCALE:GREGORIAN
METHOD:PUBLISH
X-WR-CALNAME:BGSQD
X-ORIGINAL-URL:https://www.bgsqd.com
X-WR-CALDESC:Events for BGSQD
REFRESH-INTERVAL;VALUE=DURATION:PT1H
X-Robots-Tag:noindex
X-PUBLISHED-TTL:PT1H
BEGIN:VTIMEZONE
TZID:America/New_York
BEGIN:DAYLIGHT
TZOFFSETFROM:-0500
TZOFFSETTO:-0400
TZNAME:EDT
DTSTART:20250309T070000
END:DAYLIGHT
BEGIN:STANDARD
TZOFFSETFROM:-0400
TZOFFSETTO:-0500
TZNAME:EST
DTSTART:20251102T060000
END:STANDARD
BEGIN:DAYLIGHT
TZOFFSETFROM:-0500
TZOFFSETTO:-0400
TZNAME:EDT
DTSTART:20260308T070000
END:DAYLIGHT
BEGIN:STANDARD
TZOFFSETFROM:-0400
TZOFFSETTO:-0500
TZNAME:EST
DTSTART:20261101T060000
END:STANDARD
BEGIN:DAYLIGHT
TZOFFSETFROM:-0500
TZOFFSETTO:-0400
TZNAME:EDT
DTSTART:20270314T070000
END:DAYLIGHT
BEGIN:STANDARD
TZOFFSETFROM:-0400
TZOFFSETTO:-0500
TZNAME:EST
DTSTART:20271107T060000
END:STANDARD
END:VTIMEZONE
BEGIN:VEVENT
DTSTART;TZID=America/New_York:20260517T150000
DTEND;TZID=America/New_York:20260517T170000
DTSTAMP:20260423T032906
CREATED:20260422T164129Z
LAST-MODIFIED:20260422T164129Z
UID:16351-1779030000-1779037200@www.bgsqd.com
SUMMARY:Soulmate As A Verb: Poems by Kelsey L. Smoot
DESCRIPTION:RSVP TO THIS EVENT \nPoet Kelsey L. Smoot\, author of the debut DOPAMINE collection SOULMATE AS A VERB performs his powerful lyrical work and talks with visual artist/performer/print maker and curator Lo Smith about the evolution and lived experience of artistry for Black queer artists across mediums.
URL:https://www.bgsqd.com/event/soulmate-as-a-verb-poems-by-kelsey-l-smoot/
LOCATION:Bureau of General Services–Queer Division\, 208 West 13th Street\, Room 210\, New York\, NY\, 10011\, United States
ATTACH;FMTTYPE=image/webp:https://www.bgsqd.com/wp-content/uploads/2026/04/Soulmate-as-a-Verb-May-17.webp
ORGANIZER;CN="Bureau of General Services%E2%80%94Queer Division":MAILTO:contact@bgsqd.com
END:VEVENT
BEGIN:VEVENT
DTSTART;TZID=America/New_York:20260520T190000
DTEND;TZID=America/New_York:20260520T210000
DTSTAMP:20260423T032906
CREATED:20260422T175313Z
LAST-MODIFIED:20260422T175313Z
UID:16354-1779303600-1779310800@www.bgsqd.com
SUMMARY:Entangled States: A Life According to Quantum Physics
DESCRIPTION:RSVP TO THIS EVENT \nJoin us for a discussion with debut author Karmela Padavic-Callaghan and Sevan Rasmussen about Entangled States: A Life According to Quantum Physics. \nPadavic-Callaghan is a science writer currently on staff writer at New Scientist where they report on physics\, materials science\, and quantum technology.  Each chapter examines a moment in Karmela’s life through the lens of a physics concept. Knot theory becomes a lens for the story of Karmela visiting a Croatian healer. Ultracold atom labs lead to a meditation on societal expectations that women be unfailingly warm and nurturing. And the workings of an electron microscope become a framework for Karmela’s evolving relationship with cosmetics as they realized they are nonbinary. \nPadavic-Callaghan writes conversationally about seeing themselves in Freddie Mercury’s queer masculinity and power\, what it means to be a queer teacher to young people\, and overall how  “Queerness\, as I have come to understand it\, is always future-oriented\, always a state of becoming.”
URL:https://www.bgsqd.com/event/entangled-states-a-life-according-to-quantum-physics/
LOCATION:Bureau of General Services–Queer Division\, 208 West 13th Street\, Room 210\, New York\, NY\, 10011\, United States
ATTACH;FMTTYPE=image/webp:https://www.bgsqd.com/wp-content/uploads/2026/04/Entangled-States.webp
ORGANIZER;CN="Bureau of General Services%E2%80%94Queer Division":MAILTO:contact@bgsqd.com
END:VEVENT
END:VCALENDAR