BEGIN:VCALENDAR
VERSION:2.0
PRODID:-//BGSQD - ECPv6.15.20//NONSGML v1.0//EN
CALSCALE:GREGORIAN
METHOD:PUBLISH
X-ORIGINAL-URL:https://www.bgsqd.com
X-WR-CALDESC:Events for BGSQD
REFRESH-INTERVAL;VALUE=DURATION:PT1H
X-Robots-Tag:noindex
X-PUBLISHED-TTL:PT1H
BEGIN:VTIMEZONE
TZID:America/New_York
BEGIN:DAYLIGHT
TZOFFSETFROM:-0500
TZOFFSETTO:-0400
TZNAME:EDT
DTSTART:20240310T070000
END:DAYLIGHT
BEGIN:STANDARD
TZOFFSETFROM:-0400
TZOFFSETTO:-0500
TZNAME:EST
DTSTART:20241103T060000
END:STANDARD
BEGIN:DAYLIGHT
TZOFFSETFROM:-0500
TZOFFSETTO:-0400
TZNAME:EDT
DTSTART:20250309T070000
END:DAYLIGHT
BEGIN:STANDARD
TZOFFSETFROM:-0400
TZOFFSETTO:-0500
TZNAME:EST
DTSTART:20251102T060000
END:STANDARD
BEGIN:DAYLIGHT
TZOFFSETFROM:-0500
TZOFFSETTO:-0400
TZNAME:EDT
DTSTART:20260308T070000
END:DAYLIGHT
BEGIN:STANDARD
TZOFFSETFROM:-0400
TZOFFSETTO:-0500
TZNAME:EST
DTSTART:20261101T060000
END:STANDARD
END:VTIMEZONE
BEGIN:VEVENT
DTSTART;TZID=America/New_York:20250529T190000
DTEND;TZID=America/New_York:20250529T203000
DTSTAMP:20260421T082602
CREATED:20250404T161702Z
LAST-MODIFIED:20250404T165539Z
UID:15382-1748545200-1748550600@www.bgsqd.com
SUMMARY:Queer Moderns: Max Ewing's Jazz Age New York (in person & live-streaming)
DESCRIPTION:In Queer Moderns\, Alice T. Friedman tells the fascinating story of the queer avant-garde of the 1920s and ’30s in New York\, Paris\, and Venice\, as seen through the eyes of Max Ewing (1903–1934)\, a young musician\, photographer\, and man-about-town who\, although virtually unknown today\, moved in extraordinary circles. In his photographs and letters\, we meet the rising stars of modern art\, music\, dance\, and literature and enter a world of interracial friendship\, “queer space\,” and experimentation that shone brightly before being swept away by the Depression. It is a remarkable story that reveals that the history of modernism is more queer and more Black than previously recognized. \n  \nAuthor Alice T. Friedman will be joined in conversation by Vanderbilt University Professor Kevin D. Murphy. \n  \nTo reserve a copy of Queer Moderns: Max Ewing’s Jazz Age New York (Princeton University Press\, May 27\, 2025\, hardcover\, $49.95) please write to us at contact@bgsqd.com with “please reserve Queer Moderns for May 29 event” in the subject line. \nThank you for supporting the Bureau by purchasing books from us! \n\n\n  \nThis event will take place in person at the Bureau of General Services—Queer Division\, on the second floor (room 210) of The LGBT Community Center\, 208 W. 13th St.\, NYC\, 10011. \n\n\n\n\nRegistration is not required. Seating is first come\, first served. \n\nAlso live-streaming on the Bureau’s YouTube channel: \nyoutube.com/@bgsqd \nThe Bureau will solicit donations at the beginning of the event—we especially encourage donations from those who do not plan to purchase any books. \nAll are welcome to attend\, with or without a donation. \n\nWe will pass a bag for donations at the start of the event\, but we can also take credit card donations at the register or on Venmo @BGSQD \n  \n\nAlice T. Friedman is an architectural historian who has written numerous articles and books about gender\, sexuality\, and queer space\, including Women and the Making of the Modern House (1998)\, American Glamour and the Evolution of Modern Architecture (2010)\, and Queer Moderns: Max Ewing’s Jazz Age New York (2025). In 2023\, she retired from teaching at Wellesley College\, where she was the Grace Slack McNeil Professor of Art and a founding director of the Architecture Program. Friedman’s current project is a book of essays entitled Poker Faces which examines queer domesticities and modern designs for non-conforming households. \n  \nKevin Murphy is Andrew W. Mellon Chair in the Humanities\, and Professor and Chair in the Dept. of History of Art and Architecture at Vanderbilt University. He was previously Executive Officer of the Ph.D\, Program in Art History at the CUNY Graduate Center. Prof. Murphy has published on queer artists and queer space in the Art Bulletin and elsewhere.
URL:https://www.bgsqd.com/event/queer-moderns/
LOCATION:Bureau of General Services–Queer Division\, 208 West 13th Street\, Room 210\, New York\, NY\, 10011\, United States
ATTACH;FMTTYPE=image/jpeg:https://www.bgsqd.com/wp-content/uploads/2025/04/May-29-Alice-Friedman-Queer-Moderns-banner-scaled.jpg
ORGANIZER;CN="Bureau of General Services%E2%80%94Queer Division":MAILTO:contact@bgsqd.com
END:VEVENT
END:VCALENDAR