BEGIN:VCALENDAR
VERSION:2.0
PRODID:-//BGSQD - ECPv6.15.20//NONSGML v1.0//EN
CALSCALE:GREGORIAN
METHOD:PUBLISH
X-ORIGINAL-URL:https://www.bgsqd.com
X-WR-CALDESC:Events for BGSQD
REFRESH-INTERVAL;VALUE=DURATION:PT1H
X-Robots-Tag:noindex
X-PUBLISHED-TTL:PT1H
BEGIN:VTIMEZONE
TZID:America/New_York
BEGIN:DAYLIGHT
TZOFFSETFROM:-0500
TZOFFSETTO:-0400
TZNAME:EDT
DTSTART:20240310T070000
END:DAYLIGHT
BEGIN:STANDARD
TZOFFSETFROM:-0400
TZOFFSETTO:-0500
TZNAME:EST
DTSTART:20241103T060000
END:STANDARD
BEGIN:DAYLIGHT
TZOFFSETFROM:-0500
TZOFFSETTO:-0400
TZNAME:EDT
DTSTART:20250309T070000
END:DAYLIGHT
BEGIN:STANDARD
TZOFFSETFROM:-0400
TZOFFSETTO:-0500
TZNAME:EST
DTSTART:20251102T060000
END:STANDARD
BEGIN:DAYLIGHT
TZOFFSETFROM:-0500
TZOFFSETTO:-0400
TZNAME:EDT
DTSTART:20260308T070000
END:DAYLIGHT
BEGIN:STANDARD
TZOFFSETFROM:-0400
TZOFFSETTO:-0500
TZNAME:EST
DTSTART:20261101T060000
END:STANDARD
END:VTIMEZONE
BEGIN:VEVENT
DTSTART;TZID=America/New_York:20250523T190000
DTEND;TZID=America/New_York:20250523T200000
DTSTAMP:20260419T113047
CREATED:20250410T174928Z
LAST-MODIFIED:20250428T185658Z
UID:15412-1748026800-1748030400@www.bgsqd.com
SUMMARY:Book Release: Marcos Gonsalez presents In Theory\, Darling (in person only)
DESCRIPTION:Join us for the launch of In Theory\, Darling: Searching for José Esteban Muñoz and the Queer Imagination by Marcos Gonsalez. Combining memoir and cultural criticism\, Gonsalez brings us along with him as he searches for Muñoz’s legacy in the streets of New York and situates themself in the lineage of the queer elders who have come before him. In Theory\, Darling shows us what made Muñoz such a significant figure for so many and serves as a reminder of just how life-giving theory can be. \nMarcos Gonsalez will be joined in conversation by scientist and writer Joe Osmundson. \n  \nTo reserve a copy of In Theory\, Darling (Beacon Press\, May 20\, 2025\, hardcover\, $26.95)\, please write to us at contact@bgsqd.com with “please reserve In Theory\, Darling for May 23rd event” in the subject line. \nThank you for supporting the Bureau by purchasing books from us! \n  \nThis event will take place in person at the Bureau of General Services—Queer Division\, on the second floor (room 210) of The LGBT Community Center\, 208 W. 13th St.\, NYC\, 10011. \n\n\n\n\nRegistration is not required. Seating is first come\, first served. \n\n  \nThe Bureau will solicit donations at the beginning of the event—we especially encourage donations from those who do not plan to purchase any books. \nAll are welcome to attend\, with or without a donation. \n\nWe will pass a bag for donations at the start of the event\, but we can also take credit card donations at the register or on Venmo @BGSQD \n\n\n  \nMarcos Gonsalez is an author\, an essayist\, a scholar\, and assistant professor of English at Adelphi University. The author of Pedro’s Theory: Reimagining the Promised Land (2021)\, his research on queer and trans Latinx aesthetics and cultural production has been supported by the Ford Foundation and Mellon Foundation. His essays\, articles\, and reviews have appeared or are forthcoming in Literary Hub\, Transgender Studies Quarterly\, Inside Higher Education\, Ploughshares\, Catapult\, Los Angeles Review of Books\, The New Inquiry\, and elsewhere. \n  \nJoseph Osmundson is a scientist and writer. His latest book\, VIROLOGY\, was a finalist for the Lambda Literary Award and Book Critics Circle Award in Nonfiction\, and was called “dazzling” by the New York Times.
URL:https://www.bgsqd.com/event/in-theory-darling/
LOCATION:Bureau of General Services–Queer Division\, 208 West 13th Street\, Room 210\, New York\, NY\, 10011\, United States
ATTACH;FMTTYPE=image/jpeg:https://www.bgsqd.com/wp-content/uploads/2025/04/May-23-In-Theory-Darling-banner-scaled.jpg
ORGANIZER;CN="Bureau of General Services%E2%80%94Queer Division":MAILTO:contact@bgsqd.com
END:VEVENT
END:VCALENDAR