BEGIN:VCALENDAR
VERSION:2.0
PRODID:-//BGSQD - ECPv6.15.20//NONSGML v1.0//EN
CALSCALE:GREGORIAN
METHOD:PUBLISH
X-ORIGINAL-URL:https://www.bgsqd.com
X-WR-CALDESC:Events for BGSQD
REFRESH-INTERVAL;VALUE=DURATION:PT1H
X-Robots-Tag:noindex
X-PUBLISHED-TTL:PT1H
BEGIN:VTIMEZONE
TZID:America/New_York
BEGIN:DAYLIGHT
TZOFFSETFROM:-0500
TZOFFSETTO:-0400
TZNAME:EDT
DTSTART:20240310T070000
END:DAYLIGHT
BEGIN:STANDARD
TZOFFSETFROM:-0400
TZOFFSETTO:-0500
TZNAME:EST
DTSTART:20241103T060000
END:STANDARD
BEGIN:DAYLIGHT
TZOFFSETFROM:-0500
TZOFFSETTO:-0400
TZNAME:EDT
DTSTART:20250309T070000
END:DAYLIGHT
BEGIN:STANDARD
TZOFFSETFROM:-0400
TZOFFSETTO:-0500
TZNAME:EST
DTSTART:20251102T060000
END:STANDARD
BEGIN:DAYLIGHT
TZOFFSETFROM:-0500
TZOFFSETTO:-0400
TZNAME:EDT
DTSTART:20260308T070000
END:DAYLIGHT
BEGIN:STANDARD
TZOFFSETFROM:-0400
TZOFFSETTO:-0500
TZNAME:EST
DTSTART:20261101T060000
END:STANDARD
END:VTIMEZONE
BEGIN:VEVENT
DTSTART;TZID=America/New_York:20250508T190000
DTEND;TZID=America/New_York:20250508T204500
DTSTAMP:20260419T112947
CREATED:20250421T180510Z
LAST-MODIFIED:20250508T144655Z
UID:15445-1746730800-1746737100@www.bgsqd.com
SUMMARY:Book Reading: Exiting the Bluegrass Turnpike by Benjamin Rue Silliman (in person & live-streaming)
DESCRIPTION:Benjamin Rue Silliman reads from his debut novel Exiting the Bluegrass Turnpike\, a story about a kid being outed in high school in Kentucky\, and the kindness and love from an unexpected friend. He will be joined in conversation by Maria Pirrone. \n  \n“Exiting the Bluegrass Turnpike is a fierce and tender page-turner about a young man’s journey from darkness towards authenticity. Silliman’s heartfelt and perceptive story is needed now more than ever—an urgent reminder of how compassion and kindness can save lives.”                         – Jonathan Corcoran – Author of No Son of Mine: A Memoir (April 2024)\n\n  \n\nTo reserve a copy of Exiting the Bluegrass Turnpike (Rabbit House Press\, March 4\, 2025\, paperback\, $17.95)  please write to us at contact@bgsqd.com with “please reserve Exiting the Bluegrass Turnpike for May 8 event” in the subject line. \nThank you for supporting the Bureau by purchasing books from us! \n  \nThis event will take place in person at the Bureau of General Services—Queer Division\, on the second floor (room 210) of The LGBT Community Center\, 208 W. 13th St.\, NYC\, 10011. \n\n\nRegistration is not required. Seating is first come\, first served. \n\nAlso live-streaming on the Bureau’s YouTube channel: \nyoutube.com/@bgsqd \nThe Bureau will solicit donations at the beginning of the event—we especially encourage donations from those who do not plan to purchase any books. \nAll are welcome to attend\, with or without a donation. \n\nWe will pass a bag for donations at the start of the event\, but we can also take credit card donations at the register or on Venmo @BGSQD \n\n\n\n  \nBenjamin Rue Silliman is the author of Exiting the Bluegrass Turnpike. Born and raised in Lexington\, Kentucky\, and is a graduate of Ole Miss\, NYU\, Columbia\, and North Carolina-Chapel Hill. Benjamin is an accounting professor (and department chair) at St. John’s University. He is married to his husband Frank. This is his debut novel. \n  \nMaria M. Pirrone\, Esq.\, CPA\, is an associate professor of accountancy at St. John’s University in the Tobin College of Business. Maria has published numerous articles in the field of taxation in theJournal of AccountancyandCPA Journal; she and Benjamin are currently collaborating on an article focusing on the fifty years of the Earned Income Tax Credit. Maria is a triple alumna of St. John’s\, including a J.D.\, and holds a graduate degree in tax law from New York Law School.
URL:https://www.bgsqd.com/event/exiting-the-bluegrass-turnpike/
LOCATION:Bureau of General Services–Queer Division\, 208 West 13th Street\, Room 210\, New York\, NY\, 10011\, United States
ATTACH;FMTTYPE=image/jpeg:https://www.bgsqd.com/wp-content/uploads/2025/04/May-8-Benjamin-Silliman-banner-scaled.jpg
ORGANIZER;CN="Bureau of General Services%E2%80%94Queer Division":MAILTO:contact@bgsqd.com
END:VEVENT
END:VCALENDAR