BEGIN:VCALENDAR
VERSION:2.0
PRODID:-//BGSQD - ECPv6.15.20//NONSGML v1.0//EN
CALSCALE:GREGORIAN
METHOD:PUBLISH
X-ORIGINAL-URL:https://www.bgsqd.com
X-WR-CALDESC:Events for BGSQD
REFRESH-INTERVAL;VALUE=DURATION:PT1H
X-Robots-Tag:noindex
X-PUBLISHED-TTL:PT1H
BEGIN:VTIMEZONE
TZID:America/New_York
BEGIN:DAYLIGHT
TZOFFSETFROM:-0500
TZOFFSETTO:-0400
TZNAME:EDT
DTSTART:20240310T070000
END:DAYLIGHT
BEGIN:STANDARD
TZOFFSETFROM:-0400
TZOFFSETTO:-0500
TZNAME:EST
DTSTART:20241103T060000
END:STANDARD
BEGIN:DAYLIGHT
TZOFFSETFROM:-0500
TZOFFSETTO:-0400
TZNAME:EDT
DTSTART:20250309T070000
END:DAYLIGHT
BEGIN:STANDARD
TZOFFSETFROM:-0400
TZOFFSETTO:-0500
TZNAME:EST
DTSTART:20251102T060000
END:STANDARD
BEGIN:DAYLIGHT
TZOFFSETFROM:-0500
TZOFFSETTO:-0400
TZNAME:EDT
DTSTART:20260308T070000
END:DAYLIGHT
BEGIN:STANDARD
TZOFFSETFROM:-0400
TZOFFSETTO:-0500
TZNAME:EST
DTSTART:20261101T060000
END:STANDARD
END:VTIMEZONE
BEGIN:VEVENT
DTSTART;TZID=America/New_York:20250228T190000
DTEND;TZID=America/New_York:20250228T210000
DTSTAMP:20260421T082557
CREATED:20250209T194221Z
LAST-MODIFIED:20250227T201745Z
UID:15201-1740769200-1740776400@www.bgsqd.com
SUMMARY:Shawn Stewart Ruff in Conversation with Jacqueline Woodson (in person & live-streaming)
DESCRIPTION:Lambda-Award winning novelist Shawn Stewart Ruff will read from his latest fiction\, Days Running – an ‘intimate and compelling narrative’ situated in the ‘intersection of race\, queerness and trauma’ (Steven Reigns) – and engage in conversation with acclaimed author Jacqueline Woodson about queer\, Black storytelling\, and more. \nAbout Days Running : \nIt’s a snowy winter in 1970s Cincinnati. Cliffy Douglas – gay\, Black and brainy – is trying to make it through his senior year\, dodging his volatile father\, half-raising his baby siblings\, and running around with his secret boyfriend\, whose dizzying physical attraction runs as hot as his temper. \nWhen a single\, deliberate act of violence lands Cliffy in the hospital\, his world is flung into chaos and his carefully planned-for future is threatened. In DAYS RUNNING (DOPAMINE Press; On-sale 2/25/25)\, award-winning novelist Shawn Stewart Ruff returns to literary territory he has claimed and perfected\, bringing us into the jagged world of one queer teenager fighting to outrun the danger at his heels and seize his life as his own \nPraise for DAYS RUNNING: \n“With an intimate and compelling narrative\, DAYS RUNNING delves into the intersection of race\, queerness\, and trauma.”\n– Steven Reigns\, A Quilt for David \n“I loved this beautiful and haunting novel\, about escape\, survival\, and justice\, in a novel both timely and timeless.”\n– Carley Moore\, Panpocalypse \n“A passionate\, bold\, and gripping story. Ruff fearlessly topples the monoliths of masculinity.”\n– James Hannaham\, Didn’t Nobody Give a Shit What Happened to Carlotta \n  \nTo reserve a copy of Days Running (Dopamine/Semiotext(e)\, February 25\, 2025\, paperback\, $17.95) please write to us at contact@bgsqd.com with “please reserve Days Running for Feb. 28 event” in the subject line. \nThank you for supporting the Bureau by purchasing books from us! \n\n\n  \nThis event will take place in person at the Bureau of General Services—Queer Division\, on the second floor (room 210) of The LGBT Community Center\, 208 W. 13th St.\, NYC\, 10011. \n\n\n\n\nRegistration is not required. Seating is first come\, first served. \n\nAlso live-streaming on the Bureau’s YouTube channel: \nyoutube.com/@bgsqd \nThe Bureau will solicit donations at the beginning of the event—we especially encourage donations from those who do not plan to purchase any books. \nAll are welcome to attend\, with or without a donation. \n\nWe will pass a bag for donations at the start of the event\, but we can also take credit card donations at the register or on Venmo @BGSQD \n  \nShawn Stewart Ruff is the author of three novels\, including Finlater\, 2008 winner of a Lambda Literary Award for Debut Fiction and a finalist for the Edmund White Debut Fiction Award. He is also the editor of the landmark Go the Way Your Blood Beats: An Anthology of Lesbian and Gay Fiction by African American Writers (1996). \nJacqueline Woodson is an American writer of books for adults\, children\, and adolescents. She is best known for her National Book Award-Winning memoir Brown Girl Dreaming\, and her Newbery Honor-winning titles After Tupac and D Foster\, Feathers\, and Show Way. Her picture books The Day You Begin and The Year We Learned to Fly were NY Times Bestsellers. After serving as the Young People’s Poet Laureate from 2015 to 2017\, she was named the National Ambassador for Young People’s Literature by the Library of Congress for 2018–19. She was awarded the Hans Christian Andersen Medal in 2020. Later that same year\, she was named a MacArthur Fellow.
URL:https://www.bgsqd.com/event/shawn-stewart-ruff-in-conversation-with-jacqueline-woodson/
LOCATION:Bureau of General Services–Queer Division\, 208 West 13th Street\, Room 210\, New York\, NY\, 10011\, United States
ATTACH;FMTTYPE=image/jpeg:https://www.bgsqd.com/wp-content/uploads/2025/02/February-28-Shawn-Stewart-Ruff-banner-scaled.jpg
ORGANIZER;CN="Bureau of General Services%E2%80%94Queer Division":MAILTO:contact@bgsqd.com
END:VEVENT
END:VCALENDAR