BEGIN:VCALENDAR
VERSION:2.0
PRODID:-//BGSQD - ECPv6.15.20//NONSGML v1.0//EN
CALSCALE:GREGORIAN
METHOD:PUBLISH
X-WR-CALNAME:BGSQD
X-ORIGINAL-URL:https://www.bgsqd.com
X-WR-CALDESC:Events for BGSQD
REFRESH-INTERVAL;VALUE=DURATION:PT1H
X-Robots-Tag:noindex
X-PUBLISHED-TTL:PT1H
BEGIN:VTIMEZONE
TZID:America/New_York
BEGIN:DAYLIGHT
TZOFFSETFROM:-0500
TZOFFSETTO:-0400
TZNAME:EDT
DTSTART:20240310T070000
END:DAYLIGHT
BEGIN:STANDARD
TZOFFSETFROM:-0400
TZOFFSETTO:-0500
TZNAME:EST
DTSTART:20241103T060000
END:STANDARD
BEGIN:DAYLIGHT
TZOFFSETFROM:-0500
TZOFFSETTO:-0400
TZNAME:EDT
DTSTART:20250309T070000
END:DAYLIGHT
BEGIN:STANDARD
TZOFFSETFROM:-0400
TZOFFSETTO:-0500
TZNAME:EST
DTSTART:20251102T060000
END:STANDARD
BEGIN:DAYLIGHT
TZOFFSETFROM:-0500
TZOFFSETTO:-0400
TZNAME:EDT
DTSTART:20260308T070000
END:DAYLIGHT
BEGIN:STANDARD
TZOFFSETFROM:-0400
TZOFFSETTO:-0500
TZNAME:EST
DTSTART:20261101T060000
END:STANDARD
END:VTIMEZONE
BEGIN:VEVENT
DTSTART;TZID=America/New_York:20250125T150000
DTEND;TZID=America/New_York:20250125T160000
DTSTAMP:20260420T200104
CREATED:20250109T183620Z
LAST-MODIFIED:20250109T184951Z
UID:15085-1737817200-1737820800@www.bgsqd.com
SUMMARY:The Best Bi Erotica of the Year: In-person book launch & reading (in person and live-streaming)
DESCRIPTION:Organized and edited by erotic author Christian Pan\, The Best Bi Erotica of the Year\, Volume One features exclusive and sensual stories by fifteen different authors from across the United States and Canada\, broadening our understanding of bisexuality and the possibilities within the erotic imagination. Join four of the anthology’s contributing authors as they read excerpts from their stories\, followed by a signing. Copies of The Best Bi Erotica of the Year and other titles by the authors will be available for purchase at the Bureau. \n\n\nThis event will take place in person at the Bureau of General Services—Queer Division\, on the second floor (room 210) of The LGBT Community Center\, 208 W. 13th St.\, NYC\, 10011. \n\n\n\n\nRegistration is not required. Seating is first come\, first served. \n\nAlso live-streaming on the Bureau’s YouTube channel: \nyoutube.com/@bgsqd \nThe Bureau will solicit donations at the beginning of the event—we especially encourage donations from those who do not plan to purchase any books. \nAll are welcome to attend\, with or without a donation. \n\nWe will pass a bag for donations at the start of the event\, but we can also take credit card donations at the register or on Venmo @BGSQD \n  \n\n\nMaeve Blackhead is a poet\, painter\, and researcher. She lives in New York City. \nEskay Kabba finds the complexity of human nature and creates romantic and erotic love stories. Eskay pens erotic romance novels that celebrate the LGBTQ community\, people of color\, and interracial relationships. Find her at\nwww.eskaykabba.com \nCandice Leigh is a sex and intimacy coach\, somatic sex educator\, Erotic Blueprint coach\, Somatic Experiencing practitioner and writer in NYC. She uses experiential\, trauma informed modalities bridging neo-tantra\, sexuality coaching\, breathwork\, and talk therapy to encourage clients to courageously embrace their vulnerability\, body\, mind\, heart\, soul and eros.\nhttps://www.candiceleighcoaching.com/ \nChristian Pan writes erotic fiction that frequently explores bisexual identity and experience. He is the editor & organizer of The Best Bi Erotica of the Year\, Volume One\, and his books Reunion and Dirty Words are all available at the Bureau. For more information\, please go to linktr.ee/christianpan
URL:https://www.bgsqd.com/event/the-best-bi-erotica-of-the-year/
LOCATION:Bureau of General Services–Queer Division\, 208 West 13th Street\, Room 210\, New York\, NY\, 10011\, United States
ATTACH;FMTTYPE=image/jpeg:https://www.bgsqd.com/wp-content/uploads/2025/01/January-25-Best-Bi-Erotica-banner-scaled.jpg
ORGANIZER;CN="Bureau of General Services%E2%80%94Queer Division":MAILTO:contact@bgsqd.com
END:VEVENT
END:VCALENDAR