BEGIN:VCALENDAR
VERSION:2.0
PRODID:-//BGSQD - ECPv6.15.20//NONSGML v1.0//EN
CALSCALE:GREGORIAN
METHOD:PUBLISH
X-ORIGINAL-URL:https://www.bgsqd.com
X-WR-CALDESC:Events for BGSQD
REFRESH-INTERVAL;VALUE=DURATION:PT1H
X-Robots-Tag:noindex
X-PUBLISHED-TTL:PT1H
BEGIN:VTIMEZONE
TZID:America/New_York
BEGIN:DAYLIGHT
TZOFFSETFROM:-0500
TZOFFSETTO:-0400
TZNAME:EDT
DTSTART:20240310T070000
END:DAYLIGHT
BEGIN:STANDARD
TZOFFSETFROM:-0400
TZOFFSETTO:-0500
TZNAME:EST
DTSTART:20241103T060000
END:STANDARD
BEGIN:DAYLIGHT
TZOFFSETFROM:-0500
TZOFFSETTO:-0400
TZNAME:EDT
DTSTART:20250309T070000
END:DAYLIGHT
BEGIN:STANDARD
TZOFFSETFROM:-0400
TZOFFSETTO:-0500
TZNAME:EST
DTSTART:20251102T060000
END:STANDARD
BEGIN:DAYLIGHT
TZOFFSETFROM:-0500
TZOFFSETTO:-0400
TZNAME:EDT
DTSTART:20260308T070000
END:DAYLIGHT
BEGIN:STANDARD
TZOFFSETFROM:-0400
TZOFFSETTO:-0500
TZNAME:EST
DTSTART:20261101T060000
END:STANDARD
END:VTIMEZONE
BEGIN:VEVENT
DTSTART;TZID=America/New_York:20250118T190000
DTEND;TZID=America/New_York:20250118T203000
DTSTAMP:20260424T151440
CREATED:20250108T222609Z
LAST-MODIFIED:20250111T190152Z
UID:15075-1737226800-1737232200@www.bgsqd.com
SUMMARY:TELL: Having Fun! (in person & live-streaming)
DESCRIPTION:TELL is a monthly queer storytelling show hosted and curated by Drae Campbell. It is the longest running event at the Bureau! 10 years and going. Each month there is a different theme and a different line up of queer artists who tell true stories from their lives on a theme. \nThe theme for January is Having Fun!\, featuring storytellers Kelli Dunham\, Frankie Vaughan\, and Nonye Brown-West. \n\nThis event will take place in person at the Bureau of General Services—Queer Division\, on the second floor (room 210) of The LGBT Community Center\, 208 W. 13th St.\, NYC\, 10011. \nRegistration is not required. Seating is first come\, first served. \nAlso live-streaming on the Bureau’s YouTube channel: \nyoutube.com/@bgsqd \nSuggested donation to benefit the storytellers and the Bureau: $10. \nAll are welcome to attend\, with or without a donation. \nWe will pass a bag for donations at the start of the event\, but we can also take credit card donations at the register or on Venmo @BGSQD \n  \nDrae Campbellis the host and curator of TELL\, an award winning podcast that can be found anywhere you listen to podcasts. \nTheater: The Nosebleed (Lincoln Center Theater\, Woolly Mammoth Theater & National Tour\, Lortel Nominated)\, Jesus Hopped The ‘A’ Train (Wellfleet Harbor Actors Theater)\, Only You Can Prevent Wildfires (Teatro Circulo)\, My Old Man (Dixon Place)\, Storm Still (DirectorFest\, Drama League)\, La Cage Aux Folles (Barrington Stage Company).         \nFilm and TV:Senior Escort Service\, Blunderpuss\, It’s Very Common\, TOW. \nTV: Bull\, New Amsterdam. \nBFA\, The University Of The Arts   \nIg @draebiz and @tellqueerz   \n  \nKelli Dunham is the nonbinary ex-nun storytelling nurse author trauma-informed comedian so ubiquitous in modern Brooklyn and has appeared on Showtime\, BBC4’S Sunday Religion in Culture Program\, the Discovery Channel\, the Moth Mainstage and the occasional livestock auction. Kelli is the author of seven hilarious books about non-hilarious subjects and speaks frequently (also hilariously) to people with impossible jobs about using humor to combat vicarious trauma\, deal with stress\, and resolve conflict. But Kelli recently lost some business because of the upcoming political situation\, so invite Kelli to speak at your conference! \n\n\nPGN named Kelli one of “48 LGBT Creative People Of Influence” in 2024 and former NYC mayor Bill DeBlasio once called Kelli “a show off.” To Kelli’s face. \nKelli Dunham\, RN BSN\n  \nFrankie Vaughan is based in New York\, and making new work between here and Berlin. Frankie works with video\, sharing his familiar stories — including 3am ER visits\, odd jobs he’s worked\, and awkward sexual encounters. Using video as a visual language\, he draws on his own experiences — familiar\, platonic\, romantic\, and imaginary ones — formulating them to a concise topical material.  \nFrankie is currently earning his MFA in Visual Art and MA in Art History at Purchase College.\n \nNonye Brown-West is a New York-based Nigerian-American comedian and writer. She has been featured in the Boston Globe’s Rise column as a Comic to Watch\, as well as in NPR\, PBS\, Amazon Prime\, Sway In The Morning\, and the New York Comedy Festival.  \n 
URL:https://www.bgsqd.com/event/tell-having-fun/
LOCATION:Bureau of General Services–Queer Division\, 208 West 13th Street\, Room 210\, New York\, NY\, 10011\, United States
ATTACH;FMTTYPE=image/jpeg:https://www.bgsqd.com/wp-content/uploads/2025/01/January-18-TELL-Having-Fun-banner-scaled.jpg
ORGANIZER;CN="Bureau of General Services%E2%80%94Queer Division":MAILTO:contact@bgsqd.com
END:VEVENT
END:VCALENDAR