BEGIN:VCALENDAR
VERSION:2.0
PRODID:-//BGSQD - ECPv6.15.20//NONSGML v1.0//EN
CALSCALE:GREGORIAN
METHOD:PUBLISH
X-WR-CALNAME:BGSQD
X-ORIGINAL-URL:https://www.bgsqd.com
X-WR-CALDESC:Events for BGSQD
REFRESH-INTERVAL;VALUE=DURATION:PT1H
X-Robots-Tag:noindex
X-PUBLISHED-TTL:PT1H
BEGIN:VTIMEZONE
TZID:America/New_York
BEGIN:DAYLIGHT
TZOFFSETFROM:-0500
TZOFFSETTO:-0400
TZNAME:EDT
DTSTART:20240310T070000
END:DAYLIGHT
BEGIN:STANDARD
TZOFFSETFROM:-0400
TZOFFSETTO:-0500
TZNAME:EST
DTSTART:20241103T060000
END:STANDARD
BEGIN:DAYLIGHT
TZOFFSETFROM:-0500
TZOFFSETTO:-0400
TZNAME:EDT
DTSTART:20250309T070000
END:DAYLIGHT
BEGIN:STANDARD
TZOFFSETFROM:-0400
TZOFFSETTO:-0500
TZNAME:EST
DTSTART:20251102T060000
END:STANDARD
BEGIN:DAYLIGHT
TZOFFSETFROM:-0500
TZOFFSETTO:-0400
TZNAME:EDT
DTSTART:20260308T070000
END:DAYLIGHT
BEGIN:STANDARD
TZOFFSETFROM:-0400
TZOFFSETTO:-0500
TZNAME:EST
DTSTART:20261101T060000
END:STANDARD
END:VTIMEZONE
BEGIN:VEVENT
DTSTART;TZID=America/New_York:20250115T190000
DTEND;TZID=America/New_York:20250115T203000
DTSTAMP:20260420T170701
CREATED:20250106T183734Z
LAST-MODIFIED:20250111T175059Z
UID:15066-1736967600-1736973000@www.bgsqd.com
SUMMARY:RESISTING PROJECT 2025 PODCAST EPISODE 8: RESISTANCE 2.0: THE EMERGING PLAYBOOK TO FIGHTING PROJECT 2025 & T***P 2.0 (in person & live-streaming)
DESCRIPTION:Resistance 2.0. What is it? Who is mobilizing? Who is on the frontlines? What’s being done to stop or put a brake on T***p 2.0 and the “Day One” weaponization of Project 2025? \nJoin us on January 15th at 7-8:30 pm for the official 2025 launch of our rebranded Resisting Project 2025 podcast (formerly Revisioning Democracy). We’re back for year two at the Bureau of General Services—Queer Division in NYC and streaming online. We’ve restructured our podcast as an all-team effort and convo with special regular features and special guests — focused on how we build and support community and broad resistance to Project 2025 and T***p 2.0 for the road ahead. \nCampaign team: Anne-christine d’Adesky\, Jay W. Walker\, Sally O’Driscoll\, Juno Rosenhaus\, Saba Bando\, Javier Morales. \nOur relaunch takes places five days before the inauguration and three days before the planned People’s March in Washington\, DC\, on January 18th. We’ll be providing an overview and spotlight updates about what we’ve learned about the current scope and forms of Resistance 2.0 to the planned “Day One” weaponization of Project 2025 – which defines T***p 2.0. We’ll also talk about what our campaign plans for 2025. Tune in for a critical public conversation on resisting authoritarianism and defending our democracy. \n\n\nThis event will take place in person at the Bureau of General Services—Queer Division\, on the second floor (room 210) of The LGBT Community Center\, 208 W. 13th St.\, NYC\, 10011. \n\n\n\n\nRegistration is not required. Seating is first come\, first served. \n\nAlso live-streaming on the Bureau’s YouTube channel: \nyoutube.com/@bgsqd \n\nResisting Project 2025 Core Team \nAnne-christine d’Adesky\nFOUNDER\nAn award-winning independent journalist\, author\, feminist\, longtime human rights\, LGBTQIA+\, gender equality\, HIV and immigration activist. ACT UP member; co-founder of the Lesbian Avengers\, PotoFanm+Fi in Haiti.\n[Photo: Juno Rosenhaus] \nJay W. Walker\nSOCIAL MEDIA MANAGER\nA queer Black leader\, community organizer and longtime NYC activist on LGBTQIA+\, HIV\, and racial justice issues. Founding member\, Rise and Resist; President\, Gays Against Guns; Co-founder\, NYC Queer Liberation March.\n[Photo: Ryan McGinley Studios] \nJuno Rosenhaus\nWEBSITE MANAGER\nActivist\, artist\, feminist\, web designer. All things intergenerational\, intersectional and Dyke. Founder of the Dyke+ ArtHaus in Philadelphia.\n[Photo: Juno Rosenhaus] \nSally O’Driscoll\nEDITORIAL TEAM\nWriter\, editor\, and researcher. English literature PhD scholar\, writer\, feminist\, proud lesbian\, queer activist on feminism\, sexual rights\, reproductive health\, transgender and other LGBTQ+ issues.\n[Photo: Bob Hranichny] \nSaba Bando\nVOLUNTEER COORDINATOR\nExecutive and personal coach committed to disability rights\, women’s rights\, social justice\, racial justice; first-generation immigrant\, proud mother of a wheelchair-user. She resides in the Chicago-area with her husband and son. \nJavier Morales\nLatino Mobilization\, Spanish translation.\nMorales coordinates LATINX+\, a US-based network of people of Latin descent living with HIV\, fighting criminalization and stigma. He lives in Milford\, PA\, where he is Artistic Director for Pike Opera\, with his husband\, Sean Strub\, and their dog Alfie.
URL:https://www.bgsqd.com/event/resisting-project-2025-episode-8/
LOCATION:Bureau of General Services–Queer Division\, 208 West 13th Street\, Room 210\, New York\, NY\, 10011\, United States
ATTACH;FMTTYPE=image/jpeg:https://www.bgsqd.com/wp-content/uploads/2025/01/January-15-Resisting-Project-2025-Episode-8-banner-rev1-scaled.jpg
ORGANIZER;CN="Bureau of General Services%E2%80%94Queer Division":MAILTO:contact@bgsqd.com
END:VEVENT
END:VCALENDAR