BEGIN:VCALENDAR
VERSION:2.0
PRODID:-//BGSQD - ECPv6.15.20//NONSGML v1.0//EN
CALSCALE:GREGORIAN
METHOD:PUBLISH
X-WR-CALNAME:BGSQD
X-ORIGINAL-URL:https://www.bgsqd.com
X-WR-CALDESC:Events for BGSQD
REFRESH-INTERVAL;VALUE=DURATION:PT1H
X-Robots-Tag:noindex
X-PUBLISHED-TTL:PT1H
BEGIN:VTIMEZONE
TZID:America/New_York
BEGIN:DAYLIGHT
TZOFFSETFROM:-0500
TZOFFSETTO:-0400
TZNAME:EDT
DTSTART:20240310T070000
END:DAYLIGHT
BEGIN:STANDARD
TZOFFSETFROM:-0400
TZOFFSETTO:-0500
TZNAME:EST
DTSTART:20241103T060000
END:STANDARD
BEGIN:DAYLIGHT
TZOFFSETFROM:-0500
TZOFFSETTO:-0400
TZNAME:EDT
DTSTART:20250309T070000
END:DAYLIGHT
BEGIN:STANDARD
TZOFFSETFROM:-0400
TZOFFSETTO:-0500
TZNAME:EST
DTSTART:20251102T060000
END:STANDARD
BEGIN:DAYLIGHT
TZOFFSETFROM:-0500
TZOFFSETTO:-0400
TZNAME:EDT
DTSTART:20260308T070000
END:DAYLIGHT
BEGIN:STANDARD
TZOFFSETFROM:-0400
TZOFFSETTO:-0500
TZNAME:EST
DTSTART:20261101T060000
END:STANDARD
END:VTIMEZONE
BEGIN:VEVENT
DTSTART;TZID=America/New_York:20250111T110000
DTEND;TZID=America/New_York:20250111T120000
DTSTAMP:20260420T200054
CREATED:20241230T210318Z
LAST-MODIFIED:20241230T210443Z
UID:15050-1736593200-1736596800@www.bgsqd.com
SUMMARY:lesbian book club
DESCRIPTION:We’ll be reading fiction and non-fiction — classic\, contemporary\, revealing and visionary. As a group we will decide what to read each month\, focusing on lesbian authors and/or related topics. Co-founded by lesbian book lovers Judi Komaki and Piper Olsen. \n\n\nFor our January 11th meeting\, we’ll read No Modernism without Lesbians by Diana Souhami (Head of Zeus\, 2021\, paperback\, $15.95). To reserve a copy\, please write to us at contact@bgsqd.comwith “please reserve a copy of No Modernism without Lesbians” in the subject line. Purchase the book before January 11th and receive 15% off ($13.56 instead of $15.95). \n\nAnd for our February 8th meeting\, we’ll read Courting Justice: Gay Men and Lesbians V. the Supreme Court\, by Deb Price and Joyce Murdoch (Basic Books\, 2002\, paperback\, $25.99). Unfortunately the Bureau is unable to offer a discount on this title because our distributor only offers this book at retail price\, rather than wholesale. So if you’d like to purchase the book from us\, please let us know as soon as possible and we’ll order a copy for you. Email us at contact@bgsqd.com with “please order a copy of Courting Justice for me” in the subject line. \n\nThank you for supporting the Bureau by purchasing books from us! \n\nThis event will take place in person at the Bureau of General Services—Queer Division\, on the second floor (room 210) of The LGBT Community Center\, 208 W. 13th St.\, NYC\, 10011. \nRegistration is not required. 
URL:https://www.bgsqd.com/event/lesbian-book-club-january-2025/
LOCATION:Bureau of General Services–Queer Division\, 208 West 13th Street\, Room 210\, New York\, NY\, 10011\, United States
ATTACH;FMTTYPE=image/png:https://www.bgsqd.com/wp-content/uploads/2024/12/january-11-lesbian-book-club-insta.png
ORGANIZER;CN="Bureau of General Services%E2%80%94Queer Division":MAILTO:contact@bgsqd.com
END:VEVENT
END:VCALENDAR