BEGIN:VCALENDAR
VERSION:2.0
PRODID:-//BGSQD - ECPv6.15.20//NONSGML v1.0//EN
CALSCALE:GREGORIAN
METHOD:PUBLISH
X-ORIGINAL-URL:https://www.bgsqd.com
X-WR-CALDESC:Events for BGSQD
REFRESH-INTERVAL;VALUE=DURATION:PT1H
X-Robots-Tag:noindex
X-PUBLISHED-TTL:PT1H
BEGIN:VTIMEZONE
TZID:America/New_York
BEGIN:DAYLIGHT
TZOFFSETFROM:-0500
TZOFFSETTO:-0400
TZNAME:EDT
DTSTART:20240310T070000
END:DAYLIGHT
BEGIN:STANDARD
TZOFFSETFROM:-0400
TZOFFSETTO:-0500
TZNAME:EST
DTSTART:20241103T060000
END:STANDARD
BEGIN:DAYLIGHT
TZOFFSETFROM:-0500
TZOFFSETTO:-0400
TZNAME:EDT
DTSTART:20250309T070000
END:DAYLIGHT
BEGIN:STANDARD
TZOFFSETFROM:-0400
TZOFFSETTO:-0500
TZNAME:EST
DTSTART:20251102T060000
END:STANDARD
BEGIN:DAYLIGHT
TZOFFSETFROM:-0500
TZOFFSETTO:-0400
TZNAME:EDT
DTSTART:20260308T070000
END:DAYLIGHT
BEGIN:STANDARD
TZOFFSETFROM:-0400
TZOFFSETTO:-0500
TZNAME:EST
DTSTART:20261101T060000
END:STANDARD
END:VTIMEZONE
BEGIN:VEVENT
DTSTART;TZID=America/New_York:20250110T193000
DTEND;TZID=America/New_York:20250110T210000
DTSTAMP:20260421T122928
CREATED:20241219T214254Z
LAST-MODIFIED:20241230T202526Z
UID:15031-1736537400-1736542800@www.bgsqd.com
SUMMARY:Manhattan Institute for Psychoanalysis Colloquium with Judith Rustin (co-sponsored by the Program in Trauma Studies)
DESCRIPTION:Judith Rustin Colloquium: “Beyond the Words: The Implicit Dimension of Psychoanalytic Treatment” \nThis presentation introduces some basic concepts from infant research and neuroscience.  Infant research describes how very early memories are formed and encoded thereby providing access to how they might show themselves from birth onwards. The concepts from neuroscience used in this presentation are simple versions for the non-scientist. They are used to explain some basic functions of how the brain processes information with specific emphasis on memory formation and the mind/body connection. I argue that humans are “mindbodybrains.” Whereas psychoanalysis has privileged “mind” in its theories\, this presentation offers additional knowledge and language to link it to “body” and “brains\,” and to provide a way to communicate these links to patients. This language expands the clinical repertoire. \nLearning Objectives \n\nBe able to describe the three components of the Triune Brain and the function of each\nBe able to describe the difference between explicit and implicit communication\nBe able to describe the kinds of memories(s) infants are able to encode and how they might be expressed in adulthood\nBe able to describe the two components of embodied communication\n\nThe Manhattan Institute is a NY State approved provider of continuing education hours for: LCSW\, LMSW\, LCAT\, LMHC and Licensed Psychologists. \nFor in-person attendance you will receive an E-ticket through Eventbrite. \nTICKETS: $50.00 \nplease RSVP here\nStudents at other Institutes can purchase tickets for $25.00\n(Proof of student status required) \nMIP candidates can attend for free. \nA Zoom link will be sent to everyone who signs up through Eventbrite for those who would like to join remotely. \nThis event will take place in person at the Bureau of General Services—Queer Division\, on the second floor (room 210) of The LGBT Community Center\, 208 W. 13th St.\, NYC\, 10011. \n  \nJudith Rustin\, LCSW\, is Faculty and Supervisor at The Institute for the Psychoanalytic Study of Subjectivity in New York City and a Consultant in the Trauma Certificate Program of Manhattan Institute for Psychoanalysis.  She has authored numerous papers and spoken nationally and internationally on the integration of Intersubjectivity Theory as defined by Robert Stolorow and Collaborators with Infant Research and Neuroscience. She is author of Infant Research and Neuroscience at Work in Psychotherapy: Expanding the Clinical Repertoire (2013) and co-author with B. Beebe\, S. Knoblauch and D. Sorter (2005) of Forms of Intersubjectivity in Infant Research and Adult Treatment. Judith is in Private Practice in New York City.
URL:https://www.bgsqd.com/event/mip_judith_rustin/
LOCATION:Bureau of General Services–Queer Division\, 208 West 13th Street\, Room 210\, New York\, NY\, 10011\, United States
ATTACH;FMTTYPE=image/jpeg:https://www.bgsqd.com/wp-content/uploads/2024/12/January-10-MIP-Judith-Rustin-banner-Rev-1-scaled.jpg
END:VEVENT
END:VCALENDAR