BEGIN:VCALENDAR
VERSION:2.0
PRODID:-//BGSQD - ECPv6.15.20//NONSGML v1.0//EN
CALSCALE:GREGORIAN
METHOD:PUBLISH
X-WR-CALNAME:BGSQD
X-ORIGINAL-URL:https://www.bgsqd.com
X-WR-CALDESC:Events for BGSQD
REFRESH-INTERVAL;VALUE=DURATION:PT1H
X-Robots-Tag:noindex
X-PUBLISHED-TTL:PT1H
BEGIN:VTIMEZONE
TZID:America/New_York
BEGIN:DAYLIGHT
TZOFFSETFROM:-0500
TZOFFSETTO:-0400
TZNAME:EDT
DTSTART:20230312T070000
END:DAYLIGHT
BEGIN:STANDARD
TZOFFSETFROM:-0400
TZOFFSETTO:-0500
TZNAME:EST
DTSTART:20231105T060000
END:STANDARD
BEGIN:DAYLIGHT
TZOFFSETFROM:-0500
TZOFFSETTO:-0400
TZNAME:EDT
DTSTART:20240310T070000
END:DAYLIGHT
BEGIN:STANDARD
TZOFFSETFROM:-0400
TZOFFSETTO:-0500
TZNAME:EST
DTSTART:20241103T060000
END:STANDARD
BEGIN:DAYLIGHT
TZOFFSETFROM:-0500
TZOFFSETTO:-0400
TZNAME:EDT
DTSTART:20250309T070000
END:DAYLIGHT
BEGIN:STANDARD
TZOFFSETFROM:-0400
TZOFFSETTO:-0500
TZNAME:EST
DTSTART:20251102T060000
END:STANDARD
END:VTIMEZONE
BEGIN:VEVENT
DTSTART;TZID=America/New_York:20241006T150000
DTEND;TZID=America/New_York:20241006T160000
DTSTAMP:20260421T095032
CREATED:20240930T205820Z
LAST-MODIFIED:20240930T211047Z
UID:14809-1728226800-1728230400@www.bgsqd.com
SUMMARY:Keith Haring Pop Up Book Release Party (in person only)
DESCRIPTION:Join us for the release of the Keith Haring Pop-Up Book\, featuring a special book talk and reception! \nSchedule of events: \n3:00 – 4:00 panel discussion at the Bureau of General Services—Queer Division (room 210 of The Center) \n4:00 – 4:30 book signing in the Keith Haring bathroom \n4:30 – 7:00 reception \nLocation: The LGBT Community Center\, 208 W 13th St\, New York\, NY 10011 \nCelebrate with us as we delve into the world of Keith Haring’s art and the creation of this unique new pop-up book. Enjoy an insightful discussion in the Bureau of General Services—Queer Division between paper engineer Simon Arizpe\, publisher Rosston Meyer\, and Keith Haring Foundation Director Gil Vazquez as they discuss the creation of the pop-up book and the importance of upholding Haring’s legacy. Explore Haring’s “Once Upon A Time…..” mural bathroom\, featured in the pop-up book\, with a reception to follow. \n  \nThe Bureau will have copies of the following items for sale: \nKeith Haring Pop Up Book $60 \nKeith Haring Pop Up Book Altarpiece Edition (includes pop up of Once Upon a Time … bathroom) $350 \nKeith Haring Marriage of Heaven and Hell Pop Up Poster $60 \nKeith Haring Love Pop Up  Cards $10 \nFor product details and photos visit: \npopositionpress.com/keith-haring-pop-up-book \n  \nTo reserve any of the above items to purchase at the event\, please write to us at contact@bgsqd.com with “October 6 Keith Haring Pop Up” in the subject line.
URL:https://www.bgsqd.com/event/keith-haring-pop-up-book-release-party/
LOCATION:Bureau of General Services—Queer Division\, 208 West 13th Street\, Room 210\, New York\, NY\, 10011\, United States
ATTACH;FMTTYPE=image/jpeg:https://www.bgsqd.com/wp-content/uploads/2024/09/October-6-Keith-Haring-Pop-Up-banner-scaled.jpg
ORGANIZER;CN="Bureau of General Services%E2%80%94Queer Division":MAILTO:contact@bgsqd.com
END:VEVENT
END:VCALENDAR