BEGIN:VCALENDAR
VERSION:2.0
PRODID:-//BGSQD - ECPv6.15.20//NONSGML v1.0//EN
CALSCALE:GREGORIAN
METHOD:PUBLISH
X-WR-CALNAME:BGSQD
X-ORIGINAL-URL:https://www.bgsqd.com
X-WR-CALDESC:Events for BGSQD
REFRESH-INTERVAL;VALUE=DURATION:PT1H
X-Robots-Tag:noindex
X-PUBLISHED-TTL:PT1H
BEGIN:VTIMEZONE
TZID:America/New_York
BEGIN:DAYLIGHT
TZOFFSETFROM:-0500
TZOFFSETTO:-0400
TZNAME:EDT
DTSTART:20230312T070000
END:DAYLIGHT
BEGIN:STANDARD
TZOFFSETFROM:-0400
TZOFFSETTO:-0500
TZNAME:EST
DTSTART:20231105T060000
END:STANDARD
BEGIN:DAYLIGHT
TZOFFSETFROM:-0500
TZOFFSETTO:-0400
TZNAME:EDT
DTSTART:20240310T070000
END:DAYLIGHT
BEGIN:STANDARD
TZOFFSETFROM:-0400
TZOFFSETTO:-0500
TZNAME:EST
DTSTART:20241103T060000
END:STANDARD
BEGIN:DAYLIGHT
TZOFFSETFROM:-0500
TZOFFSETTO:-0400
TZNAME:EDT
DTSTART:20250309T070000
END:DAYLIGHT
BEGIN:STANDARD
TZOFFSETFROM:-0400
TZOFFSETTO:-0500
TZNAME:EST
DTSTART:20251102T060000
END:STANDARD
END:VTIMEZONE
BEGIN:VEVENT
DTSTART;TZID=America/New_York:20240504T150000
DTEND;TZID=America/New_York:20240504T163000
DTSTAMP:20260420T092923
CREATED:20240419T180511Z
LAST-MODIFIED:20240419T181518Z
UID:14393-1714834800-1714840200@www.bgsqd.com
SUMMARY:Queer(y)ing Bodies - Texts On Trauma\, Transformation\, and Truth (in person & live-streaming)
DESCRIPTION:Queer poets\, E Kerr (they/he) and Billie R. Tadros (she/they)\, document their own lived experiences with identity\, embodiment\, and gender\, through both traditional and experimental poetic forms. Kayleb Rae Candrilli has said that the “tenderness” of Kerr’s debut collection trans [re]incarnation “is in lineage with a growing chorus of trans voices\, voices that demand space\, safety\, and softness\,” and Katie Manning says that the poems in Tadros’s most recent collection Graft Fixation “interrogate our understanding of bodies\, especially women’s bodies\, through collisions of language and form.” Join these poets for an afternoon of readings that queer and query the body. \nThis event will take place in person at the Bureau of General Services—Queer Division\, on the second floor (room 210) of The LGBT Community Center\, 208 W. 13th St.\, NYC\, 10011. \n\n\nRegistration is not required. Seating is first come\, first served. \n\nAlso live-streaming on the Bureau’s YouTube channel: \nyoutube.com/@bgsqd \n  \nSuggested donation to benefit the Bureau: $10. \nAll are welcome to attend\, with or without a donation. \n\nWe will pass a bag for donations at the start of the event\, but we can also take credit card donations at the register or on Venmo @BGSQD \n  \n\n\nElias Kerr is a Transmasculine poet\, who writes under the pen name E Kerr. They graduated from the University of Scranton in 2023\, with a masters degree in occupational therapy\, and double minors in English and writing. They are the recipient of the inaugural 2022 Stemmler/Dennis LGBT& Award. Their work has been featured in various publications\, including Rappahannock Review\, Another Chicago Magazine\, and the Hollins Critic and their debut collection\, trans [re]incarnation\, was released in April\, 2023\, with Mason Jar Press. Kerr lives and writes in Scranton\, PA\, with their cat\, Nola.  \n  \nBillie R. Tadros is an Associate Professor in the Department of English & Theatre at The University of Scranton\, where she also teaches in the Women’s & Gender Studies program and directs the concentration in Health Humanities. She earned her Ph.D. in English from the University of Louisiana at Lafayette and her M.F.A. in Writing from Sarah Lawrence College\, and she is a graduate of the Writers Institute at Susquehanna University. She is the author of three books of poems\, Graft Fixation (Gold Wake Press\, 2020)\, Was Body (Indolent Books\, 2020)\, and The Tree We Planted and Buried You In (Otis Books\, 2018).
URL:https://www.bgsqd.com/event/queerying-bodies/
LOCATION:Bureau of General Services–Queer Division\, 208 West 13th Street\, Room 210\, New York\, NY\, 10011\, United States
ATTACH;FMTTYPE=image/jpeg:https://www.bgsqd.com/wp-content/uploads/2024/04/May-4-24-Event-R2-scaled.jpg
ORGANIZER;CN="Bureau of General Services%E2%80%94Queer Division":MAILTO:contact@bgsqd.com
END:VEVENT
END:VCALENDAR