BEGIN:VCALENDAR
VERSION:2.0
PRODID:-//BGSQD - ECPv6.15.20//NONSGML v1.0//EN
CALSCALE:GREGORIAN
METHOD:PUBLISH
X-ORIGINAL-URL:https://www.bgsqd.com
X-WR-CALDESC:Events for BGSQD
REFRESH-INTERVAL;VALUE=DURATION:PT1H
X-Robots-Tag:noindex
X-PUBLISHED-TTL:PT1H
BEGIN:VTIMEZONE
TZID:America/New_York
BEGIN:DAYLIGHT
TZOFFSETFROM:-0500
TZOFFSETTO:-0400
TZNAME:EDT
DTSTART:20230312T070000
END:DAYLIGHT
BEGIN:STANDARD
TZOFFSETFROM:-0400
TZOFFSETTO:-0500
TZNAME:EST
DTSTART:20231105T060000
END:STANDARD
BEGIN:DAYLIGHT
TZOFFSETFROM:-0500
TZOFFSETTO:-0400
TZNAME:EDT
DTSTART:20240310T070000
END:DAYLIGHT
BEGIN:STANDARD
TZOFFSETFROM:-0400
TZOFFSETTO:-0500
TZNAME:EST
DTSTART:20241103T060000
END:STANDARD
BEGIN:DAYLIGHT
TZOFFSETFROM:-0500
TZOFFSETTO:-0400
TZNAME:EDT
DTSTART:20250309T070000
END:DAYLIGHT
BEGIN:STANDARD
TZOFFSETFROM:-0400
TZOFFSETTO:-0500
TZNAME:EST
DTSTART:20251102T060000
END:STANDARD
END:VTIMEZONE
BEGIN:VEVENT
DTSTART;TZID=America/New_York:20240502T190000
DTEND;TZID=America/New_York:20240502T203000
DTSTAMP:20260420T080004
CREATED:20240408T142853Z
LAST-MODIFIED:20240415T194246Z
UID:14346-1714676400-1714681800@www.bgsqd.com
SUMMARY:Poets of the Archipelago: Bruce E. Whitacre\, Kelsea Valentine\, and Gigi (in person & live-streaming)
DESCRIPTION:Join Bruce E. Whitacre\, Kelsea Valentine\, and gigi to launch Bruce’s second poetry collection\, Good Housekeeping\, from Poets Wear Prada. Whitacre will be joined by one or two other exciting poets reading from work that will entertain\, inspire\, and share the experience of LGBTQ+ life. \n  \nTo reserve a copy of Good Housekeeping (Poets Wear Prada\, April 1\, 2024\, paperback\, $18)\, please write to us at contact@bgsqd.com with “please reserve copy of Good Housekeeping for May 2” in the subject line. \n\n\nThank you for supporting the Bureau by purchasing books from us! \n  \nThis event will take place in person at the Bureau of General Services—Queer Division\, on the second floor (room 210) of The LGBT Community Center\, 208 W. 13th St.\, NYC\, 10011. \n\n\n\n\nRegistration is not required. Seating is first come\, first served. \n\nAlso live-streaming on the Bureau’s YouTube channel: \nyoutube.com/@bgsqd \n  \nSuggested donation to benefit the Bureau: $10. \nAll are welcome to attend\, with or without a donation. \n\nWe will pass a bag for donations at the start of the event\, but we can also take credit card donations at the register or on Venmo @BGSQD \n  \n\n\nBruce E. Whitacre’s Good Housekeeping\, Poets Wear Prada\, is a BookLife Reviews Editors Pick. The Elk in the Glade: The World of Pioneer and Painter Jennie Hicks\, placed 2nd in Contemporary Poetry at The BookFest Spring 2023. His crown sonnet about the culture of violence won the Nebraska Poetry Society’s 2023 Open Poetry Contest. More info at www.brucewhitacre.com. \n  \nKelsea Valentine is a poet and multidisciplinary artist from the abysmal plains of Nebraska\, now based in Brooklyn\, NY. She founded the Poetry Is a Team Sport artists collective and organizes publications and readings across the city. \n  \nA multidisciplinary artist and educator living in Brooklyn\, gigi explores gender\, ecology\, spirituality\, and the Absurd through poetry\, figure modeling\, and visual art. Rarely working alone\, gigi believes in the generative power of artistic collaboration as a means to continuously evolve the process. Some of their most notable influences are Sol Lewit\, Taehyoung Jeon\, Frankie Gallina-Jones\, Dolan Morgan\, and the southern red oaks of Anne Arundel County. \n  \n 
URL:https://www.bgsqd.com/event/poets-of-the-archipelago/
LOCATION:Bureau of General Services–Queer Division\, 208 West 13th Street\, Room 210\, New York\, NY\, 10011\, United States
ATTACH;FMTTYPE=image/jpeg:https://www.bgsqd.com/wp-content/uploads/2024/04/May-2-Poets-of-the-Archipelago-flyer-jpg.webp
ORGANIZER;CN="Bureau of General Services%E2%80%94Queer Division":MAILTO:contact@bgsqd.com
END:VEVENT
END:VCALENDAR