BEGIN:VCALENDAR
VERSION:2.0
PRODID:-//BGSQD - ECPv6.15.20//NONSGML v1.0//EN
CALSCALE:GREGORIAN
METHOD:PUBLISH
X-WR-CALNAME:BGSQD
X-ORIGINAL-URL:https://www.bgsqd.com
X-WR-CALDESC:Events for BGSQD
REFRESH-INTERVAL;VALUE=DURATION:PT1H
X-Robots-Tag:noindex
X-PUBLISHED-TTL:PT1H
BEGIN:VTIMEZONE
TZID:America/New_York
BEGIN:DAYLIGHT
TZOFFSETFROM:-0500
TZOFFSETTO:-0400
TZNAME:EDT
DTSTART:20230312T070000
END:DAYLIGHT
BEGIN:STANDARD
TZOFFSETFROM:-0400
TZOFFSETTO:-0500
TZNAME:EST
DTSTART:20231105T060000
END:STANDARD
BEGIN:DAYLIGHT
TZOFFSETFROM:-0500
TZOFFSETTO:-0400
TZNAME:EDT
DTSTART:20240310T070000
END:DAYLIGHT
BEGIN:STANDARD
TZOFFSETFROM:-0400
TZOFFSETTO:-0500
TZNAME:EST
DTSTART:20241103T060000
END:STANDARD
BEGIN:DAYLIGHT
TZOFFSETFROM:-0500
TZOFFSETTO:-0400
TZNAME:EDT
DTSTART:20250309T070000
END:DAYLIGHT
BEGIN:STANDARD
TZOFFSETFROM:-0400
TZOFFSETTO:-0500
TZNAME:EST
DTSTART:20251102T060000
END:STANDARD
END:VTIMEZONE
BEGIN:VEVENT
DTSTART;TZID=America/New_York:20240126T193000
DTEND;TZID=America/New_York:20240126T213000
DTSTAMP:20260424T203631
CREATED:20240116T190101Z
LAST-MODIFIED:20240116T190320Z
UID:14095-1706297400-1706304600@www.bgsqd.com
SUMMARY:Laughter in the Analytic Setting (registration required)
DESCRIPTION:The Colloquium Series of the Manhattan Institute for Psychoanalysis \nJanuary 26\, 2024 \nNuar Alsadir: “Laughter in the Analytic Setting” \nBeginning with a moment in one of Freud’s case studies in which he bursts out laughing\, this talk will explore the ways in which laughter can act as a form of unconscious communication. Because of the positive associations most people have to laughter\, its meaning often flies beneath the social—and\, often\, analytic—radar\, even as it has the potential to collapse the alliance between an analyst and an analysand. \nLearning Objectives: \n1. Participants will be able to identify different forms of laughter and how each communicates outside of language. \n2. Participants will learn to identify unconscious communication\, countertransference\, and enactments. \n3. Participants will learn how to use their understanding of laughter’s different modes of communication in the treatment. \n  \nCLICK HERE TO PAY AND REGISTER TO ATTEND IN PERSON \nFor in-person attendance you will receive an E-ticket through Eventbrite.   \n\nCLICK HERE TO PAY AND REGISTER TO ATTEND ONLINE \nFor online attendance you will receive a zoom link after you register.  \n\n$50 \n\nFree for MIP candidates (RSVP candidates only) \n\nContinuing Education Hours: 2\nThe Manhattan Institute is a NY State approved provider of continuing education hours for: LCSW\, LMSW\, LCAT\, LMHC and Licensed Psychologists.\n  \n 
URL:https://www.bgsqd.com/event/laughter-in-the-analytic-setting/
LOCATION:Bureau of General Services–Queer Division\, 208 West 13th Street\, Room 210\, New York\, NY\, 10011\, United States
ATTACH;FMTTYPE=application/pdf:https://www.bgsqd.com/wp-content/uploads/2024/01/MANHATTAN-INSTITUTE-COLLOQUIUM-Friday-1.26.24.pdf
END:VEVENT
END:VCALENDAR