BEGIN:VCALENDAR
VERSION:2.0
PRODID:-//BGSQD - ECPv6.15.20//NONSGML v1.0//EN
CALSCALE:GREGORIAN
METHOD:PUBLISH
X-ORIGINAL-URL:https://www.bgsqd.com
X-WR-CALDESC:Events for BGSQD
REFRESH-INTERVAL;VALUE=DURATION:PT1H
X-Robots-Tag:noindex
X-PUBLISHED-TTL:PT1H
BEGIN:VTIMEZONE
TZID:America/New_York
BEGIN:DAYLIGHT
TZOFFSETFROM:-0500
TZOFFSETTO:-0400
TZNAME:EDT
DTSTART:20220313T070000
END:DAYLIGHT
BEGIN:STANDARD
TZOFFSETFROM:-0400
TZOFFSETTO:-0500
TZNAME:EST
DTSTART:20221106T060000
END:STANDARD
BEGIN:DAYLIGHT
TZOFFSETFROM:-0500
TZOFFSETTO:-0400
TZNAME:EDT
DTSTART:20230312T070000
END:DAYLIGHT
BEGIN:STANDARD
TZOFFSETFROM:-0400
TZOFFSETTO:-0500
TZNAME:EST
DTSTART:20231105T060000
END:STANDARD
BEGIN:DAYLIGHT
TZOFFSETFROM:-0500
TZOFFSETTO:-0400
TZNAME:EDT
DTSTART:20240310T070000
END:DAYLIGHT
BEGIN:STANDARD
TZOFFSETFROM:-0400
TZOFFSETTO:-0500
TZNAME:EST
DTSTART:20241103T060000
END:STANDARD
END:VTIMEZONE
BEGIN:VEVENT
DTSTART;TZID=America/New_York:20231118T190000
DTEND;TZID=America/New_York:20231118T210000
DTSTAMP:20260424T192622
CREATED:20231106T203034Z
LAST-MODIFIED:20231106T203200Z
UID:13989-1700334000-1700341200@www.bgsqd.com
SUMMARY:TELL 88: Bathrooms (in person & live-streaming)
DESCRIPTION:TELL is an evening of story telling from the mouths and minds of queers in NYC hosted by Drae Campbell at the Bureau of General Services—Queer Division since February 2014. \nThe theme of the 88th TELL is Bathrooms. Featuring storytellers Micah Brown\, Glace Chase\, & Fred Brown\, Jr. \n  \nThis event will take place in person at the Bureau of General Services—Queer Division\, on the second floor (room 210) of The LGBT Community Center\, 208 W. 13th St.\, NYC\, 10011. \nRegistration is not required. Seating is first come\, first served. \nAlso live-streaming on the Bureau’s YouTube channel: \nyoutube.com/@bgsqd \n  \nSuggested donation to benefit the storytellers and the Bureau: $10. \nAll are welcome to attend\, with or without a donation. \n  \nDRAE CAMPBELL’s first performance was at age 5 in a nightclub opening for a punk band. Drae has a BFA in Theater from The University of Arts in Philadelphia. Some Theater credits include: The Nosebleed (Lincoln Center Theater)\, Only You Can Prevent Wildfires (Ricochet Collective)\, Non-Consensual Relationships with Ghosts (La MaMa)\, My Old Man (Dixon Place)\, Oph3lia(HERE). TV includes “New Amsterdam\,” “Bull ” and “Dinette ” (web series\, directed by Shaina Feinberg). Drae has been hosting and curating TELL for more than 9 years which is now a SILVER Signal Award-winning podcast of the same name. www.draecampbell.com \n  \nMicah Brown is a transsexual butch queen from New York City. They are a Sociologist\, multi-media artist\, and tragically self-aware. They tell stories loosely\, and would like to remind you to take everything with several grains of salt\, and also completely seriously.  \n  \nFred Brown\, Jr. is a New York Emmy-nominated tv producer and Culture journalist.  In his current role at BRIC TV Brooklyn\, Fred has produced over 20 documentary packages with social justice and human interest themes.  \nFred helped develop and supervise the packaging of over 90 minutes of original documentary content\, reflecting the diverse stories and experiences of New York’s vibrant and resiliant LGBTQ+ community.  In 2019\, Fred’s short doc titled  “WERK!: Behind The Ball”\,  premiered at Times Square AMC Theater during the UrbanWorld Film Festival. \nIn a career now spanning 30 years\, Fred has held professional stints at CNN\, C-Span\, The Washington Post\, The Smithsonian Institute\, The National Association of Black-Owned Broadcasters\, PBS and The New York Times Advertising Group. \n  \nGlace Chase most recently starred in 3 return seasons of Nora Burn’s play The Village at Dixon Place and is a fixture of NYC & Australia’s queer comedy scene & multi-hyphenate & award-winning  “trans-queen” / comedienne / performer / screenwriter / playwright / ho. Glace wrote & starred in Sydney Theatre Company/Queensland Theatre’s hit play Triple X\, earning rave reviews & nightly standing Os. Triple X was shortlisted for both the Susan Smith Blackburn Award and Nick Enright Prize. While in Oz\, Glace also starred in All My Friends Are Racist and ArtWorks on ABC. She’s attached to numerous tv projects that will probably go nowhere. She’s currently developing her new one-woman Outback Adventure Glace’s Big Things. It opens with group sex & closes riding a wombat\, so it’s the #1 must-see of the Off-Off-Off Broadway Slutty Trans Storytelling Comedy genre and is coming to a Living Room near you. Outcalls only. #youtoo \n 
URL:https://www.bgsqd.com/event/tell-88-bathrooms/
LOCATION:Bureau of General Services—Queer Division\, 208 West 13th Street\, Room 210\, New York\, NY\, 10011\, United States
ATTACH;FMTTYPE=image/jpeg:https://www.bgsqd.com/wp-content/uploads/2023/11/November-18-TELL-88-Bathrooms-scaled.webp
ORGANIZER;CN="Bureau of General Services%E2%80%94Queer Division":MAILTO:contact@bgsqd.com
END:VEVENT
END:VCALENDAR