BEGIN:VCALENDAR
VERSION:2.0
PRODID:-//BGSQD - ECPv6.15.20//NONSGML v1.0//EN
CALSCALE:GREGORIAN
METHOD:PUBLISH
X-WR-CALNAME:BGSQD
X-ORIGINAL-URL:https://www.bgsqd.com
X-WR-CALDESC:Events for BGSQD
REFRESH-INTERVAL;VALUE=DURATION:PT1H
X-Robots-Tag:noindex
X-PUBLISHED-TTL:PT1H
BEGIN:VTIMEZONE
TZID:America/New_York
BEGIN:DAYLIGHT
TZOFFSETFROM:-0500
TZOFFSETTO:-0400
TZNAME:EDT
DTSTART:20220313T070000
END:DAYLIGHT
BEGIN:STANDARD
TZOFFSETFROM:-0400
TZOFFSETTO:-0500
TZNAME:EST
DTSTART:20221106T060000
END:STANDARD
BEGIN:DAYLIGHT
TZOFFSETFROM:-0500
TZOFFSETTO:-0400
TZNAME:EDT
DTSTART:20230312T070000
END:DAYLIGHT
BEGIN:STANDARD
TZOFFSETFROM:-0400
TZOFFSETTO:-0500
TZNAME:EST
DTSTART:20231105T060000
END:STANDARD
BEGIN:DAYLIGHT
TZOFFSETFROM:-0500
TZOFFSETTO:-0400
TZNAME:EDT
DTSTART:20240310T070000
END:DAYLIGHT
BEGIN:STANDARD
TZOFFSETFROM:-0400
TZOFFSETTO:-0500
TZNAME:EST
DTSTART:20241103T060000
END:STANDARD
END:VTIMEZONE
BEGIN:VEVENT
DTSTART;TZID=America/New_York:20231117T190000
DTEND;TZID=America/New_York:20231117T210000
DTSTAMP:20260424T221009
CREATED:20231030T195343Z
LAST-MODIFIED:20231031T145717Z
UID:13964-1700247600-1700254800@www.bgsqd.com
SUMMARY:“Eden’s Garden - A Road of Triumph and Battle”: Intimate Conversations (in person & live-streaming)
DESCRIPTION:The pre-promotion tour has started for the upcoming book release of Eden’s Garden – A Road of Triumph and Battle\, which will be available in 2024.  \nSeven King’s memoir takes a vulnerable look into the experience of a young independent who went through a maze to fulfill an idea that was bestowed upon him. The idea came during one of the toughest moments in his life and came with mockery\, tests\, and gossip even in his own community. Being a passionate individual and fighter\, he overcame all tests that would have set the average person back. However\, this idea catapulted him into the seasoned and well-skilled creative director he evolved into.  \nThis book will be a three-part manuscript: an autobiography of the experience of developing the project\, an advice column for those transitioning or thinking about it\, and a fictional novel. The book is a piece to give the true insight\, wisdom\, motivation\, and creativity of the brand of Eden’s Garden and more understanding to the man behind the vision. Please join Seven for a night of pre-celebration through intimate conversation and the reading of the first 5 pages of the novel and Q&A with the director.  \nThere will be open and honest dialogue with Seven while considering the questions many of us wrestle with: How do we build a project from scratch? How can we discover strength and community inside our differences? What tools do we use to address feelings of self-doubt vs purpose? What do we do when it all starts to feel like too much? Why is it important to follow your own gut when reaching for your goals? These will be some of the topics discussed at the promotional book tour stop for Eden’s Garden. Come join us for two hours of reflection\, conversation\, and celebration for Eden’s Garden – A Road of Triumph and Battle. \n  \nThis event will take place in person at the Bureau of General Services—Queer Division\, on the second floor (room 210) of The LGBT Community Center\, 208 W. 13th St.\, NYC\, 10011. \nRegistration is not required. Seating is first come\, first served. \nAlso live-streaming on the Bureau’s YouTube channel: \nyoutube.com/@bgsqd \nSuggested donation to benefit the Bureau: $10. \nAll are welcome to attend\, with or without a donation. \n  \nMalachi King\, known as Seven\, stands as the visionary force behind The Nile Creatives and Seven King Productions. With a lineage rooted in the legendary hip-hop ensemble Grandmaster Flash & the Furious Five—his father’s legacy—Seven effortlessly embraces the entertainment realm. Opting to forge his distinct path to greatness\, he emerged as a film director\, producer\, author\, screenwriter\, motivational speaker\, and a steadfast advocate for the trans community.  \nMalachi’s educational journey led him to Clark Atlanta University\, where he adeptly mastered various hands-on programs within Mass Media\, ultimately ascending to the role of Mass Media Department President. Amidst these formative years\, he lensed music videos for fellow students\, igniting his creative spark and birthing engaging vlogs. This initial foray gradually evolved\, culminating in the inception of his own short films and the groundbreaking web series\, “Eden’s Garden.” This audacious creation garnered immense traction\, amassing over 2 million YouTube views and propelling him into the spotlight—earning recognition as one of Ryan Murphy’s top emerging directors\, affording him the coveted opportunity to shadow the prolific creator on set.  \nPresently\, Malachi’s production company thrives\, a crucible for diverse visual arts encompassing feature films\, web series\, dynamic social media content\, and evocative documentaries. His unwavering mission revolves around imbuing narratives with visceral impact\, transcending mere sight to evoke profound emotional resonance. Rooted in a distinct and contemporary vision\, his projects beckon viewers to re engage\, repeatedly immersing themselves in narratives that authentically mirror the communities and social causes that resonate deeply within him.  \nThis burgeoning luminary has already etched an indelible mark upon his community\, poised for an even more remarkable trajectory. Anticipate a wealth of forthcoming endeavors from Seven King Productions\, a revitalized incarnation of his viral sensation\, “Eden’s Garden\,” poised for an exciting resurgence in the summer of 2022.
URL:https://www.bgsqd.com/event/edens-garden-a-road-of-triumph-and-battle/
LOCATION:Bureau of General Services–Queer Division\, 208 West 13th Street\, Room 210\, New York\, NY\, 10011\, United States
ATTACH;FMTTYPE=image/jpeg:https://www.bgsqd.com/wp-content/uploads/2023/10/November-17-The-Edens-Garden-Novel-Seven-banner-jpeg.webp
ORGANIZER;CN="Bureau of General Services%E2%80%94Queer Division":MAILTO:contact@bgsqd.com
END:VEVENT
END:VCALENDAR