BEGIN:VCALENDAR
VERSION:2.0
PRODID:-//BGSQD - ECPv6.15.20//NONSGML v1.0//EN
CALSCALE:GREGORIAN
METHOD:PUBLISH
X-WR-CALNAME:BGSQD
X-ORIGINAL-URL:https://www.bgsqd.com
X-WR-CALDESC:Events for BGSQD
REFRESH-INTERVAL;VALUE=DURATION:PT1H
X-Robots-Tag:noindex
X-PUBLISHED-TTL:PT1H
BEGIN:VTIMEZONE
TZID:America/New_York
BEGIN:DAYLIGHT
TZOFFSETFROM:-0500
TZOFFSETTO:-0400
TZNAME:EDT
DTSTART:20220313T070000
END:DAYLIGHT
BEGIN:STANDARD
TZOFFSETFROM:-0400
TZOFFSETTO:-0500
TZNAME:EST
DTSTART:20221106T060000
END:STANDARD
BEGIN:DAYLIGHT
TZOFFSETFROM:-0500
TZOFFSETTO:-0400
TZNAME:EDT
DTSTART:20230312T070000
END:DAYLIGHT
BEGIN:STANDARD
TZOFFSETFROM:-0400
TZOFFSETTO:-0500
TZNAME:EST
DTSTART:20231105T060000
END:STANDARD
BEGIN:DAYLIGHT
TZOFFSETFROM:-0500
TZOFFSETTO:-0400
TZNAME:EDT
DTSTART:20240310T070000
END:DAYLIGHT
BEGIN:STANDARD
TZOFFSETFROM:-0400
TZOFFSETTO:-0500
TZNAME:EST
DTSTART:20241103T060000
END:STANDARD
END:VTIMEZONE
BEGIN:VEVENT
DTSTART;TZID=America/New_York:20231104T110000
DTEND;TZID=America/New_York:20231104T130000
DTSTAMP:20260420T091705
CREATED:20231016T203944Z
LAST-MODIFIED:20231017T135358Z
UID:13921-1699095600-1699102800@www.bgsqd.com
SUMMARY:trans liberation history gathering (in person workshop)
DESCRIPTION:In this workshop we will discuss and share stories\, materials\, and memories with one another to expand the hirstory of trans\, Two-Spirit\, non-binary\, and gender diverse communities and individuals in North America during the 20th century. \nThis project is based on the belief that our hirstory is key to healing our communities from the scars of transphobia. We heal when we connect with ancestors and learn more about ourselves through them. We heal when we receive testament to our continued existence in this world. We heal when given the opportunity to repair the scars of past conflicts. Finally\, we heal when we are able to grow from the wisdom of passing time. Gathering around oral histories and physical materials offers us the opportunity to engage with all these modes of healing. \nIn this workshop\, we will work collectively against our erasure from society’s memory. We will reflect on the progress that has been won over the last fifty years and the many challenges that remain. During the first hour we will share stories of trans* and queer individuals\, movements\, and moments that hold power for us. After a break we will discuss our shared hirstory\, focusing on where we have each found or not found community or conflict.  \nTrans communities have always taken care of ourselves when others would not. We have formed houses and families\, birthed movements\, underwritten research\, built learning networks\, and shaped culture. This workshop continues this legacy by helping us narrate a trans hirstory in which our movements are powerful\, autonomous\, and coalitional\, so that we can continue the work to build a liveable trans present and future. \nSpace is limited to 20 participants \nRegister here\nFacilitator Bios\nSky Syzygy is a white queer trans femme filmmaker and multidisciplinary artist\, a racial and gender justice facilitator\, and a data scientist. In 2021\, Sky launched gender.network\, an archive of flyers\, photos\, artwork\, cartoons\, letters\, poems\, and other media by trans*\, Two-spirit\, nonbinary\, and trans-adjacent activists\, organizers\, and artists.  \nMalcolm Shanks is an activist\, political educator\, and consultant who works to gather people and power among marginalized groups. Malcolm has created and led hundreds of trainings with thousands of students\, activists\, non-profit workers\, and artists. Malcolm is a co-creator of the zine Decolonizing Gender: A Curriculum\, an interactive workbook that examines the relationship between transphobia\, white supremacy\, and European colonialism from a personal-political perspective. \n 
URL:https://www.bgsqd.com/event/gender-network-nyc/
LOCATION:Bureau of General Services–Queer Division\, 208 West 13th Street\, Room 210\, New York\, NY\, 10011\, United States
ATTACH;FMTTYPE=image/jpeg:https://www.bgsqd.com/wp-content/uploads/2023/10/November-4-Trans-Liberation-History-Gathering-flyer-scaled.webp
END:VEVENT
END:VCALENDAR