BEGIN:VCALENDAR
VERSION:2.0
PRODID:-//BGSQD - ECPv6.15.20//NONSGML v1.0//EN
CALSCALE:GREGORIAN
METHOD:PUBLISH
X-WR-CALNAME:BGSQD
X-ORIGINAL-URL:https://www.bgsqd.com
X-WR-CALDESC:Events for BGSQD
REFRESH-INTERVAL;VALUE=DURATION:PT1H
X-Robots-Tag:noindex
X-PUBLISHED-TTL:PT1H
BEGIN:VTIMEZONE
TZID:America/New_York
BEGIN:DAYLIGHT
TZOFFSETFROM:-0500
TZOFFSETTO:-0400
TZNAME:EDT
DTSTART:20220313T070000
END:DAYLIGHT
BEGIN:STANDARD
TZOFFSETFROM:-0400
TZOFFSETTO:-0500
TZNAME:EST
DTSTART:20221106T060000
END:STANDARD
BEGIN:DAYLIGHT
TZOFFSETFROM:-0500
TZOFFSETTO:-0400
TZNAME:EDT
DTSTART:20230312T070000
END:DAYLIGHT
BEGIN:STANDARD
TZOFFSETFROM:-0400
TZOFFSETTO:-0500
TZNAME:EST
DTSTART:20231105T060000
END:STANDARD
BEGIN:DAYLIGHT
TZOFFSETFROM:-0500
TZOFFSETTO:-0400
TZNAME:EDT
DTSTART:20240310T070000
END:DAYLIGHT
BEGIN:STANDARD
TZOFFSETFROM:-0400
TZOFFSETTO:-0500
TZNAME:EST
DTSTART:20241103T060000
END:STANDARD
END:VTIMEZONE
BEGIN:VEVENT
DTSTART;TZID=America/New_York:20230629T190000
DTEND;TZID=America/New_York:20230629T203000
DTSTAMP:20260423T200254
CREATED:20230608T145557Z
LAST-MODIFIED:20230610T175216Z
UID:12566-1688065200-1688070600@www.bgsqd.com
SUMMARY:SEX WORKER STORY HOUR (in person only)
DESCRIPTION:Scratch the surface of any sizeable gathering of gay men and you will find a number of guys who have engaged in one form of sex work or another at some time in their lives: erotic massage\, escorting\, sacred intimacy\, go-go dancing\, stripping\, camming for cash\, appearing in adult videos (porn)\, OnlyFans/JustForFans\, hosting sex parties\, selling used underwear online\, etc. And we all have stories to tell. What circumstances brought you into sex work\, and what made you cycle out of it? What did you learn about yourself in the process? What were memorable triumphs or debacles for you? \nBring a story to tell\, or let yourself be interviewed by Tomik Dash\, founder and publisher of Fag Rag magazine\, and Don Shewey\, author of the just-published memoir Daddy Lover God: a sacred intimate journey (Joybody Books). Connoisseurs of sex workers also welcome to share. \nCopies of Daddy Lover God will be available for purchase and signing. Copies of Fag Rag NYC will be available free of charge. \nReserve a copy of Daddy Lover God by writing to us at contact@bgsqd.com \nThank you for supporting the Bureau by purchasing books from us!\n \nThis event will take place in person at the Bureau of General Services—Queer Division\, on the second floor (room 210) of The LGBT Community Center\, 208 W. 13th St.\, NYC\, 10011. \nRegistration is not required. Seating is first come\, first served.\n \nSuggested donation $10 to benefit the Bureau’s work.\nAll are welcome to attend\, with or without donation.\n \nWe will pass a bag for donations at the start of the event\, but we can also take credit card donations at the register or on Venmo @bgsqd. \n \nBiographies of participants: \nTomik Dash is a Black\, gay\, left-handed\, near-sighted\, outspoken entrepreneur\, writer\, activist\, and sex worker. At least three of those attributes got him scholarships into college. He publishes a regional brand of fine art\, LGBTQ magazines called Fag Rag that currently have editions in NYC\, Fire Island\, and Provincetown. He is also the President of a nonprofit called the Black and Brown Equity Coalition that advocates for Black and transgender equity on Fire Island.\nwww.tomik2point0.com \nInstagram:  @tomik2point0\n \n \nDon Shewey is a writer\, therapist\, and pleasure activist in New York City. As a journalist and critic\, he has published three books about theater and hundreds of articles for the New York Times\, the Village Voice\, and other publications. He has chronicled his psycho-sexual-spiritual adventures in essays for numerous anthologies as well as the book-length The Paradox of Porn: Notes on Gay Male Sexual Culture. An archive of his writing is available online at donshewey.com. \nInstagram: @donsheweynyc \n  \nImages: \nCover of Daddy Lover God \nDon Shewey headshot: Liam Cunningham Photography \nCover of Fag Rag NYC\, featuring art work by Gio Black Peter \nTomik Dash headshot: Erik Carter\n 
URL:https://www.bgsqd.com/event/sex-worker-story-hour-in-person-only/
LOCATION:Bureau of General Services–Queer Division\, 208 West 13th Street\, Room 210\, New York\, NY\, 10011\, United States
ATTACH;FMTTYPE=image/jpeg:https://www.bgsqd.com/wp-content/uploads/2023/06/June-29-Don-Shewey-Sex-Worker-Story-Hour.jpg
ORGANIZER;CN="Bureau of General Services%E2%80%94Queer Division":MAILTO:contact@bgsqd.com
END:VEVENT
END:VCALENDAR