BEGIN:VCALENDAR
VERSION:2.0
PRODID:-//BGSQD - ECPv6.15.20//NONSGML v1.0//EN
CALSCALE:GREGORIAN
METHOD:PUBLISH
X-ORIGINAL-URL:https://www.bgsqd.com
X-WR-CALDESC:Events for BGSQD
REFRESH-INTERVAL;VALUE=DURATION:PT1H
X-Robots-Tag:noindex
X-PUBLISHED-TTL:PT1H
BEGIN:VTIMEZONE
TZID:America/New_York
BEGIN:DAYLIGHT
TZOFFSETFROM:-0500
TZOFFSETTO:-0400
TZNAME:EDT
DTSTART:20220313T070000
END:DAYLIGHT
BEGIN:STANDARD
TZOFFSETFROM:-0400
TZOFFSETTO:-0500
TZNAME:EST
DTSTART:20221106T060000
END:STANDARD
BEGIN:DAYLIGHT
TZOFFSETFROM:-0500
TZOFFSETTO:-0400
TZNAME:EDT
DTSTART:20230312T070000
END:DAYLIGHT
BEGIN:STANDARD
TZOFFSETFROM:-0400
TZOFFSETTO:-0500
TZNAME:EST
DTSTART:20231105T060000
END:STANDARD
BEGIN:DAYLIGHT
TZOFFSETFROM:-0500
TZOFFSETTO:-0400
TZNAME:EDT
DTSTART:20240310T070000
END:DAYLIGHT
BEGIN:STANDARD
TZOFFSETFROM:-0400
TZOFFSETTO:-0500
TZNAME:EST
DTSTART:20241103T060000
END:STANDARD
END:VTIMEZONE
BEGIN:VEVENT
DTSTART;TZID=America/New_York:20230616T180000
DTEND;TZID=America/New_York:20230616T183000
DTSTAMP:20260421T173000
CREATED:20230603T170029Z
LAST-MODIFIED:20230603T181810Z
UID:12539-1686938400-1686940200@www.bgsqd.com
SUMMARY:Deep Moon\, Pluto (in person and live-streaming)
DESCRIPTION:Kuba Falk + Zbigniew Bzymek present: Deep Moon\, Pluto \nA body performance with video monitor working with themes of gay masculinity and superimposition and submission to image. \nThe Bureau is hosting the performance Deep Moon\, Pluto in conjunction with the exhibition The Romance of Entanglement (in the era of the Observer’s Paradox)\, an exhibition of new work by eleven queer artists curated by participating artists Courtney Webster and Natalie Woodlock. The exhibition opens June 8 and runs through September 10. \nBio \nKuba Falk and Z Bzymek make up the queer art duo INTERHUMAN – making art that explores the diverging needs of individual spiritual growth and community interconnectedness. \n  \n@interhuman_interform \n@kuba_falk \n@zbi_bzym
URL:https://www.bgsqd.com/event/deep-moon-pluto/
LOCATION:Bureau of General Services–Queer Division\, 208 West 13th Street\, Room 210\, New York\, NY\, 10011\, United States
ATTACH;FMTTYPE=image/jpeg:https://www.bgsqd.com/wp-content/uploads/2023/06/Romance-June-16.jpeg
ORGANIZER;CN="Bureau of General Services%E2%80%94Queer Division":MAILTO:contact@bgsqd.com
END:VEVENT
END:VCALENDAR