BEGIN:VCALENDAR
VERSION:2.0
PRODID:-//BGSQD - ECPv6.15.20//NONSGML v1.0//EN
CALSCALE:GREGORIAN
METHOD:PUBLISH
X-ORIGINAL-URL:https://www.bgsqd.com
X-WR-CALDESC:Events for BGSQD
REFRESH-INTERVAL;VALUE=DURATION:PT1H
X-Robots-Tag:noindex
X-PUBLISHED-TTL:PT1H
BEGIN:VTIMEZONE
TZID:America/New_York
BEGIN:DAYLIGHT
TZOFFSETFROM:-0500
TZOFFSETTO:-0400
TZNAME:EDT
DTSTART:20220313T070000
END:DAYLIGHT
BEGIN:STANDARD
TZOFFSETFROM:-0400
TZOFFSETTO:-0500
TZNAME:EST
DTSTART:20221106T060000
END:STANDARD
BEGIN:DAYLIGHT
TZOFFSETFROM:-0500
TZOFFSETTO:-0400
TZNAME:EDT
DTSTART:20230312T070000
END:DAYLIGHT
BEGIN:STANDARD
TZOFFSETFROM:-0400
TZOFFSETTO:-0500
TZNAME:EST
DTSTART:20231105T060000
END:STANDARD
BEGIN:DAYLIGHT
TZOFFSETFROM:-0500
TZOFFSETTO:-0400
TZNAME:EDT
DTSTART:20240310T070000
END:DAYLIGHT
BEGIN:STANDARD
TZOFFSETFROM:-0400
TZOFFSETTO:-0500
TZNAME:EST
DTSTART:20241103T060000
END:STANDARD
END:VTIMEZONE
BEGIN:VEVENT
DTSTART;TZID=America/New_York:20230614T190000
DTEND;TZID=America/New_York:20230614T203000
DTSTAMP:20260421T161205
CREATED:20230428T163415Z
LAST-MODIFIED:20230428T165407Z
UID:12419-1686769200-1686774600@www.bgsqd.com
SUMMARY:Boyslut Book Launch with author Zachary Zane and Jordyn Taylor (in person & live-streaming)
DESCRIPTION:Join sex expert and Men’s Health magazine columnist Zachary Zane in celebration of his new book Boyslut: A Memoir and Manifesto at the Bureau on Wednesday\, June 14th at 7pm ET! Zach will be in conversation with Jordyn Taylor\, executive digital editor at Men’s Health and co-author with Zach of Men’s Health Best. Sex. Ever.: 200 Frank\, Funny & Friendly Answers About Getting It On. \nNamed one of Buzzfeed’s Most Anticipated LGBTQ+ Books of 2023\, Boyslut is a series of personal and tantalizing essays that articulate how our society still shames people for the sex that they have and the sexualities that they inhabit. Through the lens of his bisexuality and much self-described sluttiness\, Zane breaks down exactly how this sexual shame negatively impacts the sex and relationships in our lives and\, through personal experience\, shares how we can unlearn the harmful\, entrenched messages that society imparts to us. \nFrom stories of drug-fueled threesomes and risqué Grindr hookups to insights on dealing with rejection and living with his boyfriend and his boyfriend’s wife\, Boyslut is reassuring and often painfully funny—but most potently a testimony that we can all learn to live healthier lives unburdened by stigma. \nCopies of Boyslut will be available at the Bureau. To reserve a copy\, please write to us at contact@bgsqd.com. \nThank you for supporting the Bureau by purchasing books from us! \nThis event will take place in person at the Bureau of General Services—Queer Division\, on the second floor (room 210) of The LGBT Community Center\, 208 W. 13th St.\, NYC\, 10011. \nRegistration is not required. Seating is first come\, first served.\nAlso live-streaming at YouTube.com/@bgsqd \nSuggested donation $10 to benefit the Bureau’s work. \nAll are welcome to attend\, with or without donation. \nWe will pass a bag for donations at the start of the event\, but we can also take credit card donations at the register or on Venmo @bgsqd. \n  \nZachary Zane is a Brooklyn-based columnist\, sex expert\, and activist whose work focuses on sexuality\, culture\, and the LGBTQ community. He’s the co-author of Men’s Health: Best. Sex. Ever. He currently has two columns: “Sexplain It” the sex and relationship advice column at Men’s Health\, and “Navigating Non-Monogamy” at Cosmo\, where he shares all the mistakes he’s made in his polyamory journey\, so you don’t have to. He is also the founder and editor-in-chief of Boyslut zine\, which publishes real sex stories from kinksters worldwide. His work on sexuality and relationships has been published in the New York Times\, Rolling Stone\, The Washington Post\, GQ\, OUT\, and many others. \n  \nJordyn Taylor is the executive digital editor at Men’s Health magazine and the co-author of Men’s Health Best. Sex. Ever.: 200 Frank\, Funny & Friendly Answers About Getting It On. \n 
URL:https://www.bgsqd.com/event/boyslut-book-launch/
LOCATION:Bureau of General Services–Queer Division\, 208 West 13th Street\, Room 210\, New York\, NY\, 10011\, United States
ATTACH;FMTTYPE=image/jpeg:https://www.bgsqd.com/wp-content/uploads/2023/04/June-14-Boyslut-flyer.jpg
ORGANIZER;CN="Bureau of General Services%E2%80%94Queer Division":MAILTO:contact@bgsqd.com
END:VEVENT
END:VCALENDAR