BEGIN:VCALENDAR
VERSION:2.0
PRODID:-//BGSQD - ECPv6.15.20//NONSGML v1.0//EN
CALSCALE:GREGORIAN
METHOD:PUBLISH
X-ORIGINAL-URL:https://www.bgsqd.com
X-WR-CALDESC:Events for BGSQD
REFRESH-INTERVAL;VALUE=DURATION:PT1H
X-Robots-Tag:noindex
X-PUBLISHED-TTL:PT1H
BEGIN:VTIMEZONE
TZID:America/New_York
BEGIN:DAYLIGHT
TZOFFSETFROM:-0500
TZOFFSETTO:-0400
TZNAME:EDT
DTSTART:20220313T070000
END:DAYLIGHT
BEGIN:STANDARD
TZOFFSETFROM:-0400
TZOFFSETTO:-0500
TZNAME:EST
DTSTART:20221106T060000
END:STANDARD
BEGIN:DAYLIGHT
TZOFFSETFROM:-0500
TZOFFSETTO:-0400
TZNAME:EDT
DTSTART:20230312T070000
END:DAYLIGHT
BEGIN:STANDARD
TZOFFSETFROM:-0400
TZOFFSETTO:-0500
TZNAME:EST
DTSTART:20231105T060000
END:STANDARD
BEGIN:DAYLIGHT
TZOFFSETFROM:-0500
TZOFFSETTO:-0400
TZNAME:EDT
DTSTART:20240310T070000
END:DAYLIGHT
BEGIN:STANDARD
TZOFFSETFROM:-0400
TZOFFSETTO:-0500
TZNAME:EST
DTSTART:20241103T060000
END:STANDARD
END:VTIMEZONE
BEGIN:VEVENT
DTSTART;TZID=America/New_York:20230610T190000
DTEND;TZID=America/New_York:20230610T210000
DTSTAMP:20260421T161200
CREATED:20230531T152847Z
LAST-MODIFIED:20230531T152847Z
UID:12535-1686423600-1686430800@www.bgsqd.com
SUMMARY:Bushwick Book Club Presents New Songs and Art in Response to Gender Queer (in person only)
DESCRIPTION:The Bureau of General Services—Queer Division and The Lesbian\, Gay\, Bisexual and Transgender Community Center Host The Bushwick Book Club Presenting New Songs and Art in Response to Gender Queer: A Memoir by Maia Kobabe. \nFeaturing performers: \nJohn S. Hall (New Trout) \nDon Rauf \nSusan Hwang \nBoy Meets Pearl \nYva Las Vegass \nAnni Rossi \nPaula Spiro \nHoni Harlow \nHanuel Lee \nspiritchild \nEndless Arrows \nJason Trachtenburg \nStephanie Larriere \nOksana Horban \n  \nCopies of Gender Queer: A Memoir (Oni Press\, 2019\, paperback\, $19.99) will be available for purchase at the event. To reserve a copy please email the Bureau at contact@bgsqd.com with “please reserve Gender Queer” in the subject line. \nThank you for supporting the Bureau by purchasing books from us! \n  \nSuggested donation $10 to pay the performers \nPlease register on Eventbrite by clicking here.\nAbout the Bushwick Book Club: \nThe Bushwick Book Club began in January 2009 on a dare. Songwriter\, Susan Hwang\, dared Goodbye Blue Monday owner Steve Trimboli to let her have a night of new songs inspired by literature. He said\, “Sure.” \nThey started with Kurt Vonnegut’s Breakfast of Champions and now meet monthly employing the talents of local songwriters\, artists and chefs who plumb the depths of a chosen literary gem to create that rare and beautiful thing – a new song (or visual art\, dance\, film or snack). These literature-themed live shows have been inspired by everything from Raymond Carver to Charles Darwin to George R.R. Martin to the thesaurus. \nThe Bushwick Book Club now has several branches all over the world\, including Portland\, Los Angeles\, Seattle\, Santa Barbara\, New Orleans\, Greenville\, London and Malmö\, Sweden. \nThe Bushwick Book Club Podcast includes excerpts from the live shows plus interviews with authors and songwriters.
URL:https://www.bgsqd.com/event/bushwick-book-club-presents-new-songs-and-art-in-response-to-gender-queer/
LOCATION:The Lesbian\, Gay\, Bisexual & Transgender Community Center\, 208 West 13th Street\, Room 101\, New York\, 10011\, United States
ATTACH;FMTTYPE=image/jpeg:https://www.bgsqd.com/wp-content/uploads/2023/05/June-10-Bushwick-Book-Club-Gender-Queer-updated.jpg
END:VEVENT
END:VCALENDAR