BEGIN:VCALENDAR
VERSION:2.0
PRODID:-//BGSQD - ECPv6.15.20//NONSGML v1.0//EN
CALSCALE:GREGORIAN
METHOD:PUBLISH
X-WR-CALNAME:BGSQD
X-ORIGINAL-URL:https://www.bgsqd.com
X-WR-CALDESC:Events for BGSQD
REFRESH-INTERVAL;VALUE=DURATION:PT1H
X-Robots-Tag:noindex
X-PUBLISHED-TTL:PT1H
BEGIN:VTIMEZONE
TZID:America/New_York
BEGIN:DAYLIGHT
TZOFFSETFROM:-0500
TZOFFSETTO:-0400
TZNAME:EDT
DTSTART:20220313T070000
END:DAYLIGHT
BEGIN:STANDARD
TZOFFSETFROM:-0400
TZOFFSETTO:-0500
TZNAME:EST
DTSTART:20221106T060000
END:STANDARD
BEGIN:DAYLIGHT
TZOFFSETFROM:-0500
TZOFFSETTO:-0400
TZNAME:EDT
DTSTART:20230312T070000
END:DAYLIGHT
BEGIN:STANDARD
TZOFFSETFROM:-0400
TZOFFSETTO:-0500
TZNAME:EST
DTSTART:20231105T060000
END:STANDARD
BEGIN:DAYLIGHT
TZOFFSETFROM:-0500
TZOFFSETTO:-0400
TZNAME:EDT
DTSTART:20240310T070000
END:DAYLIGHT
BEGIN:STANDARD
TZOFFSETFROM:-0400
TZOFFSETTO:-0500
TZNAME:EST
DTSTART:20241103T060000
END:STANDARD
END:VTIMEZONE
BEGIN:VEVENT
DTSTART;TZID=America/New_York:20230525T190000
DTEND;TZID=America/New_York:20230525T200000
DTSTAMP:20260421T234109
CREATED:20230422T181050Z
LAST-MODIFIED:20230422T181050Z
UID:12413-1685041200-1685044800@www.bgsqd.com
SUMMARY:Fact and Fiction: Transgender Issues In the Real World and Through the Prism of Fiction (in person & live-streaming)
DESCRIPTION:In 2019\, the ACLU of New Jersey\, led by attorneys Jeanne LoCicero\, Alexander Shalom\, and Tess Borden\, along with attorney Robyn Gigl of Gluck Walrath LLP\, sued the New Jersey Department of Corrections and its officers on behalf of a transgender woman. As part of the settlement of that case\, New Jersey adopted a system-wide policy to improve conditions for incarcerated transgender people that included presumptively housing people in custody in line with their gender identity\, and not sex assigned at birth. Only a few other states in the nation have such protections in place. \nThe presentation will feature Jeanne LoCicero\, Legal Director of the ACLU-NJ\, and Attorney and Author\, Robyn Gigl\, discussing Doe v. NJ Department of Corrections\, the legal strategy\, the landmark settlement\, and the settlement implications for transgender and non-binary identified people in custody. Robyn will also discuss how her experiences as an attorney and transgender woman have influenced her novels\, By Way of Sorrow\, Survivor’s Guilt and her most recent novel\, Remain Silent\, which feature Erin McCabe\, a transgender criminal defense attorney and all of which touch on issues involving the incarceration of trans identified characters. \nCopies of Robyn Gigl’s Remain Silent(Kensington Publishing\, May 23\, 2023\, hardcover\, $27) will be available for purchase at the event (along with earlier titles by Gigl). We strongly encourage you to reserve a copy of any books you plan on purchasing to ensure that we have plenty of copies on hand. Please write to us with “Please reserve a copy of Remain Silent” in the subject line:contact@bgsqd.com. \nThank you for supporting the Bureau by purchasing books from us! \nThis event will take place in person at theBureau of General Services—Queer Division\, on the second floor (room 210) of The LGBT Community Center\, 208 W. 13th St.\, NYC\, 10011. \nRegistration is not required. Seating is first come\, first served.\nAlso live-streaming atYouTube.com/@bgsqd \n  \nSuggested donation $10 to benefit the Bureau’s work. \nAll are welcome to attend\, with or without donation. \nWe will pass a bag for donations at the start of the event\, but we can also take credit card donations at the register or on Venmo@bgsqd. \nRobyn Gigl\, the author of the Erin McCabe legal thrillers\, is an attorney\, speaker and activist who has been honored by the ACLU-NJ and the NJ Pride Network for her work on behalf of the LGBTQ community. Appointed by the New Jersey Supreme Court to the Court’s Committee on Diversity Inclusion and Community Engagement\, she’s practiced law for more than 40 years\, representing clients in state and federal courts. She is active in the New Jersey State Bar Association where she is a member of the Women in the Profession Section and a Past Chair of the Bar’s LGBT Rights Section. She also is a member of the Board of Directors of Garden State Equality\, NJ’s largest LGBTQ+ Civil Rights Organization. A frequent lecturer on diversity issues\, she lives in New Jersey and can be found online at RobynGigl.com or on Twitter @RobynGigl. \nJeanne LoCicero is the Legal Director of the American Civil Liberties Union of New Jersey. She supervises the litigation program and related advocacy of the ACLU-NJ’s Legal Department and manages its 10+\nperson staff. Jeanne joined the ACLU-NJ as a staff attorney in 2004 and served as its Deputy Legal Director for ten years prior to becoming legal director in 2018. She has litigated and advocated in a wide range of civil rights and civil liberties cases\, with a focus on prison conditions\, racial equity\, LGBTQ rights\, women’s rights\, and reproductive health. She recently served on New Jersey’s Transgender Equality Task Force\, is a trustee of the Association of the Federal Bar of New Jersey\, and serves on other legal and policy committees. Jeanne started her legal career as a legal fellow at the ACLU of Alabama after graduating with highest honors from Rutgers School of Law – Newark. She spent three years in private practice before joining the ACLU-NJ.
URL:https://www.bgsqd.com/event/fact-and-fiction-transgender-issues-in-the-real-world-and-through-the-prism-of-fiction-in-person-live-streaming/
LOCATION:Bureau of General Services–Queer Division\, 208 West 13th Street\, Room 210\, New York\, NY\, 10011\, United States
ATTACH;FMTTYPE=image/png:https://www.bgsqd.com/wp-content/uploads/2023/04/May-25-Fact-and-Fiction-Transgender-Issues-In-the-Real-World-and-Through-the-Prism-of-Fiction.png
ORGANIZER;CN="Bureau of General Services%E2%80%94Queer Division":MAILTO:contact@bgsqd.com
END:VEVENT
END:VCALENDAR