BEGIN:VCALENDAR
VERSION:2.0
PRODID:-//BGSQD - ECPv6.15.20//NONSGML v1.0//EN
CALSCALE:GREGORIAN
METHOD:PUBLISH
X-ORIGINAL-URL:https://www.bgsqd.com
X-WR-CALDESC:Events for BGSQD
REFRESH-INTERVAL;VALUE=DURATION:PT1H
X-Robots-Tag:noindex
X-PUBLISHED-TTL:PT1H
BEGIN:VTIMEZONE
TZID:America/New_York
BEGIN:DAYLIGHT
TZOFFSETFROM:-0500
TZOFFSETTO:-0400
TZNAME:EDT
DTSTART:20220313T070000
END:DAYLIGHT
BEGIN:STANDARD
TZOFFSETFROM:-0400
TZOFFSETTO:-0500
TZNAME:EST
DTSTART:20221106T060000
END:STANDARD
BEGIN:DAYLIGHT
TZOFFSETFROM:-0500
TZOFFSETTO:-0400
TZNAME:EDT
DTSTART:20230312T070000
END:DAYLIGHT
BEGIN:STANDARD
TZOFFSETFROM:-0400
TZOFFSETTO:-0500
TZNAME:EST
DTSTART:20231105T060000
END:STANDARD
BEGIN:DAYLIGHT
TZOFFSETFROM:-0500
TZOFFSETTO:-0400
TZNAME:EDT
DTSTART:20240310T070000
END:DAYLIGHT
BEGIN:STANDARD
TZOFFSETFROM:-0400
TZOFFSETTO:-0500
TZNAME:EST
DTSTART:20241103T060000
END:STANDARD
END:VTIMEZONE
BEGIN:VEVENT
DTSTART;TZID=America/New_York:20230521T150000
DTEND;TZID=America/New_York:20230521T170000
DTSTAMP:20260422T004244
CREATED:20230418T200922Z
LAST-MODIFIED:20230420T172946Z
UID:12397-1684681200-1684688400@www.bgsqd.com
SUMMARY:Queer Heroes of Myth and Legend with author Dan Jones (in person & live-streaming)
DESCRIPTION:Join author Dan Jones for the launch of Queer Heroes of Myth and Legend: A celebration of gay gods\, sapphic saints and queerness through the ages  \nA discussion and book signing with author Dan Jones and Joshua Mackey\, Assistant Editor\, INTO \n  \nCopies of Queer Heroes of Myth and Legend (Radar\, May 2\, 2023\, hardcover\, $19.99) will be available for purchase at the event. \nWe strongly encourage you to reserve a copy in advance so that we can be sure to have enough copies on hand. Please write to us at contact@bgsqd.com with “reserve Queer Heroes”  in the subject line. \nThank you for supporting the Bureau by purchasing books from us! \n  \nThis event will take place in person at the Bureau of General Services—Queer Division\, on the second floor (room 210) of The LGBT Community Center\, 208 W. 13th St.\, NYC\, 10011. \nRegistration is not required. Seating is first come\, first served.\nAlso live-streaming at YouTube.com/@bgsqd \n  \nSuggested donation $10 to benefit the Bureau’s work. \nAll are welcome to attend\, with or without donation. \nWe will pass a bag for donations at the start of the event\, but we can also take credit card donations at the register or on Venmo @bgsqd. \n  \nDan Jones is a best-selling British author living in New York. A onetime magazine editor (i-D Magazine\, Time Out London)\, Dan writes about fashion\, grooming\, booze\, and queer culture.  \nJoshua Mackey is an editor\, writer\, interviewer\, and culture/film/tv critic whose writing is at the intersection of Black\, queer\, and nerdy. The assistant editor for LGBTQ-focused publication INTO\, his work can also be found in Nerdist\, Huffington Post\, and Geeks of Color.
URL:https://www.bgsqd.com/event/queer-heroes-of-myth-and-legend-with-author-dan-jones/
LOCATION:Bureau of General Services–Queer Division\, 208 West 13th Street\, Room 210\, New York\, NY\, 10011\, United States
ATTACH;FMTTYPE=image/jpeg:https://www.bgsqd.com/wp-content/uploads/2023/04/May-21-Queer-Heroes-Dan-Jones-flyer.jpg
ORGANIZER;CN="Bureau of General Services%E2%80%94Queer Division":MAILTO:contact@bgsqd.com
END:VEVENT
END:VCALENDAR