BEGIN:VCALENDAR
VERSION:2.0
PRODID:-//BGSQD - ECPv6.15.20//NONSGML v1.0//EN
CALSCALE:GREGORIAN
METHOD:PUBLISH
X-WR-CALNAME:BGSQD
X-ORIGINAL-URL:https://www.bgsqd.com
X-WR-CALDESC:Events for BGSQD
REFRESH-INTERVAL;VALUE=DURATION:PT1H
X-Robots-Tag:noindex
X-PUBLISHED-TTL:PT1H
BEGIN:VTIMEZONE
TZID:America/New_York
BEGIN:DAYLIGHT
TZOFFSETFROM:-0500
TZOFFSETTO:-0400
TZNAME:EDT
DTSTART:20220313T070000
END:DAYLIGHT
BEGIN:STANDARD
TZOFFSETFROM:-0400
TZOFFSETTO:-0500
TZNAME:EST
DTSTART:20221106T060000
END:STANDARD
BEGIN:DAYLIGHT
TZOFFSETFROM:-0500
TZOFFSETTO:-0400
TZNAME:EDT
DTSTART:20230312T070000
END:DAYLIGHT
BEGIN:STANDARD
TZOFFSETFROM:-0400
TZOFFSETTO:-0500
TZNAME:EST
DTSTART:20231105T060000
END:STANDARD
BEGIN:DAYLIGHT
TZOFFSETFROM:-0500
TZOFFSETTO:-0400
TZNAME:EDT
DTSTART:20240310T070000
END:DAYLIGHT
BEGIN:STANDARD
TZOFFSETFROM:-0400
TZOFFSETTO:-0500
TZNAME:EST
DTSTART:20241103T060000
END:STANDARD
END:VTIMEZONE
BEGIN:VEVENT
DTSTART;TZID=America/New_York:20230513T160000
DTEND;TZID=America/New_York:20230513T180000
DTSTAMP:20260421T221136
CREATED:20230409T135846Z
LAST-MODIFIED:20230502T143643Z
UID:12345-1683993600-1684000800@www.bgsqd.com
SUMMARY:Poetry Reading: Kevin McLellan\, Ed Madden\, and Jayson P. Smith (in person & live-streaming)
DESCRIPTION:Poetry Reading featuring Kevin McLellan\, Ed Madden\, and Jayson P. Smith\, with introductions by Michael Broder.  \nCopies of Kevin McLellan’s in other words you/ (The Word Works\, 2023\, paperback\, $18) and Ed Madden’s A Pooka in Arkansas (The Word Works\, 2023\, paperback\, $19) will be available for purchase at the event. To reserve a copy of either book\, please write to us at contact@bgsqd.com. \nThank you for supporting the Bureau by purchasing books from us! \nThis event will take place in person at the Bureau of General Services—Queer Division\, on the second floor (room 210) of The LGBT Community Center\, 208 W. 13th St.\, NYC\, 10011. \nRegistration is not required. Seating is first come\, first served.\nAlso live-streaming at YouTube.com/@bgsqd \nSuggested donation $10 to benefit the Bureau’s work. \nAll are welcome to attend\, with or without donation. \nWe will pass a bag for donations at the start of the event\, but we can also take credit card donations at the register or on Venmo @bgsqd. \nKEVIN MCLELLAN is the author of: in other words you/ (selected by Timothy Liu for the 2022 Hilary Tham Capital Collection)\, Hemispheres\, Ornitheology (2019 Massachusetts Book Awards recipient)\, [box] (in the Blue Star Collection at Harvard University and other special collections)\, Tributary\, and Round Trip. Kevin makes videos under the name\, Duck Hunting with the Grammarian. His video Dick won Best Short Form Short Film at the LGBTQ+ Los Angeles Film Festival. It also showed in the Flickers’ Rhode Island Film Festival\, the Tag! Queer Film Festival\, the Berlin Short Film Festival\, and the Vancouver Queer Film Festival. https://kevmclellan.com/  \nED MADDEN is the author of four other books and four chapbooks of poetry\, most recently Ark\, a book about his father’s last months in hospice care\, and So they can sing\, which won the 2016 Robin Becker Chapbook Prize. He is a professor of English and the former director of Women’s and Gender Studies at the University of South Carolina\, where he teaches Irish literature\, queer studies\, and creative writing. Ed served as the poet laureate for the City of Columbia\, SC\, 2015-2022. He is recipient of an Academy of American Poets Laureate Fellowship and artist residencies at the Hambidge Center in Georgia and the Instituto Sacatar in Itaparica\, Brazil. \nJayson P. Smith is an interdisciplinary artist\, writer\, educator\, and curator from the Bronx. Their work has received support from NYFA\, The Poetry Project\, Poetry Foundation\, and Callaloo\, among others. Recent performances include Center for Performance Research\, Miriam Gallery\, and The Guggenheim. In 2016\, Jayson founded and continues to host NOMAD Readings. Find them in Brooklyn—listening—or at www.jaysonpsmith.com.
URL:https://www.bgsqd.com/event/poetry-reading-kevin-mclellan-ed-madden-and-jayson-p-smith/
LOCATION:Bureau of General Services–Queer Division\, 208 West 13th Street\, Room 210\, New York\, NY\, 10011\, United States
ATTACH;FMTTYPE=image/png:https://www.bgsqd.com/wp-content/uploads/2023/04/May-13-Poetry-Reading-JaysonPSmith-KevinMcLellan-and-EdMadden.png
ORGANIZER;CN="Bureau of General Services%E2%80%94Queer Division":MAILTO:contact@bgsqd.com
END:VEVENT
END:VCALENDAR