BEGIN:VCALENDAR
VERSION:2.0
PRODID:-//BGSQD - ECPv6.15.20//NONSGML v1.0//EN
CALSCALE:GREGORIAN
METHOD:PUBLISH
X-ORIGINAL-URL:https://www.bgsqd.com
X-WR-CALDESC:Events for BGSQD
REFRESH-INTERVAL;VALUE=DURATION:PT1H
X-Robots-Tag:noindex
X-PUBLISHED-TTL:PT1H
BEGIN:VTIMEZONE
TZID:America/New_York
BEGIN:DAYLIGHT
TZOFFSETFROM:-0500
TZOFFSETTO:-0400
TZNAME:EDT
DTSTART:20220313T070000
END:DAYLIGHT
BEGIN:STANDARD
TZOFFSETFROM:-0400
TZOFFSETTO:-0500
TZNAME:EST
DTSTART:20221106T060000
END:STANDARD
BEGIN:DAYLIGHT
TZOFFSETFROM:-0500
TZOFFSETTO:-0400
TZNAME:EDT
DTSTART:20230312T070000
END:DAYLIGHT
BEGIN:STANDARD
TZOFFSETFROM:-0400
TZOFFSETTO:-0500
TZNAME:EST
DTSTART:20231105T060000
END:STANDARD
BEGIN:DAYLIGHT
TZOFFSETFROM:-0500
TZOFFSETTO:-0400
TZNAME:EDT
DTSTART:20240310T070000
END:DAYLIGHT
BEGIN:STANDARD
TZOFFSETFROM:-0400
TZOFFSETTO:-0500
TZNAME:EST
DTSTART:20241103T060000
END:STANDARD
END:VTIMEZONE
BEGIN:VEVENT
DTSTART;TZID=America/New_York:20230510T190000
DTEND;TZID=America/New_York:20230510T203000
DTSTAMP:20260421T221218
CREATED:20230407T183844Z
LAST-MODIFIED:20230503T212154Z
UID:12337-1683745200-1683750600@www.bgsqd.com
SUMMARY:Queer Science: Neil Theise on Notes on Complexity (in person & live-streaming)
DESCRIPTION:Neil Theise and Bureau co-founder Greg Newton in conversation about Neil’s new book\, Notes on Complexity. \nWe strongly encourage you to reserve a copy of Notes on Complexity: A Scientific Theory of Connection\, Consciousness\, and Being (Spiegel & Grau\, May 9\, 2023\, hardcover\, $27) if you plan on purchasing it at the event. Please email us with “Please reserve Notes on Complexity” in the subject line: contact@bgsqd.com \nOr purchase a copy from our online store to have a copy shipped to you: \n  \n\n\n\n\n\n\n\n\n\n\n\n\n \nThank you for supporting the Bureau by purchasing books from us! \n  \nAbout Notes on Complexity: A Scientific Theory of Connection\, Consciousness\, and Being: \nAn electrifying introduction to complexity theory\, the science of how complex systems behave\, that profoundly reframes our understanding and illuminates our interconnectedness. \nNothing in the universe is more complex than life. Throughout the skies\, in oceans\, and across lands\, life is endlessly on the move. In its myriad forms—from cells to human beings\, social structures\, and ecosystems—life is open-ended\, evolving\, unpredictable\, yet adaptive and self-sustaining. Complexity theory addresses the mysteries that animate science\, philosophy\, and metaphysics: how this teeming array of existence\, from the infinitesimal to the infinite\, is in fact a seamless living whole; and it investigates what our place\, as conscious beings\, is within it. Neil Theise takes us to the exhilarating frontiers of human knowledge and\, in the process\, restores wonder and meaning to our experience of the everyday. \n“An extraordinary book that will change the way you understand yourself and the universe.” \n—Deepak Chopra \n“A must-read instant classic.”—Robert Thurman \n  \nNeil Theise is a professor of pathology at the NYU Grossman School of Medicine and a pioneer of adult stem cell plasticity. He is also a longtime student of Zen Buddhism. He lives in New York. \n 
URL:https://www.bgsqd.com/event/queer-science-neil-theise/
LOCATION:NY
ATTACH;FMTTYPE=image/jpeg:https://www.bgsqd.com/wp-content/uploads/2023/04/May-10-Notes-on-Complexity-flyer-corrected.jpg
END:VEVENT
END:VCALENDAR