BEGIN:VCALENDAR
VERSION:2.0
PRODID:-//BGSQD - ECPv6.15.20//NONSGML v1.0//EN
CALSCALE:GREGORIAN
METHOD:PUBLISH
X-ORIGINAL-URL:https://www.bgsqd.com
X-WR-CALDESC:Events for BGSQD
REFRESH-INTERVAL;VALUE=DURATION:PT1H
X-Robots-Tag:noindex
X-PUBLISHED-TTL:PT1H
BEGIN:VTIMEZONE
TZID:America/New_York
BEGIN:DAYLIGHT
TZOFFSETFROM:-0500
TZOFFSETTO:-0400
TZNAME:EDT
DTSTART:20220313T070000
END:DAYLIGHT
BEGIN:STANDARD
TZOFFSETFROM:-0400
TZOFFSETTO:-0500
TZNAME:EST
DTSTART:20221106T060000
END:STANDARD
BEGIN:DAYLIGHT
TZOFFSETFROM:-0500
TZOFFSETTO:-0400
TZNAME:EDT
DTSTART:20230312T070000
END:DAYLIGHT
BEGIN:STANDARD
TZOFFSETFROM:-0400
TZOFFSETTO:-0500
TZNAME:EST
DTSTART:20231105T060000
END:STANDARD
BEGIN:DAYLIGHT
TZOFFSETFROM:-0500
TZOFFSETTO:-0400
TZNAME:EDT
DTSTART:20240310T070000
END:DAYLIGHT
BEGIN:STANDARD
TZOFFSETFROM:-0400
TZOFFSETTO:-0500
TZNAME:EST
DTSTART:20241103T060000
END:STANDARD
END:VTIMEZONE
BEGIN:VEVENT
DTSTART;TZID=America/New_York:20230506T150000
DTEND;TZID=America/New_York:20230506T164500
DTSTAMP:20260421T173010
CREATED:20230409T134336Z
LAST-MODIFIED:20230417T161629Z
UID:12341-1683385200-1683391500@www.bgsqd.com
SUMMARY:Past and Future Queers: Mary Ann Cherry in conversation with Mike Albo (in person & live-streaming)
DESCRIPTION:In celebration of their new books — a nonfiction biography and a speculative Young Adult novel — authors Mary Ann Cherry and Mike Albo will discuss uncovering queer facts and creating queer fictions. Cherry’s Morris Kight: Humanist\, Liberationist\, Fantabulist is “a story of gay rights and gay wrongs” that traces the life of a LGBTQ pioneer. Albo’s Another Dimension of Us\, a “speculative romance” follows queer kids from the past and future who travel to the astral plane to save the ones they love. It has been called “Lucid and thought-provoking” by Booklist. \nCopies of Morris Kight: Humanist\, Liberationist\, Fantabulist and Another Dimension of Us are available at the Bureau. To reserve a copy\, please write to us at contact@bgsqd.com. \nThank you for supporting the Bureau by purchasing books from us! \nThis event will take place in person at the Bureau of General Services—Queer Division\, on the second floor (room 210) of The LGBT Community Center\, 208 W. 13th St.\, NYC\, 10011. \nRegistration is not required. Seating is first come\, first served.\nAlso live-streaming at YouTube.com/@bgsqd \nSuggested donation $10 to benefit the Bureau’s work. \nAll are welcome to attend\, with or without donation. \nWe will pass a bag for donations at the start of the event\, but we can also take credit card donations at the register or on Venmo @bgsqd. \nMary Ann Cherry (she/her) has been based in Los Angeles for 45 years\, is a writer with a diverse background in network and syndicated television and independent documentary films. Cherry has worked with non-profit organizations\, most recently created the historical archive for AIDS Healthcare Foundation. She befriended and worked with Morris Kight during the last decade of his life which led to Kight giving his blessing for Cherry to write his biography. They shared a friendship and a passion for social justice and activism. She enjoys a second career as an in-demand specialized yoga therapist. maryanncherrywriter.com \nMike Albo is the author of three novels: Hornito\, considered one of the 50 Essential LGBT Works of Fiction by Flavorwire\, the cult classic The Underminer: The Best Friend Who Casually Destroys Your Life (written with Virginia Heffernan) and Another Dimension of Us\, released in 2023. His other works include the The Junket and Spermhood: Diary of a Donor. He has written for the The New Yorker\, New York Magazine\, TED\, Town and Country and numerous other outlets. He has performed nine solo and comedy shows across the US\, Canada\, and UK. His solo shows include “Spermhood: Diary of a Donor” and “The Junket” which ran Off-Broadway at the Lynn Redgrave Theater in 2014. Mikealbo.net
URL:https://www.bgsqd.com/event/past-and-future-queers-mary-ann-cherry-in-conversation-with-mike-albo-in-person-live-streaming/
LOCATION:Bureau of General Services–Queer Division\, 208 West 13th Street\, Room 210\, New York\, NY\, 10011\, United States
ATTACH;FMTTYPE=image/png:https://www.bgsqd.com/wp-content/uploads/2023/04/May-6-Past-and-Future-Queers-Mary-Ann-Cherry-and-Mike-Albo.png
ORGANIZER;CN="Bureau of General Services%E2%80%94Queer Division":MAILTO:contact@bgsqd.com
END:VEVENT
END:VCALENDAR