BEGIN:VCALENDAR
VERSION:2.0
PRODID:-//BGSQD - ECPv6.15.20//NONSGML v1.0//EN
CALSCALE:GREGORIAN
METHOD:PUBLISH
X-ORIGINAL-URL:https://www.bgsqd.com
X-WR-CALDESC:Events for BGSQD
REFRESH-INTERVAL;VALUE=DURATION:PT1H
X-Robots-Tag:noindex
X-PUBLISHED-TTL:PT1H
BEGIN:VTIMEZONE
TZID:America/New_York
BEGIN:DAYLIGHT
TZOFFSETFROM:-0500
TZOFFSETTO:-0400
TZNAME:EDT
DTSTART:20220313T070000
END:DAYLIGHT
BEGIN:STANDARD
TZOFFSETFROM:-0400
TZOFFSETTO:-0500
TZNAME:EST
DTSTART:20221106T060000
END:STANDARD
BEGIN:DAYLIGHT
TZOFFSETFROM:-0500
TZOFFSETTO:-0400
TZNAME:EDT
DTSTART:20230312T070000
END:DAYLIGHT
BEGIN:STANDARD
TZOFFSETFROM:-0400
TZOFFSETTO:-0500
TZNAME:EST
DTSTART:20231105T060000
END:STANDARD
BEGIN:DAYLIGHT
TZOFFSETFROM:-0500
TZOFFSETTO:-0400
TZNAME:EDT
DTSTART:20240310T070000
END:DAYLIGHT
BEGIN:STANDARD
TZOFFSETFROM:-0400
TZOFFSETTO:-0500
TZNAME:EST
DTSTART:20241103T060000
END:STANDARD
END:VTIMEZONE
BEGIN:VEVENT
DTSTART;TZID=America/New_York:20230430T150000
DTEND;TZID=America/New_York:20230430T163000
DTSTAMP:20260424T104242
CREATED:20230403T143924Z
LAST-MODIFIED:20230403T160440Z
UID:12315-1682866800-1682872200@www.bgsqd.com
SUMMARY:A Reading by Queer Poets janan alexandra & Emma Wynn (in person event & live-streaming)
DESCRIPTION:Join queer poets janan alexandra (she/her) and Emma Wynn (they/them) for a joint reading and the NYC book launch of Emma’s first full-length collection\, The World is Our Anchor. The event will consist of readings\, a Q&A\, and book signing. \nCopies of The World Is Our Anchor (Futurecycle Press\, 2023\, paperback\, $15.95) are available at the Bureau. To reserve a copy\, please write to us at contact@bgsqd.com. \nThank you for supporting the Bureau by purchasing books from us! \nThis event will take place in person at the Bureau of General Services—Queer Division\, on the second floor (room 210) of The LGBT Community Center\, 208 W. 13th St.\, NYC\, 10011. \nRegistration is not required. Seating is first come\, first served.\nAlso live-streaming at YouTube.com/@bgsqd \nSuggested donation $10 to benefit the Bureau’s work. \nAll are welcome to attend\, with or without donation. \nWe will pass a bag for donations at the start of the event\, but we can also take credit card donations at the register or on Venmo @bgsqd. \njanan alexandra was born in Nicosia\, Cyprus to a Lebanese mother and an American father. She received her MFA in Poetry from Indiana University. A 2021-2022 Creative Research Fulbright Scholar\, janan currently teaches English at the Hotchkiss School in CT. You can find her work in Gulf Coast\, Ploughshares\, Mizna\, Muzzle\, The Adroit Journal and elsewhere. \nEmma Wynn received their MTS from Harvard Divinity School and teaches Philosophy\, Religious Studies\, Psychology\, and LGBTQI+ U.S. History at the Hotchkiss School in CT. They have been published in a variety of online and print journals and nominated for a Pushcart Prize twice. Their first book\, The World is Our Anchor\, was published in February by FutureCycle Press.
URL:https://www.bgsqd.com/event/a-reading-by-queer-poets-janan-alexandra-emma-wynn/
LOCATION:Bureau of General Services–Queer Division\, 208 West 13th Street\, Room 210\, New York\, NY\, 10011\, United States
ATTACH;FMTTYPE=image/jpeg:https://www.bgsqd.com/wp-content/uploads/2023/04/April-30-A-Reading-By-Queer-Poets-Emma-Wynn.jpg
ORGANIZER;CN="Bureau of General Services%E2%80%94Queer Division":MAILTO:contact@bgsqd.com
END:VEVENT
END:VCALENDAR