BEGIN:VCALENDAR
VERSION:2.0
PRODID:-//BGSQD - ECPv6.15.20//NONSGML v1.0//EN
CALSCALE:GREGORIAN
METHOD:PUBLISH
X-ORIGINAL-URL:https://www.bgsqd.com
X-WR-CALDESC:Events for BGSQD
REFRESH-INTERVAL;VALUE=DURATION:PT1H
X-Robots-Tag:noindex
X-PUBLISHED-TTL:PT1H
BEGIN:VTIMEZONE
TZID:America/New_York
BEGIN:DAYLIGHT
TZOFFSETFROM:-0500
TZOFFSETTO:-0400
TZNAME:EDT
DTSTART:20220313T070000
END:DAYLIGHT
BEGIN:STANDARD
TZOFFSETFROM:-0400
TZOFFSETTO:-0500
TZNAME:EST
DTSTART:20221106T060000
END:STANDARD
BEGIN:DAYLIGHT
TZOFFSETFROM:-0500
TZOFFSETTO:-0400
TZNAME:EDT
DTSTART:20230312T070000
END:DAYLIGHT
BEGIN:STANDARD
TZOFFSETFROM:-0400
TZOFFSETTO:-0500
TZNAME:EST
DTSTART:20231105T060000
END:STANDARD
BEGIN:DAYLIGHT
TZOFFSETFROM:-0500
TZOFFSETTO:-0400
TZNAME:EDT
DTSTART:20240310T070000
END:DAYLIGHT
BEGIN:STANDARD
TZOFFSETFROM:-0400
TZOFFSETTO:-0500
TZNAME:EST
DTSTART:20241103T060000
END:STANDARD
END:VTIMEZONE
BEGIN:VEVENT
DTSTART;TZID=America/New_York:20230426T190000
DTEND;TZID=America/New_York:20230426T203000
DTSTAMP:20260421T222046
CREATED:20230414T175542Z
LAST-MODIFIED:20230417T160740Z
UID:12363-1682535600-1682541000@www.bgsqd.com
SUMMARY:Publishing Triangle Finalists Readings: Two Nights\, Hybrid In-Person & Virtual
DESCRIPTION:Join us for two night’s of hybrid in-person & virtual readings by finalists for Publishing Triangle Awards at the Bureau! Both readings will also stream on the Bureau’s YouTube channel: youtube.com/@bgsqd \nReaders on Wednesday\, April 26th: \nPhilip Clark: Invisible History: The Collected Poems of Walta Borawski (Rebel Satori) \nSiaara Freeman: Urbanshee (Button Poetry) \nDavid Santos Donaldson: Greenland (Amistad/Harper Collins) \nEstela González: Arribada (Cynren Press) \nRachel M. Harper: The Other Mother (Counterpoint) \nimogen xtian smith: stemmy things (Nightboat Books) \nAlyssa Songsiridej: Little Rabbit (Bloomsbury Publishing) \nMecca Jamilah Sullivan: Big Girl (Liveright/W.W Norton & Co) \nBooks will be available for purchase! To reserve a copy of any title\, please write to us at contact@bgsqd.com with “Publishing Triangle Finalists Readings” in the subject line. \nThank you for supporting the Bureau by purchasing books from us! \n  \nSuggested donation to benefit the Bureau: $10 \nAll are welcome to join\, with or without a donation. \n  \nThe Publishing Triangle’s 35th Annual Awards Ceremony will take place on Thursday\, April 27th\, at 7 PM\, at The New School’s Tishman Auditorium\, 66 West 12th Street\, between Fifth and Sixth Avenues. All are welcome to attend! \nTo see the full list of finalists for each category visit The Publishing Triangle’s website. \nThe Bureau will sell books at the Awards Ceremony. \n  \nThe Publishing Triangle is a group of queer folks who work to further the publication of books and other materials written by LGBTQ authors or with LGBTQ themes. \nWe come from all types of backgrounds. We are on staff and we’re freelancers. We are editors\, agents\, and booksellers; we work in sub rights\, publicity\, sales\, design\, and production. Many of us are writers. We are also librarians\, teachers\, booksellers\, and even avid readers who don’t work in a publishing-related field. \nOur primary method of shining a much-needed light on queer books is through our awards program. We give out ten awards annually (at an awards ceremony\, usually in April at the New School in Manhattan)\, each with a cash prize of between $500 and $3000. Seven of these awards honor the best books published in the previous calendar year in nonfiction\, fiction\, poetry\, and trans/gender-variant literature. There is a lifetime achievement award and an emerging-writer award; and we also honor a book-industry figure each year (not a writer) with our leadership award. \nThrough our social media and our newsletter—as well as through readings\, social networking events\, and other programs in the New York City area—we strive to promote a sense of camaraderie in the queer literary community. \nMembership dues start at $40 a year for individuals (there are additional levels of membership for families and businesses). For more details\, see our membership page. \nIf you have additional questions about the Triangle and its programs\, please email us at info@publishingtriangle.org or write us at the address listed below. \nThe Publishing Triangle\n511 Avenue of the Americas\, #D36\nNew York\, NY 10011
URL:https://www.bgsqd.com/event/publishing-triangle-finalists-readings-april_26/
LOCATION:Bureau of General Services–Queer Division\, 208 West 13th Street\, Room 210\, New York\, NY\, 10011\, United States
ATTACH;FMTTYPE=image/jpeg:https://www.bgsqd.com/wp-content/uploads/2023/04/April_25_26_PublishingTriangleFinalistsReadings_version4.jpg
END:VEVENT
END:VCALENDAR