BEGIN:VCALENDAR
VERSION:2.0
PRODID:-//BGSQD - ECPv6.15.20//NONSGML v1.0//EN
CALSCALE:GREGORIAN
METHOD:PUBLISH
X-WR-CALNAME:BGSQD
X-ORIGINAL-URL:https://www.bgsqd.com
X-WR-CALDESC:Events for BGSQD
REFRESH-INTERVAL;VALUE=DURATION:PT1H
X-Robots-Tag:noindex
X-PUBLISHED-TTL:PT1H
BEGIN:VTIMEZONE
TZID:America/New_York
BEGIN:DAYLIGHT
TZOFFSETFROM:-0500
TZOFFSETTO:-0400
TZNAME:EDT
DTSTART:20220313T070000
END:DAYLIGHT
BEGIN:STANDARD
TZOFFSETFROM:-0400
TZOFFSETTO:-0500
TZNAME:EST
DTSTART:20221106T060000
END:STANDARD
BEGIN:DAYLIGHT
TZOFFSETFROM:-0500
TZOFFSETTO:-0400
TZNAME:EDT
DTSTART:20230312T070000
END:DAYLIGHT
BEGIN:STANDARD
TZOFFSETFROM:-0400
TZOFFSETTO:-0500
TZNAME:EST
DTSTART:20231105T060000
END:STANDARD
BEGIN:DAYLIGHT
TZOFFSETFROM:-0500
TZOFFSETTO:-0400
TZNAME:EDT
DTSTART:20240310T070000
END:DAYLIGHT
BEGIN:STANDARD
TZOFFSETFROM:-0400
TZOFFSETTO:-0500
TZNAME:EST
DTSTART:20241103T060000
END:STANDARD
END:VTIMEZONE
BEGIN:VEVENT
DTSTART;TZID=America/New_York:20230416T150000
DTEND;TZID=America/New_York:20230416T163000
DTSTAMP:20260421T234020
CREATED:20230317T174520Z
LAST-MODIFIED:20230317T175540Z
UID:12273-1681657200-1681662600@www.bgsqd.com
SUMMARY:Stir Up Magic with House Of Our Queer (in person event & live-streaming)
DESCRIPTION:We all have access to the magic that can change our lives. In this Book Talk\, author Bex Mui\, will share about her ever-growing spiritual toolbox including energy work\, astrology\, tarot\, sacred sexuality\, and honoring ancestors. Bex is thrilled to be in conversation with Tai\, a professional astrologer and co-founder of Novaa Network\, a community for spiritual practitioners. Using the framework of her Bex’s new release\, House of Our Queer: Healing\, Reframing\, and Reclaiming Your Spiritual Practice\, this moderated conversation will center on the blessing of queerness\, and aims to meet participants wherever they are in their energetic and spiritual journeys. If you’re looking for a Sunday energy cleanse and restart for a fresh week\, you don’t want to miss this special event. \n  \nCopies of House of Our Queer: Healing\, Reframing\, and Reclaiming Your Spiritual Practice (Purple Palm Press\, 2023\, paperback\, $19.95) will soon be available at the Bureau’s physical and online stores. \nPlanning to purchase a copy at the event? \nWe strongly encourage you to reserve a copy in advance so that we can be sure to have enough copies on hand. Please write to us at contact@bgsqd.com with “reserve House of Our Queer”  in the subject line. \nThank you for supporting the Bureau by purchasing books from us! \n  \nThis event will take place in person at the Bureau of General Services—Queer Division\, on the second floor (room 210) of The LGBT Community Center\, 208 W. 13th St.\, NYC\, 10011. \nRegistration is not required. Seating is first come\, first served.\nAlso live-streaming at YouTube.com/@bgsqd \n  \nSuggested donation $10 to benefit the Bureau’s work. \nAll are welcome to attend\, with or without donation. \nWe will pass a bag for donations at the start of the event\, but we can also take credit card donations at the register or on Venmo @bgsqd. \n  \nAuthor/presenter: \nBex Mui\, M. Ed\, she/her is a biracial\, first gen\, queer witch\, spiritual organizer\, certified energy worker\, and long-time LGBTQ+ advocate. She is also the founder of House Of Our Queer\, a spiritual playspace for the queer and trans community. Bex is thrilled to return to NYC where she spent her formative 20s to stir up some magic in powerful queer community. \n  \nModerator: \nTai is an astrologer\, brand manager\, and globetrotter from Houston\, TX. She began her consulting practice in 2018 during her time studying criminology and law in London\, England. After traveling the world\, she came back to the USA in 2020\, where she began developing the idea that is now Novaa Network\, a community for spiritual practitioners. Novaa launched with cofounders in 2021\, and has hosted in person and virtual classes\, workshops\, and events with a variety of spiritual creators and practitioners.
URL:https://www.bgsqd.com/event/stir-up-magic-with-house-of-our-queer/
LOCATION:Bureau of General Services–Queer Division\, 208 West 13th Street\, Room 210\, New York\, NY\, 10011\, United States
ATTACH;FMTTYPE=image/jpeg:https://www.bgsqd.com/wp-content/uploads/2023/03/April-16-House-of-Our-Queer-flyer.jpg
ORGANIZER;CN="Bureau of General Services%E2%80%94Queer Division":MAILTO:contact@bgsqd.com
END:VEVENT
END:VCALENDAR