BEGIN:VCALENDAR
VERSION:2.0
PRODID:-//BGSQD - ECPv6.15.20//NONSGML v1.0//EN
CALSCALE:GREGORIAN
METHOD:PUBLISH
X-ORIGINAL-URL:https://www.bgsqd.com
X-WR-CALDESC:Events for BGSQD
REFRESH-INTERVAL;VALUE=DURATION:PT1H
X-Robots-Tag:noindex
X-PUBLISHED-TTL:PT1H
BEGIN:VTIMEZONE
TZID:America/New_York
BEGIN:DAYLIGHT
TZOFFSETFROM:-0500
TZOFFSETTO:-0400
TZNAME:EDT
DTSTART:20220313T070000
END:DAYLIGHT
BEGIN:STANDARD
TZOFFSETFROM:-0400
TZOFFSETTO:-0500
TZNAME:EST
DTSTART:20221106T060000
END:STANDARD
BEGIN:DAYLIGHT
TZOFFSETFROM:-0500
TZOFFSETTO:-0400
TZNAME:EDT
DTSTART:20230312T070000
END:DAYLIGHT
BEGIN:STANDARD
TZOFFSETFROM:-0400
TZOFFSETTO:-0500
TZNAME:EST
DTSTART:20231105T060000
END:STANDARD
BEGIN:DAYLIGHT
TZOFFSETFROM:-0500
TZOFFSETTO:-0400
TZNAME:EDT
DTSTART:20240310T070000
END:DAYLIGHT
BEGIN:STANDARD
TZOFFSETFROM:-0400
TZOFFSETTO:-0500
TZNAME:EST
DTSTART:20241103T060000
END:STANDARD
END:VTIMEZONE
BEGIN:VEVENT
DTSTART;TZID=America/New_York:20230414T190000
DTEND;TZID=America/New_York:20230414T203000
DTSTAMP:20260421T234132
CREATED:20230320T150129Z
LAST-MODIFIED:20230403T153434Z
UID:12271-1681498800-1681504200@www.bgsqd.com
SUMMARY:BETTINA APTHEKER ON COMMUNISTS IN CLOSETS: QUEERING THE HISTORY 1930s-1990s\, WITH SARAH SCHULMAN (in person event & live-streaming)
DESCRIPTION:Bettina Aptheker in a rare New York live appearance\, will be discussing her fascinating new book about queer people and the Communist Party: Communists in Closets: Queering the History\, 1930s-1990s. The book transforms our understanding of the roots of many crucial aspects of queer liberation\, tracing their foundations to rejection by the party and analysis and organizing skills learned in the party. Subjects include Harry Hay and the creation of Mattachine\, Lorraine Hansberry and the Broadway production of Raisin In The Sun\, Alix Dobkin and the creation of lesbian separatism and women’s music\, the founding of Parents and Friends of Lesbians and Gays\, and Angela Davis’s role in and influence by the Communist Party. \nBettina will be interviewed by Sarah Schulman\, Kessler Prize awardee by the Center for Lesbian and Gay Studies. \nA limited number of copies of Communists in Closets: Queering the History\, 1930s-1990s (Routledge\, 2023\, paperback) will be available for purchase at the event at the discounted price of $30 (regularly $48.95). To reserve a copy\, please write to us at contact@bgsqd.com \n\nThank you for supporting the Bureau by purchasing books from us!\n\n  \nThis event will take place in person at the Bureau of General Services—Queer Division\, on the second floor (room 210) of The LGBT Community Center\, 208 W. 13th St.\, NYC\, 10011. \nRegistration is not required. Seating is first come\, first served.\nAlso live-streaming at YouTube.com/@bgsqd \n  \nSuggested donation $10 to benefit the Bureau’s work. \nAll are welcome to attend\, with or without donation. \nWe will pass a bag for donations at the start of the event\, but we can also take credit card donations at the register or on Venmo @bgsqd. \n  \nBettina Aptheker is Distinguished Professor Emerita\, Feminist Studies\, University of California\, Santa Cruz where she taught for more than 40 years\, and had over 17\,000 students in the course of her career. An activist-scholar she co-led the Free Speech Movement at UC Berkeley in 1964\, and the National Student Mobilization Committee To End the War in Vietnam. She was a member of the Communist Party from 1962-1981. She has been part of the LGBT movement since the late 1970s\, She has published several books including\, The Morning Breaks: The Trial of Angela Davis\, Tapestries of Life: Women’s Work\, Women’s Consciousness and the Meaning of Daily Experience\, and a memoir\, Intimate Politics: How I Grew Up Red\, Fought for Free Speech & Became A Feminist Rebel that was nominated for a Lambda Literary Award in 2006. She and her wife\, Kate Miller\, have been together since 1979. They live in Santa Cruz. \n  \n\nSarah Schulman is the author of more than twenty works of fiction (including The Cosmopolitans\, Rat Bohemia\, and Maggie Terry)\, nonfiction (including Stagestruck\, Conflict is Not Abuse\, The Gentrification of the Mind\, Let the Record Show)\, and theater (Carson McCullers\, Manic Flight Reaction\, and more)\, and the producer and screenwriter of several feature films (The Owls\, Mommy Is Coming\, and United in Anger\, among others). Her writing has appeared in The New Yorker\, The New York Times\, Slate\, and many other outlets. She is a Distinguished Professor of Humanities at College of Staten Island\, a Fellow at the New York Institute of Humanities\, the recipient of multiple fellowships from the MacDowell Colony\, Yaddo\, and the New York Foundation for the Arts\, and was presented in 2018 with Publishing Triangle’s Bill Whitehead Award. She is also the cofounder of the MIX New York LGBT Experimental Film and Video Festival\, and the co-director of the groundbreaking ACT UP Oral History Project. A lifelong New Yorker\, she is a longtime activist for queer rights and female empowerment\, and serves on the advisory board of Jewish Voice for Peace. (Author photo by Drew Stevens)
URL:https://www.bgsqd.com/event/bettina-aptheker-on-communists-in-closets-queering-the-history-1930s-1990s-with-sarah-schulman/
LOCATION:Bureau of General Services–Queer Division\, 208 West 13th Street\, Room 210\, New York\, NY\, 10011\, United States
ATTACH;FMTTYPE=image/jpeg:https://www.bgsqd.com/wp-content/uploads/2023/03/April-14-Bettina-Aptheker-Sarah-Schulman-flyer.jpg
ORGANIZER;CN="Bureau of General Services%E2%80%94Queer Division":MAILTO:contact@bgsqd.com
END:VEVENT
END:VCALENDAR