BEGIN:VCALENDAR
VERSION:2.0
PRODID:-//BGSQD - ECPv6.15.20//NONSGML v1.0//EN
CALSCALE:GREGORIAN
METHOD:PUBLISH
X-ORIGINAL-URL:https://www.bgsqd.com
X-WR-CALDESC:Events for BGSQD
REFRESH-INTERVAL;VALUE=DURATION:PT1H
X-Robots-Tag:noindex
X-PUBLISHED-TTL:PT1H
BEGIN:VTIMEZONE
TZID:America/New_York
BEGIN:DAYLIGHT
TZOFFSETFROM:-0500
TZOFFSETTO:-0400
TZNAME:EDT
DTSTART:20220313T070000
END:DAYLIGHT
BEGIN:STANDARD
TZOFFSETFROM:-0400
TZOFFSETTO:-0500
TZNAME:EST
DTSTART:20221106T060000
END:STANDARD
BEGIN:DAYLIGHT
TZOFFSETFROM:-0500
TZOFFSETTO:-0400
TZNAME:EDT
DTSTART:20230312T070000
END:DAYLIGHT
BEGIN:STANDARD
TZOFFSETFROM:-0400
TZOFFSETTO:-0500
TZNAME:EST
DTSTART:20231105T060000
END:STANDARD
BEGIN:DAYLIGHT
TZOFFSETFROM:-0500
TZOFFSETTO:-0400
TZNAME:EDT
DTSTART:20240310T070000
END:DAYLIGHT
BEGIN:STANDARD
TZOFFSETFROM:-0400
TZOFFSETTO:-0500
TZNAME:EST
DTSTART:20241103T060000
END:STANDARD
END:VTIMEZONE
BEGIN:VEVENT
DTSTART;TZID=America/New_York:20230412T180000
DTEND;TZID=America/New_York:20230412T200000
DTSTAMP:20260424T092333
CREATED:20230309T155253Z
LAST-MODIFIED:20230405T201953Z
UID:12235-1681322400-1681329600@www.bgsqd.com
SUMMARY:Opening reception: Slava Mogutin: Analog Human Studies
DESCRIPTION:Please join us for the opening reception of Slava Mogutin: Analog Human Studies\, on Wednesday\, April 12\, 6 to 8 PM.\n  \nSlava Mogutin: Analog Human Studies is on view at the Bureau from April 12 through June 4\, 2023.\n\nOn Sunday\, April 23rd\, at 3 PM\, Slava will screen a project called Gay Propaganda at the Bureau. More details soon. \n  \nAnalog Human Studies is an ongoing project that covers two decades of Slava Mogutin‘s film photography\, from the outtakes from his first monograph Lost Boys (2006) to most recent commission and editorial work\, portraits and nudes taken in NY\, LA\, Berlin and beyond. Based on Mogutin’s new book published by MenOnPaperArt (London)\, the show features a series of works on fabric\, as well as photo collages from Polaroid Rage\, another ongoing project documenting queer communities around the world. \n  \nBorn in Siberia\, Slava Mogutin is a Russian-American artist\, author and activist exiled from Russia for his outspoken queer writing and activism. A third-generation writer and self-taught photographer\, he became the first Russian to be granted political asylum in the US on the grounds of homophobic persecution. Informed by his bicultural dissident and refugee experience\, Mogutin’s work examines the notions of displacement and identity\, pride and shame\, devotion and disaffection\, love and hate.  Mogutin is the author of seven books of writings in Russian\, three monographs of photography and two illustrated collections of poetry published in the US\, as well as numerous artist editions. He’s the winner of Andrei Bely Prize for poetry and the Tom of Finland Foundation Award for artistic achievement. \nCopies of Analog Human Studies (MenOnPaper\, softcover\, 160 pages\, 210 x 297 mm / 8.25 x 11.75 inches\, $50) will be available for purchase at the Bureau.
URL:https://www.bgsqd.com/event/opening-reception-slava-mogutin-analog-human-studies/
LOCATION:Bureau of General Services–Queer Division\, 208 West 13th Street\, Room 210\, New York\, NY\, 10011\, United States
ATTACH;FMTTYPE=image/jpeg:https://www.bgsqd.com/wp-content/uploads/2023/03/slava_analog_BGSQD_evite_02_WEB-1.jpeg
ORGANIZER;CN="Bureau of General Services%E2%80%94Queer Division":MAILTO:contact@bgsqd.com
END:VEVENT
END:VCALENDAR