BEGIN:VCALENDAR
VERSION:2.0
PRODID:-//BGSQD - ECPv6.15.20//NONSGML v1.0//EN
CALSCALE:GREGORIAN
METHOD:PUBLISH
X-ORIGINAL-URL:https://www.bgsqd.com
X-WR-CALDESC:Events for BGSQD
REFRESH-INTERVAL;VALUE=DURATION:PT1H
X-Robots-Tag:noindex
X-PUBLISHED-TTL:PT1H
BEGIN:VTIMEZONE
TZID:America/New_York
BEGIN:DAYLIGHT
TZOFFSETFROM:-0500
TZOFFSETTO:-0400
TZNAME:EDT
DTSTART:20220313T070000
END:DAYLIGHT
BEGIN:STANDARD
TZOFFSETFROM:-0400
TZOFFSETTO:-0500
TZNAME:EST
DTSTART:20221106T060000
END:STANDARD
BEGIN:DAYLIGHT
TZOFFSETFROM:-0500
TZOFFSETTO:-0400
TZNAME:EDT
DTSTART:20230312T070000
END:DAYLIGHT
BEGIN:STANDARD
TZOFFSETFROM:-0400
TZOFFSETTO:-0500
TZNAME:EST
DTSTART:20231105T060000
END:STANDARD
BEGIN:DAYLIGHT
TZOFFSETFROM:-0500
TZOFFSETTO:-0400
TZNAME:EDT
DTSTART:20240310T070000
END:DAYLIGHT
BEGIN:STANDARD
TZOFFSETFROM:-0400
TZOFFSETTO:-0500
TZNAME:EST
DTSTART:20241103T060000
END:STANDARD
END:VTIMEZONE
BEGIN:VEVENT
DTSTART;TZID=America/New_York:20230401T110000
DTEND;TZID=America/New_York:20230401T133000
DTSTAMP:20260421T232104
CREATED:20230328T193317Z
LAST-MODIFIED:20230328T193417Z
UID:12301-1680346800-1680355800@www.bgsqd.com
SUMMARY:Craft Class & Reading with Dana Levin (virtual class - online only)
DESCRIPTION:Join us for a Virtual Craft Class & Reading with Dana Levin. Craft Class will run from 11 AM-1PM EST. Followed by a reading from 1:05 PM-1:20 PM. \nSerious Play: This April Fool’s Day workshop will focus on play–the heart of any strong writing practice. We’ll start with Keats’ notion of negative capability\, discuss associative logic\, and start playing! My hope is that participants will come away refreshed and interested in generating new poems with zest. The workshop will end with a round of Japanese Renga. \nRegistration on Eventbrite is required in order to receive the Zoom link on Friday\, March 31st (the day before the craft class). \nClick here to register\nTo join the class on Saturday\, April 1st\, go to the Eventbrite page where you registered and click on “Access link” (under “When and Where” and “Location.” \nDana Levin’s new book is Now Do You Know Where You Are (Copper Canyon Press\, 2022)\, a New York Times Editors’ Choice. She the author of four other books of poetry\, including Banana Palace (Copper Canyon Press\, 2016) and Sky Burial (Copper Canyon Press\, 2011)\, which The New Yorker called “utterly her own and utterly riveting.” Her poems and essays have appeared in Best American Poetry\, The New York Times\, The American Poetry Review\, The Nation\, Poetry\, and Guesthouse\, among other publications. Levin is a grateful recipient of many fellowships and awards\, including those from the National Endowment for the Arts\, PEN\, the Witter Bynner Foundation and the Library of Congress\, as well as from the Lannan\, Rona Jaffe\, Whiting\, and Guggenheim Foundations. Levin currently serves as Distinguished Writer in Residence at Maryville University in St. Louis and as faculty for the MFA Program for Writers at Warren Wilson College. \nOffice Hours Poetry Workshop is a community-based writing workshop for poets who show a demonstrated commitment to writing. The workshop fellowship culminates in a public reading each fall and spring to showcase sizzling new work. We welcome all poets\, especially people of color\, LGBTQ+\, and those who are womxn-identified. Our Craft Classes are free and open to the public with RSVP. \nThis event is funded in part by Poets & Writers through public funds from the New York City Department of Cultural Affairs\, in partnership with the City Council.
URL:https://www.bgsqd.com/event/craft-class-reading-with-dana-levin-virtual-class-online-only/
LOCATION:online class
ATTACH;FMTTYPE=image/jpeg:https://www.bgsqd.com/wp-content/uploads/2023/03/OH_Dana-Levin.jpeg
END:VEVENT
END:VCALENDAR