BEGIN:VCALENDAR
VERSION:2.0
PRODID:-//BGSQD - ECPv6.15.20//NONSGML v1.0//EN
CALSCALE:GREGORIAN
METHOD:PUBLISH
X-WR-CALNAME:BGSQD
X-ORIGINAL-URL:https://www.bgsqd.com
X-WR-CALDESC:Events for BGSQD
REFRESH-INTERVAL;VALUE=DURATION:PT1H
X-Robots-Tag:noindex
X-PUBLISHED-TTL:PT1H
BEGIN:VTIMEZONE
TZID:America/New_York
BEGIN:DAYLIGHT
TZOFFSETFROM:-0500
TZOFFSETTO:-0400
TZNAME:EDT
DTSTART:20220313T070000
END:DAYLIGHT
BEGIN:STANDARD
TZOFFSETFROM:-0400
TZOFFSETTO:-0500
TZNAME:EST
DTSTART:20221106T060000
END:STANDARD
BEGIN:DAYLIGHT
TZOFFSETFROM:-0500
TZOFFSETTO:-0400
TZNAME:EDT
DTSTART:20230312T070000
END:DAYLIGHT
BEGIN:STANDARD
TZOFFSETFROM:-0400
TZOFFSETTO:-0500
TZNAME:EST
DTSTART:20231105T060000
END:STANDARD
BEGIN:DAYLIGHT
TZOFFSETFROM:-0500
TZOFFSETTO:-0400
TZNAME:EDT
DTSTART:20240310T070000
END:DAYLIGHT
BEGIN:STANDARD
TZOFFSETFROM:-0400
TZOFFSETTO:-0500
TZNAME:EST
DTSTART:20241103T060000
END:STANDARD
END:VTIMEZONE
BEGIN:VEVENT
DTSTART;TZID=America/New_York:20230330T190000
DTEND;TZID=America/New_York:20230330T210000
DTSTAMP:20260421T233151
CREATED:20230313T164930Z
LAST-MODIFIED:20230313T165634Z
UID:12259-1680202800-1680210000@www.bgsqd.com
SUMMARY:Authors in Conversation: Rita Mae Brown and Felice Cohen
DESCRIPTION:The Center\, in partnership with the Bureau of General Services—Queer Division\, present critically acclaimed author Rita Mae Brown in conversation with award-winning author Felice Cohen\, on the occasion of the 50th anniversary of the publication of Brown’s Rubyfruit Jungle . The two will discuss (and celebrate) the works of Rita Mae Brown\, along with writing and life. \nPlease note that seating is first come first served. To request accessibility accommodations for this event\, please contact Richard Morales at rmorales@gaycenter.org by March 22\, 2023. \nThe Bureau of General Services—Queer Division will be on hand to sell copies of Rita Mae Brown’s Rubyfruit Jungle\, Brown’s Hiss & Tell\, and Felice Cohen’s Half In. We encourage attendees to reserve a copy of any of these books to ensure that we have plenty of copies for all. \nPlease write to contact@bgsqd.com (with “March 30th event” in the subject line) and let us know which title(s) you would like to reserve: \nRita Mae Brown’s Rubyfruit Jungle\, (Bantam\, 2015\, paperback\, $17) \nRita Mae Brown’s Hiss & Tell: A Mrs. Murphy Mystery (Bantam\, March 2023\, hardcover\, $28) \nFelice Cohen’s Half In: A Coming-of Age-Memoir of Forbidden Love (Dividends Press\, 2022\, paperback\, $14.99) \nThank you for supporting the Bureau by purchasing books from us! \n  \nBIOS\nRita Mae Brown\nNew York Times bestselling author\, pioneering LGBT-rights activist\, and Emmy-nominated screenwriter Rita Mae Brown has written more than 70 books in a variety of genres. From her groundbreaking coming-of-age novel\, “Rubyfruit Jungle ” to the popular long-running “Mrs. Murphy/Sneak Pie Brown” murder mystery series\, Ms. Brown has been delighting audiences for over five decades. An animal lover and humane hunter\, Brown is a Master and Huntsman of the Oak Ridge Fox Hunt Club (where they chase scent rather than kill foxes). She lives outside Charlottesville\, VA on a 600-acre farm with her many cats\, dogs\, and horses. \nFelice Cohen\nFelice Cohen is the award-winning author of the bestselling books Half In: A Coming-of-Age Memoir of Forbidden\, 90 Lessons for Living Large in 90 Square Feet (…or More) and the universally loved What Papa Told Me\, about her grandfather’s life before\, during and after the Holocaust. Felice has been featured on Good Morning America\, NBC\, CBS\, NPR\,Time\, Globe & Mail\, New York Daily News\, the Daily Mail and more. Felice splits her time between NYC and Cape Cod. \n 
URL:https://www.bgsqd.com/event/authors-in-conversation-rita-mae-brown-and-felice-cohen/
LOCATION:The LGBT Community Center\, 208 West 13th Street\, New York\, NY\, 10011\, United States
ATTACH;FMTTYPE=image/jpeg:https://www.bgsqd.com/wp-content/uploads/2023/03/March-30-Rita-Mae-Brown-and-Felice-Cohen-flyer.jpg
ORGANIZER;CN="The LGBT Community Center":MAILTO:rmorales@gaycenter
END:VEVENT
END:VCALENDAR