BEGIN:VCALENDAR
VERSION:2.0
PRODID:-//BGSQD - ECPv6.15.20//NONSGML v1.0//EN
CALSCALE:GREGORIAN
METHOD:PUBLISH
X-ORIGINAL-URL:https://www.bgsqd.com
X-WR-CALDESC:Events for BGSQD
REFRESH-INTERVAL;VALUE=DURATION:PT1H
X-Robots-Tag:noindex
X-PUBLISHED-TTL:PT1H
BEGIN:VTIMEZONE
TZID:America/New_York
BEGIN:DAYLIGHT
TZOFFSETFROM:-0500
TZOFFSETTO:-0400
TZNAME:EDT
DTSTART:20220313T070000
END:DAYLIGHT
BEGIN:STANDARD
TZOFFSETFROM:-0400
TZOFFSETTO:-0500
TZNAME:EST
DTSTART:20221106T060000
END:STANDARD
BEGIN:DAYLIGHT
TZOFFSETFROM:-0500
TZOFFSETTO:-0400
TZNAME:EDT
DTSTART:20230312T070000
END:DAYLIGHT
BEGIN:STANDARD
TZOFFSETFROM:-0400
TZOFFSETTO:-0500
TZNAME:EST
DTSTART:20231105T060000
END:STANDARD
BEGIN:DAYLIGHT
TZOFFSETFROM:-0500
TZOFFSETTO:-0400
TZNAME:EDT
DTSTART:20240310T070000
END:DAYLIGHT
BEGIN:STANDARD
TZOFFSETFROM:-0400
TZOFFSETTO:-0500
TZNAME:EST
DTSTART:20241103T060000
END:STANDARD
END:VTIMEZONE
BEGIN:VEVENT
DTSTART;TZID=America/New_York:20230326T150000
DTEND;TZID=America/New_York:20230326T163000
DTSTAMP:20260422T004229
CREATED:20230306T200532Z
LAST-MODIFIED:20230306T200723Z
UID:12229-1679842800-1679848200@www.bgsqd.com
SUMMARY:Atmospheres of Violence reading with Eric Stanley and Tourmaline  (in person event & live-streaming)
DESCRIPTION:NYC launch for Eric A. Stanley‘s new book Atmospheres of Violence: Structuring Antagonism and the Trans/Queer Ungovernable (Duke UP). Join Eric and Tourmaline for a conversation around the state’s structuring violence\, abolitionist escape plans\, riotous philosophy in action\, and much more.  \nCopies of Atmospheres of Violence (Duke University Press\, 2021\, paperback\, $24.95) are available at the Bureau’s physical and online stores. \n\n\n\n\n\n\n\n\n\n\n\n\n \n  \nThank you for supporting the Bureau by purchasing books from us!\n  \nThis event will take place in person at the Bureau of General Services—Queer Division\, on the second floor (room 210) of The LGBT Community Center\, 208 W. 13th St.\, NYC\, 10011. \nRegistration is not required. Seating is first come\, first served.\nAlso live-streaming at YouTube.com/@bgsqd \nSuggested donation $10 to benefit the Bureau’s work. \nAll are welcome to attend\, with or without donation. \nWe will pass a bag for donations at the start of the event\, but we can also take credit card donations at the register or on Venmo @bgsqd. \n  \nEric A. Stanley is the author of Atmospheres of Violence Structuring Antagonism and the Trans/Queer Ungovernable and the co-editor of Trap Door: Trans Cultural Production and the Politics of Visibility and Captive Genders: Trans Embodiment and the Prison Industrial Complex.  \n  \nTourmaline is an artist\, filmmaker\, cultural producer\, writer\, and activist whose practice highlights the experiences of Black\, queer\, and trans communities and their capacity to impact the world.\n 
URL:https://www.bgsqd.com/event/atmospheres-of-violence-reading-with-eric-stanley-and-tourmaline/
LOCATION:Bureau of General Services–Queer Division\, 208 West 13th Street\, Room 210\, New York\, NY\, 10011\, United States
ATTACH;FMTTYPE=image/jpeg:https://www.bgsqd.com/wp-content/uploads/2023/03/March-26-Atmospheres-of-Violence-flyer.jpg
ORGANIZER;CN="Bureau of General Services%E2%80%94Queer Division":MAILTO:contact@bgsqd.com
END:VEVENT
END:VCALENDAR