BEGIN:VCALENDAR
VERSION:2.0
PRODID:-//BGSQD - ECPv6.15.20//NONSGML v1.0//EN
CALSCALE:GREGORIAN
METHOD:PUBLISH
X-WR-CALNAME:BGSQD
X-ORIGINAL-URL:https://www.bgsqd.com
X-WR-CALDESC:Events for BGSQD
REFRESH-INTERVAL;VALUE=DURATION:PT1H
X-Robots-Tag:noindex
X-PUBLISHED-TTL:PT1H
BEGIN:VTIMEZONE
TZID:America/New_York
BEGIN:DAYLIGHT
TZOFFSETFROM:-0500
TZOFFSETTO:-0400
TZNAME:EDT
DTSTART:20220313T070000
END:DAYLIGHT
BEGIN:STANDARD
TZOFFSETFROM:-0400
TZOFFSETTO:-0500
TZNAME:EST
DTSTART:20221106T060000
END:STANDARD
BEGIN:DAYLIGHT
TZOFFSETFROM:-0500
TZOFFSETTO:-0400
TZNAME:EDT
DTSTART:20230312T070000
END:DAYLIGHT
BEGIN:STANDARD
TZOFFSETFROM:-0400
TZOFFSETTO:-0500
TZNAME:EST
DTSTART:20231105T060000
END:STANDARD
BEGIN:DAYLIGHT
TZOFFSETFROM:-0500
TZOFFSETTO:-0400
TZNAME:EDT
DTSTART:20240310T070000
END:DAYLIGHT
BEGIN:STANDARD
TZOFFSETFROM:-0400
TZOFFSETTO:-0500
TZNAME:EST
DTSTART:20241103T060000
END:STANDARD
END:VTIMEZONE
BEGIN:VEVENT
DTSTART;TZID=America/New_York:20230322T190000
DTEND;TZID=America/New_York:20230322T200000
DTSTAMP:20260422T031011
CREATED:20230306T171848Z
LAST-MODIFIED:20230320T194445Z
UID:12216-1679511600-1679515200@www.bgsqd.com
SUMMARY:Seeking the Anarchism of Love: A Discussion of Queer Tolstoy (online event)
DESCRIPTION:Please join us online for a discussion about the newly released Queer Tolstoy: A Psychobiography with author Javier Sethness Castro and Joe Scheip\, coordinator of Anarchist Political Ecology.  \nThis event will take place at 7 PM Eastern Daylight Time.\nQueer Tolstoy is a multidimensional work combining psychoanalysis\, political history\, LGBTQ+ studies\, sexology\, ethics\, and theology to explore the life and art of Count Lev Nikolaevich Tolstoy. Our conversation will begin by contemplating queerness as a concept\, based in the psychoanalyst Sigmund Freud’s ideas of universal bisexuality and polymorphous perversity. We will review Tolstoy’s same-sex attachments\, from childhood to old age\, and consider how the artist’s underappreciated queerness influenced his anarchist and anti-militarist politics. We will not\, however\, shy away from Lev’s contradictions and hypocrisy\, whether as a landlord\, a sexist\, or a difficult husband to Sofia Tolstaya. Finally\, before turning to Q&A with the audience\, we will contrast Tolstoy’s vision of free love and universal peace with Russian President Vladimir Putin’s fascist crackdown on the LGBTQ+ community and genocidal wars on Syria and Ukraine. \nCopies of Queer Tolstoy: A Psychobiography  (Routledge\, 2023\, paperback\, $44.95) are available at the Bureau’s physical store and on our online store: \n\n\n\n\n\n\n\n\n\n\n\n\n \nThank you for supporting the Bureau by purchasing books from us! \nThis event will take place online only. In order to join the event on Zoom\, please register on the event page on Eventbrite: \nClick here to register\nAlso live-streaming at YouTube.com/@bgsqd \n  \nJavier Sethness Castro encourages attendees to donate to Solidarity Collectives in support of anti-authoritarian fighters in Ukraine. \nJavier Sethness Castro is a primary-care provider\, and the author and editor of four other books: namely\, Imperiled Life\, For a Free Nature\, Eros and Revolution\, and I Am Action.  \nJoe Scheip is a father to Dachshunds\, an exploited proletarian\, a hater of fascism\, and the coordinator of Anarchist Political Ecology. \n 
URL:https://www.bgsqd.com/event/seeking-the-anarchism-of-love-a-discussion-of-queer-tolstoy-online-event/
LOCATION:Online event\, New York\, NY\, United States
ATTACH;FMTTYPE=image/jpeg:https://www.bgsqd.com/wp-content/uploads/2023/03/March-22-Queer-Tolstoy-updated-EDT.jpg
ORGANIZER;CN="Bureau of General Services%E2%80%94Queer Division":MAILTO:contact@bgsqd.com
END:VEVENT
END:VCALENDAR