BEGIN:VCALENDAR
VERSION:2.0
PRODID:-//BGSQD - ECPv6.15.20//NONSGML v1.0//EN
CALSCALE:GREGORIAN
METHOD:PUBLISH
X-ORIGINAL-URL:https://www.bgsqd.com
X-WR-CALDESC:Events for BGSQD
REFRESH-INTERVAL;VALUE=DURATION:PT1H
X-Robots-Tag:noindex
X-PUBLISHED-TTL:PT1H
BEGIN:VTIMEZONE
TZID:America/New_York
BEGIN:DAYLIGHT
TZOFFSETFROM:-0500
TZOFFSETTO:-0400
TZNAME:EDT
DTSTART:20220313T070000
END:DAYLIGHT
BEGIN:STANDARD
TZOFFSETFROM:-0400
TZOFFSETTO:-0500
TZNAME:EST
DTSTART:20221106T060000
END:STANDARD
BEGIN:DAYLIGHT
TZOFFSETFROM:-0500
TZOFFSETTO:-0400
TZNAME:EDT
DTSTART:20230312T070000
END:DAYLIGHT
BEGIN:STANDARD
TZOFFSETFROM:-0400
TZOFFSETTO:-0500
TZNAME:EST
DTSTART:20231105T060000
END:STANDARD
BEGIN:DAYLIGHT
TZOFFSETFROM:-0500
TZOFFSETTO:-0400
TZNAME:EDT
DTSTART:20240310T070000
END:DAYLIGHT
BEGIN:STANDARD
TZOFFSETFROM:-0400
TZOFFSETTO:-0500
TZNAME:EST
DTSTART:20241103T060000
END:STANDARD
END:VTIMEZONE
BEGIN:VEVENT
DTSTART;TZID=America/New_York:20230314T183000
DTEND;TZID=America/New_York:20230314T210000
DTSTAMP:20260422T031153
CREATED:20230313T154002Z
LAST-MODIFIED:20230313T154457Z
UID:12246-1678818600-1678827600@www.bgsqd.com
SUMMARY:Second Tuesday Presents: Who Does That Bitch Think She Is?
DESCRIPTION:Join author Craig Seligman\, in conversation with Liz Brown\, for the launch of his recently released book Who Does That Bitch Think She Is? (Public Affairs Books\, 2023)\, which explores the exciting new history of drag told through the life of the remarkable\, flawed\, and singular Doris Fish.\n \nTo request an accommodation for this event\, please contact Richard Morales at rmorales@gaycenter.org or 646.502.6370 by March 3\, 2023.\n \nThe Bureau of General Services—Queer Division will be on hand to sell copies of Craig Seligman’s Who Does That Bitch Think She Is? (Public Affairs\, 2023\, hardcover\, $29). We encourage attendees to reserve a copy of the book to ensure that we have plenty of copies for all.  \nPlease write to contact@bgsqd.com (with “March 14th event” in the subject line). Thank you for supporting the Bureau by purchasing books from us!\n \nABOUT WHO DOES THAT BITCH THINK SHE IS?\nIn the 1970s\, gay men and lesbian women were openly despised\, and drag queens scared the public. Yet that was the era when Doris Fish (born Philip Mills in 1952) painted and padded his way to stardom. He was a leader of the generation that prepared the world not just for drag queens on TV\, but for a society that welcomes and even celebrates queer people. How did we get from there to here? In Who Does That Bitch Think She Is? Craig Seligman looks at Doris’s short but overstuffed life as a way to provide some answers.\n \nSeligman recounts this dynamic period in queer history—from Stonewall to AIDS—providing insight into how our ideas about gender have broadened to make drag the phenomenon we know it as today. In a book filled with interviews and letters about a life that ricocheted between humor and tragedy\, he revisits the places and people Doris knew in order to shed light on the multihued era that his remarkable life encapsulated.\n \nABOUT THE AUTHOR\nCraig Seligman has written for and edited a host of magazines\, journals\, newspapers\, and websites. He is the author of “Sontag and Kael: Opposites Attract Me” (Counterpoint LLC\, 2004). Craig resides in Brooklyn.\n \nABOUT LIZ BROWN\nLiz Brown is the author of “Twilight Man: Love and Ruin in the Shadows of Hollywood and the Clark Empire.” Her writing has appeared in Bookforum\, London Review of Books\, Los Angeles Times\, New York Times Book Review\, Slate\, and elsewhere.\n 
URL:https://www.bgsqd.com/event/second-tuesday-presents-who-does-that-bitch-think-she-is/
LOCATION:The LGBT Community Center\, 208 West 13th Street\, New York\, NY\, 10011\, United States
ATTACH;FMTTYPE=image/jpeg:https://www.bgsqd.com/wp-content/uploads/2023/03/Second-Tuesday-Who-Does-that-Bitch-Think-She-Is.jpeg
ORGANIZER;CN="The LGBT Community Center":MAILTO:rmorales@gaycenter
END:VEVENT
END:VCALENDAR