BEGIN:VCALENDAR
VERSION:2.0
PRODID:-//BGSQD - ECPv6.15.20//NONSGML v1.0//EN
CALSCALE:GREGORIAN
METHOD:PUBLISH
X-ORIGINAL-URL:https://www.bgsqd.com
X-WR-CALDESC:Events for BGSQD
REFRESH-INTERVAL;VALUE=DURATION:PT1H
X-Robots-Tag:noindex
X-PUBLISHED-TTL:PT1H
BEGIN:VTIMEZONE
TZID:America/New_York
BEGIN:DAYLIGHT
TZOFFSETFROM:-0500
TZOFFSETTO:-0400
TZNAME:EDT
DTSTART:20220313T070000
END:DAYLIGHT
BEGIN:STANDARD
TZOFFSETFROM:-0400
TZOFFSETTO:-0500
TZNAME:EST
DTSTART:20221106T060000
END:STANDARD
BEGIN:DAYLIGHT
TZOFFSETFROM:-0500
TZOFFSETTO:-0400
TZNAME:EDT
DTSTART:20230312T070000
END:DAYLIGHT
BEGIN:STANDARD
TZOFFSETFROM:-0400
TZOFFSETTO:-0500
TZNAME:EST
DTSTART:20231105T060000
END:STANDARD
BEGIN:DAYLIGHT
TZOFFSETFROM:-0500
TZOFFSETTO:-0400
TZNAME:EDT
DTSTART:20240310T070000
END:DAYLIGHT
BEGIN:STANDARD
TZOFFSETFROM:-0400
TZOFFSETTO:-0500
TZNAME:EST
DTSTART:20241103T060000
END:STANDARD
END:VTIMEZONE
BEGIN:VEVENT
DTSTART;TZID=America/New_York:20230219T150000
DTEND;TZID=America/New_York:20230219T163000
DTSTAMP:20260422T044158
CREATED:20230127T170411Z
LAST-MODIFIED:20230213T173143Z
UID:12119-1676818800-1676824200@www.bgsqd.com
SUMMARY:RED CLAY SUZIE: Coming of Age Queer in the Deep South (in person event & live-streaming)
DESCRIPTION:In conversation with Jeffrey Dale Lofton\, including readings by the author from his award-winning debut novel RED CLAY SUZIE\, a fictionalized memoir of growing up gay and physically misshapen in a deeply conservative family and community in the Deep South. \nJeffrey will be joined in conversation by author Ryan La Sala \nCopies of Red Clay Suzie (Post Hill Press\, 2023\, hardcover\, $28) are available for purchase at the Bureau and can be purchased at the event or on our online store: \n\n\n\n\n\n\n\n\n\n\n\n\n \nThank you for supporting the Bureau by purchasing books from us! \nThis event will take place in person at the Bureau of General Services—Queer Division\, on the second floor (room 210) of The LGBT Community Center\, 208 W. 13th St.\, NYC\, 10011. \nRegistration is not required. Seating is first come\, first served. \nAlso live-streaming at YouTube.com/@bgsqd \n  \nSuggested donation $10 to benefit the Bureau’s work. \nAll are welcome to attend\, with or without donation. \nWe will pass a bag for donations at the start of the event\, but we can also take credit card donations at the register or on Venmo @bgsqd. \n  \nJeffrey Lofton hails from Warm Springs\, Georgia\, best known as the home of Roosevelt’s Little White House. He calls the nation’s capital home now and has for over three decades. During those early years he spent many a night trodding the boards of the DC’s theaters and performing arts centers\, including the Kennedy Center\, Signature Theatre\, Woolly Mammoth\, and Studio Theatre. He even scored a few television screen appearances\, including a residuals-rich Super Bowl halftime commercial\, which his accountant quipped “is the finest work of your career.”  \nUltimately he stepped away from acting for other pursuits\, including helping war veterans tell their stories to add richness and nuance to historical accounts. At the same time\, he focused on pursuing post-graduate work\, ultimately being awarded Master’s degrees in both Public Administration and Library and Information Science. Today\, he is a senior advisor at the Library of Congress\, surrounded by books and people who love books—in short\, paradise. \n  \nRyan La Sala writes about surreal things happening to queer people. He is the author behind the luminous and terrifying horror The Honeys. His previous titles include the riotously imaginative Reverie\, and the brilliantly constructed Be Dazzled\, both of which made the Kids’ Indie Next List. He has been featured in Entertainment Weekly\, NPR\, Tor.com. Ryan is the host of the infamous Bad Author Book Club Podcast\, and a frequent speaker at events/conferences. When not writing\, Ryan does arts & crafts\, and rollerblades around Central Park. His next book\, BEHOLDER\, will be published in October 2023 with Scholastic Press.
URL:https://www.bgsqd.com/event/red-clay-suzie-coming-of-age-queer-in-the-deep-south/
LOCATION:Bureau of General Services–Queer Division\, 208 West 13th Street\, Room 210\, New York\, NY\, 10011\, United States
ATTACH;FMTTYPE=image/jpeg:https://www.bgsqd.com/wp-content/uploads/2023/01/Feb-19-Red-Clay-Suzie-flyer-updated.jpg
ORGANIZER;CN="Bureau of General Services%E2%80%94Queer Division":MAILTO:contact@bgsqd.com
END:VEVENT
END:VCALENDAR