BEGIN:VCALENDAR
VERSION:2.0
PRODID:-//BGSQD - ECPv6.15.20//NONSGML v1.0//EN
CALSCALE:GREGORIAN
METHOD:PUBLISH
X-ORIGINAL-URL:https://www.bgsqd.com
X-WR-CALDESC:Events for BGSQD
REFRESH-INTERVAL;VALUE=DURATION:PT1H
X-Robots-Tag:noindex
X-PUBLISHED-TTL:PT1H
BEGIN:VTIMEZONE
TZID:America/New_York
BEGIN:DAYLIGHT
TZOFFSETFROM:-0500
TZOFFSETTO:-0400
TZNAME:EDT
DTSTART:20220313T070000
END:DAYLIGHT
BEGIN:STANDARD
TZOFFSETFROM:-0400
TZOFFSETTO:-0500
TZNAME:EST
DTSTART:20221106T060000
END:STANDARD
BEGIN:DAYLIGHT
TZOFFSETFROM:-0500
TZOFFSETTO:-0400
TZNAME:EDT
DTSTART:20230312T070000
END:DAYLIGHT
BEGIN:STANDARD
TZOFFSETFROM:-0400
TZOFFSETTO:-0500
TZNAME:EST
DTSTART:20231105T060000
END:STANDARD
BEGIN:DAYLIGHT
TZOFFSETFROM:-0500
TZOFFSETTO:-0400
TZNAME:EDT
DTSTART:20240310T070000
END:DAYLIGHT
BEGIN:STANDARD
TZOFFSETFROM:-0400
TZOFFSETTO:-0500
TZNAME:EST
DTSTART:20241103T060000
END:STANDARD
END:VTIMEZONE
BEGIN:VEVENT
DTSTART;TZID=America/New_York:20230218T183000
DTEND;TZID=America/New_York:20230218T210000
DTSTAMP:20260424T155653
CREATED:20230127T162018Z
LAST-MODIFIED:20230215T194311Z
UID:12112-1676745000-1676754000@www.bgsqd.com
SUMMARY:SECOND TUESDAY PRESENTS: A PILL FOR PROMISCUITY – GAY SEX IN AN AGE OF PHARMACEUTICALS
DESCRIPTION:Join editor\, Andrew Spieldenner\, in conversation with contributors Justice Jamal Jones and Ted Kerr\, for the launch of the recently released book A Pill for Promiscuity – Gay Sex in an Age of Pharmaceuticals (Rutgers University Press 2023)\, which brings together artists\, academics\, and artists from various disciplines to reflect on how gay sex has altered in a post-PrEP era. \nRegister to Attend: https://gaycenter.org/a-pill-for-promiscuity/ \nPlease note that February 2023’s Second Tuesday will be taking place on a Saturday. To request an accommodation for this event\, please contact Richard Morales at rmorales@gaycenter.org or 646.502.6370 by February 10\, 2023. \nABOUT A PILL FOR PROMISCUITY – GAY SEX IN AN AGE OF PHARMACEUTICALS \nA Pill for Promiscuity brings together academics\, artists\, and activists—from different generations\, countries\, ethnic backgrounds\, and HIV statuses—to reflect on how gay sex has changed in a post-PrEP era. Some offer personal perspectives on the value of promiscuity and the sexual communities it fosters\, while others critique unequal access to PrEP\, and the increased role Big Pharma now plays in gay life. With a diverse group of contributors that includes novelist Andrew Holleran\, trans scholar Lore/tta LeMaster\, cartoonist Steve MacIsaac\, and pornographic film director Mister Pam\, this book asks provocative questions about how we might reimagine queer sex and sexuality in the 21st century. \nThe Bureau will be on hand at the event to sell copies of A Pill for Promiscuity  (Rutgers University Press\, 2023\, paperback\, $16.95). We encourage you to reserve a copy of the book if you plan on purchasing it. Please write to us at contact@bgsqd.com with “please reserve a copy of A Pill for Promiscuity” in the subject line. \nThank you for supporting the Bureau by purchasing books from us! \n  \nABOUT THE EDITORS \nAndrew Spieldenner is the Executive Director of MPact: Global Action for Gay Rights and associate professor of communication at California State University San Marcos. Openly living with HIV\, he writes about LGBTQ community\, HIV\, and disability\, while serving as co-editor for the collections Intercultural Health Communication and Post-AIDS. \n  \nJeffrey Escoffier (1942-2022) was a research associate and faculty member at the Brooklyn Institute for Social Research. He was one of the founders and the publisher of the pioneering LGBTQ journal “OUT/LOOK\,” and is author of the books\, “Bigger Than Life\, American Homo\,” and “Sex\, Society\, and the Making of Pornography” (Rutgers University Press). \n  \nABOUT THE CONTRIBUTORS \nJustice Jamal Jones (she/he/they) is a filmmaker\, actor\, and writer based in New York City. As a Black Queer Alchemist\, they integrate Black Feminist Queer theory alongside Black diasporic spirituality\, such as Vodou (Voodoo)\, into their work. Their debut film “How To Raise a Black Boy” was a reimagining of Jones’ childhood linking their boyhood to their identity as a nonbinary artist. The film was internationally recognized at over 30 film festivals\, earning 10 awards. Justice is a 2021 Sundance Ignite Fellow\, and in 2022 was a commissioned director for MTV and Calvin Klein. Jones was also a guest on Good Morning America’s Hulu special “A Conversation Between Black Men\,” where Jones was an advocate for Black trans and nonbinary individuals. In 2023 Jones’ sophomore film “Crossroads Blues” was set for pre-production\, alongside the release of the anthology\, “A Pill for Promiscuity.” Jones enjoys dinner parties with friends\, the occasional glass of green Chartreuse\, and playing with their kitty\, Esu. \n  \nCanadian-born Theodore (Ted) Kerr is a Brooklyn-based writer and organizer whose work focuses on HIV/AIDS\, community\, and culture. In 2022\, his book “We Are Having This Conversation Now: The Times of AIDS Cultural Production\,” with co-author\, Alexandra Juhasz\, was published by Duke University Press. His writing has also appeared in Women’s Studies Quarterly\, The New Inquiry\, BOMB\, CBC (Canada)\, Lambda Literary\, POZ Magazine\, The Advocate\, Cineaste\, The St. Louis American\, IndieWire\, HyperAllergic\, and other publications. \n 
URL:https://www.bgsqd.com/event/second-tuesday-presents-a-pill-for-promiscuity-gay-sex-in-an-age-of-pharmaceuticals/
LOCATION:The LGBT Community Center\, 208 West 13th Street\, New York\, NY\, 10011\, United States
ATTACH;FMTTYPE=image/jpeg:https://www.bgsqd.com/wp-content/uploads/2023/01/Feb-18-Pill-for-Promiscuity.jpg
ORGANIZER;CN="The LGBT Community Center":MAILTO:rmorales@gaycenter
END:VEVENT
END:VCALENDAR