BEGIN:VCALENDAR
VERSION:2.0
PRODID:-//BGSQD - ECPv6.15.20//NONSGML v1.0//EN
CALSCALE:GREGORIAN
METHOD:PUBLISH
X-ORIGINAL-URL:https://www.bgsqd.com
X-WR-CALDESC:Events for BGSQD
REFRESH-INTERVAL;VALUE=DURATION:PT1H
X-Robots-Tag:noindex
X-PUBLISHED-TTL:PT1H
BEGIN:VTIMEZONE
TZID:America/New_York
BEGIN:DAYLIGHT
TZOFFSETFROM:-0500
TZOFFSETTO:-0400
TZNAME:EDT
DTSTART:20220313T070000
END:DAYLIGHT
BEGIN:STANDARD
TZOFFSETFROM:-0400
TZOFFSETTO:-0500
TZNAME:EST
DTSTART:20221106T060000
END:STANDARD
BEGIN:DAYLIGHT
TZOFFSETFROM:-0500
TZOFFSETTO:-0400
TZNAME:EDT
DTSTART:20230312T070000
END:DAYLIGHT
BEGIN:STANDARD
TZOFFSETFROM:-0400
TZOFFSETTO:-0500
TZNAME:EST
DTSTART:20231105T060000
END:STANDARD
BEGIN:DAYLIGHT
TZOFFSETFROM:-0500
TZOFFSETTO:-0400
TZNAME:EDT
DTSTART:20240310T070000
END:DAYLIGHT
BEGIN:STANDARD
TZOFFSETFROM:-0400
TZOFFSETTO:-0500
TZNAME:EST
DTSTART:20241103T060000
END:STANDARD
END:VTIMEZONE
BEGIN:VEVENT
DTSTART;TZID=America/New_York:20230210T180000
DTEND;TZID=America/New_York:20230210T200000
DTSTAMP:20260424T104237
CREATED:20230124T205023Z
LAST-MODIFIED:20230206T155930Z
UID:12101-1676052000-1676059200@www.bgsqd.com
SUMMARY:Opening Reception for It Will End in Tears. Charlie Welch
DESCRIPTION:The Bureau is proud to present It will end in tears.\, a solo exhibition of collages by Charlie Welch. \nIt will end in tears. will be on view at the Bureau from February 10 through April 9\, 2023. \nCharlie will host a collage party at the Bureau on Saturday\, March 11th. Details forthcoming.\n  \nArtist’s statement:\n  \n“The collages included in It Will End in Tears. began as meditations\, typically created first thing in the morning. I have multiple sources that I use for references\, as well as many folders of images that I’ve been saving for many years. One day I started playing with layering and cropping of images in order to tell different stories\, unrelated to their original contexts\, and usually those stories are about desire.”\n  \nCharlie Welch received a BFA\, with a focus on photography\, from Otis Art Institute of Parsons School of Design in Los Angeles in 1989. After graduating he moved to New York where he worked as a photo assistant for Josef Astor and David Seidner. In 1994 he began working in window displays at Barneys\, Bergdorf Goodman and Ralph Lauren. In 1998 he began assisting as a prop stylist and set designer and went solo three years later. In 2006 he moved to Barcelona to continue his art studies at Metàfora International Workshop focusing on sculpture\, installation and public intervention. At the end of 2008 he returned to New York and resumed working as a prop stylist\, set designer and photographer\, while also putting more focus on his personal work. \nHis experience from commercial work comes into play with his fine art. Photography is his main medium\, but he also incorporates sculpture and collage. Constructed environments and playful sets are signatures of his work\, which conveys narratives about identity formation\, public and private selves\, and how we navigate daily life. \nCharlie is a co-founder of the NY Queer Zine Fair and co-organizer from 2015-2018. He also was part of the Queer Action Figures collective (1994-96) and one half of KNOWSGAY\, along with Paul Anthony Moreno. Charlie’s projects include short films\, collage\, photography\, limited edition stickers\, t-shirts\, posters\, objects and zines. He draws his inspiration from dirty sailors\, fancy desserts and sad pop songs.  \nHe is also an award-winning pie baker. \n 
URL:https://www.bgsqd.com/event/it-will-end-in-tears-charlie-welch-opening/
LOCATION:Bureau of General Services–Queer Division\, 208 West 13th Street\, Room 210\, New York\, NY\, 10011\, United States
ATTACH;FMTTYPE=image/jpeg:https://www.bgsqd.com/wp-content/uploads/2023/01/BGSQD_WELCH_10FEB_flyer.jpeg
ORGANIZER;CN="Bureau of General Services%E2%80%94Queer Division":MAILTO:contact@bgsqd.com
END:VEVENT
END:VCALENDAR