BEGIN:VCALENDAR
VERSION:2.0
PRODID:-//BGSQD - ECPv6.15.20//NONSGML v1.0//EN
CALSCALE:GREGORIAN
METHOD:PUBLISH
X-WR-CALNAME:BGSQD
X-ORIGINAL-URL:https://www.bgsqd.com
X-WR-CALDESC:Events for BGSQD
REFRESH-INTERVAL;VALUE=DURATION:PT1H
X-Robots-Tag:noindex
X-PUBLISHED-TTL:PT1H
BEGIN:VTIMEZONE
TZID:America/New_York
BEGIN:DAYLIGHT
TZOFFSETFROM:-0500
TZOFFSETTO:-0400
TZNAME:EDT
DTSTART:20220313T070000
END:DAYLIGHT
BEGIN:STANDARD
TZOFFSETFROM:-0400
TZOFFSETTO:-0500
TZNAME:EST
DTSTART:20221106T060000
END:STANDARD
BEGIN:DAYLIGHT
TZOFFSETFROM:-0500
TZOFFSETTO:-0400
TZNAME:EDT
DTSTART:20230312T070000
END:DAYLIGHT
BEGIN:STANDARD
TZOFFSETFROM:-0400
TZOFFSETTO:-0500
TZNAME:EST
DTSTART:20231105T060000
END:STANDARD
BEGIN:DAYLIGHT
TZOFFSETFROM:-0500
TZOFFSETTO:-0400
TZNAME:EDT
DTSTART:20240310T070000
END:DAYLIGHT
BEGIN:STANDARD
TZOFFSETFROM:-0400
TZOFFSETTO:-0500
TZNAME:EST
DTSTART:20241103T060000
END:STANDARD
END:VTIMEZONE
BEGIN:VEVENT
DTSTART;TZID=America/New_York:20230209T190000
DTEND;TZID=America/New_York:20230209T203000
DTSTAMP:20260422T031017
CREATED:20230117T154654Z
LAST-MODIFIED:20230208T184738Z
UID:12088-1675969200-1675974600@www.bgsqd.com
SUMMARY:CELEBRATING OLD\, QUEER & KICKING! (in person event & live-streaming)
DESCRIPTION:Jonathan Ned Katz talks about his art & history\, work & life. \nFor his 85th birthday\, historian\, and visual artist Jonathan Ned Katz celebrates old queers. \nThis event will take place in person at the Bureau of General Services—Queer Division\, on the second floor (room 210) of The LGBT Community Center\, 208 W. 13th St.\, NYC\, 10011. \nRegistration is not required. Seating is first come\, first served. \nAlso live-streaming on the Bureau’s YouTube channel \n  \nSuggested donation $10 to benefit the Bureau’s work. \nAll are welcome to attend\, with or without donation. \nWe will pass a bag for donations at the start of the event\, but we can also take credit card donations at the register or on Venmo @bgsqd. \n  \nJonathan Ned Katz is a historian activist\, and visual artist. He has published five books on the history of sexuality and intimacy\, most recently The Daring Life and Dangerous Times of Eve Adams (2021). He founded the free US LGBTQ public history website OutHistory.org (2008). In 2013 a solo exhibit of Katz’ visual art was held at the Leslie-Lohman Museum\, NYC and Katz published a memoir\, Coming of Age in Greenwich Village. That show was curated by Jonathan David Katz (no relation).
URL:https://www.bgsqd.com/event/celebrating-old-queer-kicking/
LOCATION:Bureau of General Services–Queer Division\, 208 West 13th Street\, Room 210\, New York\, NY\, 10011\, United States
ATTACH;FMTTYPE=image/jpeg:https://www.bgsqd.com/wp-content/uploads/2023/01/Feb-9-Jonathan-Ned-Katz-flyer.jpg
ORGANIZER;CN="Bureau of General Services%E2%80%94Queer Division":MAILTO:contact@bgsqd.com
END:VEVENT
END:VCALENDAR