BEGIN:VCALENDAR
VERSION:2.0
PRODID:-//BGSQD - ECPv6.15.20//NONSGML v1.0//EN
CALSCALE:GREGORIAN
METHOD:PUBLISH
X-ORIGINAL-URL:https://www.bgsqd.com
X-WR-CALDESC:Events for BGSQD
REFRESH-INTERVAL;VALUE=DURATION:PT1H
X-Robots-Tag:noindex
X-PUBLISHED-TTL:PT1H
BEGIN:VTIMEZONE
TZID:America/New_York
BEGIN:DAYLIGHT
TZOFFSETFROM:-0500
TZOFFSETTO:-0400
TZNAME:EDT
DTSTART:20220313T070000
END:DAYLIGHT
BEGIN:STANDARD
TZOFFSETFROM:-0400
TZOFFSETTO:-0500
TZNAME:EST
DTSTART:20221106T060000
END:STANDARD
BEGIN:DAYLIGHT
TZOFFSETFROM:-0500
TZOFFSETTO:-0400
TZNAME:EDT
DTSTART:20230312T070000
END:DAYLIGHT
BEGIN:STANDARD
TZOFFSETFROM:-0400
TZOFFSETTO:-0500
TZNAME:EST
DTSTART:20231105T060000
END:STANDARD
BEGIN:DAYLIGHT
TZOFFSETFROM:-0500
TZOFFSETTO:-0400
TZNAME:EDT
DTSTART:20240310T070000
END:DAYLIGHT
BEGIN:STANDARD
TZOFFSETFROM:-0400
TZOFFSETTO:-0500
TZNAME:EST
DTSTART:20241103T060000
END:STANDARD
END:VTIMEZONE
BEGIN:VEVENT
DTSTART;TZID=America/New_York:20230128T143000
DTEND;TZID=America/New_York:20230128T160000
DTSTAMP:20260424T180351
CREATED:20221230T223240Z
LAST-MODIFIED:20221230T223240Z
UID:12018-1674916200-1674921600@www.bgsqd.com
SUMMARY:Finding Your Voice Through Self-Publishing (in person event & live-streaming)
DESCRIPTION:Join a conversation about self-publishing and finding your voice\, hosted by the Bureau of General Services – Queer Division. The speakers are Fashion Photographer and author of NAKNA and Face of Beauty\, Mikael Shultz; and illustrator and author of A Visual Diary\, and Jojoba\, Anthony Amiewalan. They will discuss their process of self-publishing their books\, share their respective works through reading and photo essays\, and the influence their gay identities has in their art. Darius Somers\, Pratt University professor\, and architect\, will guide the discussion\, revealing the various themes that shape the presenters’ work. \nThis event will take place in person at the Bureau of General Services—Queer Division\, on the second floor (room 210) of The LGBT Community Center\, 208 W. 13th St.\, NYC\, 10011. \nRegistration is not required. Seating is first come\, first served. \nAlso live-streaming on the Bureau’s YouTube channel \n  \nSuggested donation $10 to benefit the Bureau’s work. \nAll are welcome to attend\, with or without donation. \nWe will pass a bag for donations at the start of the event\, but we can also take credit card donations at the register or on Venmo @bgsqd. \n  \nBooks by Mikael Shultz and Anthony Amiewalan will be available for purchase at the event.
URL:https://www.bgsqd.com/event/finding-your-voice-through-self-publishing/
LOCATION:Bureau of General Services–Queer Division\, 208 West 13th Street\, Room 210\, New York\, NY\, 10011\, United States
ATTACH;FMTTYPE=image/png:https://www.bgsqd.com/wp-content/uploads/2022/12/Screen-Shot-2022-12-30-at-5.30.33-PM.png
ORGANIZER;CN="Bureau of General Services%E2%80%94Queer Division":MAILTO:contact@bgsqd.com
END:VEVENT
END:VCALENDAR