BEGIN:VCALENDAR
VERSION:2.0
PRODID:-//BGSQD - ECPv6.15.20//NONSGML v1.0//EN
CALSCALE:GREGORIAN
METHOD:PUBLISH
X-WR-CALNAME:BGSQD
X-ORIGINAL-URL:https://www.bgsqd.com
X-WR-CALDESC:Events for BGSQD
REFRESH-INTERVAL;VALUE=DURATION:PT1H
X-Robots-Tag:noindex
X-PUBLISHED-TTL:PT1H
BEGIN:VTIMEZONE
TZID:America/New_York
BEGIN:DAYLIGHT
TZOFFSETFROM:-0500
TZOFFSETTO:-0400
TZNAME:EDT
DTSTART:20220313T070000
END:DAYLIGHT
BEGIN:STANDARD
TZOFFSETFROM:-0400
TZOFFSETTO:-0500
TZNAME:EST
DTSTART:20221106T060000
END:STANDARD
BEGIN:DAYLIGHT
TZOFFSETFROM:-0500
TZOFFSETTO:-0400
TZNAME:EDT
DTSTART:20230312T070000
END:DAYLIGHT
BEGIN:STANDARD
TZOFFSETFROM:-0400
TZOFFSETTO:-0500
TZNAME:EST
DTSTART:20231105T060000
END:STANDARD
BEGIN:DAYLIGHT
TZOFFSETFROM:-0500
TZOFFSETTO:-0400
TZNAME:EDT
DTSTART:20240310T070000
END:DAYLIGHT
BEGIN:STANDARD
TZOFFSETFROM:-0400
TZOFFSETTO:-0500
TZNAME:EST
DTSTART:20241103T060000
END:STANDARD
END:VTIMEZONE
BEGIN:VEVENT
DTSTART;TZID=America/New_York:20230113T190000
DTEND;TZID=America/New_York:20230113T203000
DTSTAMP:20260424T180345
CREATED:20221217T214113Z
LAST-MODIFIED:20221219T192804Z
UID:12006-1673636400-1673641800@www.bgsqd.com
SUMMARY:Author Event: On Learning to Heal by Ed Cohen (in person event & live-streaming)
DESCRIPTION:Join professor Ed Cohen on Friday\, January 13 at 7:00pm (ET) for the launch of his new book\, ON LEARNING TO HEAL. He will be in conversation with Emily Lim Rogers. \nThe event will consist of a reading\, book talk\, Q&A\, and signing.  \nAbout ON LEARNING TO HEAL: At age thirteen\, Ed Cohen was diagnosed with Crohn’s disease—a chronic\, incurable condition that nearly killed him in his early twenties. At his diagnosis\, his doctors told him that the best he could hope for would be periods of remission. Unfortunately\, doctors never mentioned healing as a possibility. In ON LEARNING TO HEAL\, Cohen draws on fifty years of living with Crohn’s to consider how Western medicine’s turn from an “art of healing” toward a “science of medicine” deeply affects both medical practitioners and their patients. He demonstrates that although medicine can now offer many seemingly miraculous therapies\, medicine is not and has never been the only way to enhance healing. Exploring his own path to healing\, he argues that learning to heal requires us to desire and value healing as a vital possibility. With this book\, Cohen advocates reviving healing’s role for all those whose lives are touched by illness. \nThis event will take place in person at the Bureau of General Services—Queer Division\, on the second floor (room 210) of The LGBT Community Center\, 208 W. 13th St.\, NYC\, 10011. \nRegistration is not required. Seating is first come\, first served. \nAlso live-streaming on the Bureau’s YouTube channel \n  \nSuggested donation $10 to benefit the Bureau’s work. \nAll are welcome to attend\, with or without donation. \nWe will pass a bag for donations at the start of the event\, but we can also take credit card donations at the register or on Venmo @bgsqd. \n  \nEd Cohen is Professor of Women’s\, Gender\, and Sexuality Studies at Rutgers University and author of A Body Worth Defending\, also published by Duke University Press. He hosts a therapeutic practice for people interested in healing: healingcounsel.com.  \n  \nEmily Lim Rogers is the Mellon Postdoctoral Fellow in Disability Studies at Brown University. She writes about chronic fatigue syndrome/myalgic encephalomyelitis\, biomedicine\, and debility. Her work has appeared in Medical Anthropology Quarterly and Somatosphere\, and she is a contributor to the forthcoming anthology Crip Authorship: Disability as Method (NYU Press\, 2023).
URL:https://www.bgsqd.com/event/author-event-on-learning-to-heal-by-ed-cohen/
LOCATION:Bureau of General Services–Queer Division\, 208 West 13th Street\, Room 210\, New York\, NY\, 10011\, United States
ATTACH;FMTTYPE=image/jpeg:https://www.bgsqd.com/wp-content/uploads/2022/12/Jan-13-2023-Learning-to-Heal-corrected.jpg
ORGANIZER;CN="Bureau of General Services%E2%80%94Queer Division":MAILTO:contact@bgsqd.com
END:VEVENT
END:VCALENDAR