BEGIN:VCALENDAR
VERSION:2.0
PRODID:-//BGSQD - ECPv6.15.20//NONSGML v1.0//EN
CALSCALE:GREGORIAN
METHOD:PUBLISH
X-WR-CALNAME:BGSQD
X-ORIGINAL-URL:https://www.bgsqd.com
X-WR-CALDESC:Events for BGSQD
REFRESH-INTERVAL;VALUE=DURATION:PT1H
X-Robots-Tag:noindex
X-PUBLISHED-TTL:PT1H
BEGIN:VTIMEZONE
TZID:America/New_York
BEGIN:DAYLIGHT
TZOFFSETFROM:-0500
TZOFFSETTO:-0400
TZNAME:EDT
DTSTART:20220313T070000
END:DAYLIGHT
BEGIN:STANDARD
TZOFFSETFROM:-0400
TZOFFSETTO:-0500
TZNAME:EST
DTSTART:20221106T060000
END:STANDARD
BEGIN:DAYLIGHT
TZOFFSETFROM:-0500
TZOFFSETTO:-0400
TZNAME:EDT
DTSTART:20230312T070000
END:DAYLIGHT
BEGIN:STANDARD
TZOFFSETFROM:-0400
TZOFFSETTO:-0500
TZNAME:EST
DTSTART:20231105T060000
END:STANDARD
BEGIN:DAYLIGHT
TZOFFSETFROM:-0500
TZOFFSETTO:-0400
TZNAME:EDT
DTSTART:20240310T070000
END:DAYLIGHT
BEGIN:STANDARD
TZOFFSETFROM:-0400
TZOFFSETTO:-0500
TZNAME:EST
DTSTART:20241103T060000
END:STANDARD
END:VTIMEZONE
BEGIN:VEVENT
DTSTART;TZID=America/New_York:20230104T183000
DTEND;TZID=America/New_York:20230104T213000
DTSTAMP:20260424T221019
CREATED:20221219T205322Z
LAST-MODIFIED:20221219T205322Z
UID:12010-1672857000-1672867800@www.bgsqd.com
SUMMARY:OLNY Poly Movie Night: Belle Époque (in person event)
DESCRIPTION:Open Love NY presents Poly Movie Night\, a FREE series of feature films that focus on the portrayal of consensual / ethical non-monogamy in cinema. This month we’ll be IN PERSON at the Bureau of General Services—Queer Division.\n  \nPlease join us for Belle Époque (1992)\, directed by Fernando Trueba and starring Fernando Fernán Gómez\, Jorge Sanz\, Maribel Verdú\, and Penélope Cruz.\n  \nWe’ll meet at 6:30 pm at the Bureau (in room 210 of The Lesbian\, Gay\, Bisexual & Transgender Community Center at 208 West 13th Street) for pre-screening socializing and start the movie at 7 pm. The event is free\, although a $5-$10 suggested donation to help fund future events is much appreciated.\n  \nYou can send donations through Venmo to @Open-LoveNY.\n\nSynopsis: During the Spanish Civil War\, a young army deserter is helped by an artist with four daughters\, each of which he has a relationship with. Running time: 1 hour 49 minutes. In Spanish with English subtitles.
URL:https://www.bgsqd.com/event/olny-poly-movie-night-belle-epoque/
LOCATION:Bureau of General Services–Queer Division\, 208 West 13th Street\, Room 210\, New York\, NY\, 10011\, United States
ATTACH;FMTTYPE=image/jpeg:https://www.bgsqd.com/wp-content/uploads/2022/12/Jan-4.jpeg
END:VEVENT
END:VCALENDAR