BEGIN:VCALENDAR
VERSION:2.0
PRODID:-//BGSQD - ECPv6.15.20//NONSGML v1.0//EN
CALSCALE:GREGORIAN
METHOD:PUBLISH
X-ORIGINAL-URL:https://www.bgsqd.com
X-WR-CALDESC:Events for BGSQD
REFRESH-INTERVAL;VALUE=DURATION:PT1H
X-Robots-Tag:noindex
X-PUBLISHED-TTL:PT1H
BEGIN:VTIMEZONE
TZID:America/New_York
BEGIN:DAYLIGHT
TZOFFSETFROM:-0500
TZOFFSETTO:-0400
TZNAME:EDT
DTSTART:20160313T070000
END:DAYLIGHT
BEGIN:STANDARD
TZOFFSETFROM:-0400
TZOFFSETTO:-0500
TZNAME:EST
DTSTART:20161106T060000
END:STANDARD
BEGIN:DAYLIGHT
TZOFFSETFROM:-0500
TZOFFSETTO:-0400
TZNAME:EDT
DTSTART:20170312T070000
END:DAYLIGHT
BEGIN:STANDARD
TZOFFSETFROM:-0400
TZOFFSETTO:-0500
TZNAME:EST
DTSTART:20171105T060000
END:STANDARD
BEGIN:DAYLIGHT
TZOFFSETFROM:-0500
TZOFFSETTO:-0400
TZNAME:EDT
DTSTART:20180311T070000
END:DAYLIGHT
BEGIN:STANDARD
TZOFFSETFROM:-0400
TZOFFSETTO:-0500
TZNAME:EST
DTSTART:20181104T060000
END:STANDARD
END:VTIMEZONE
BEGIN:VEVENT
DTSTART;TZID=America/New_York:20170513T190000
DTEND;TZID=America/New_York:20170513T213000
DTSTAMP:20260425T213656
CREATED:20170501T162000Z
LAST-MODIFIED:20170503T154051Z
UID:6958-1494702000-1494711000@www.bgsqd.com
SUMMARY:TELL 34: Beginnings
DESCRIPTION:  \nTELL is an evening of story telling from the mouths and minds of queers in NYC hosted by Drae Campbell at the Bureau of General Services—Queer Division since February 2014. \nBEGINNINGS is the theme of the thirty-fourth installment of TELL. Featuring Dorrell Clark\, Matthew K. Johnson\, and Justine Williams. \n  \n$10 suggested donation to support the Bureau and the performers. No one turned away for lack of funds. \n  \n \nDrae Campbell is a writer\, actor\, director\, story teller\, dancer\, and nightlife emcee. Drae has been featured on Late Night with Conan O’Brien and on stages all over NYC. Drae’s directing work has appeared in Iceland\, NYC\, Budapest and in the San Francisco Fringe Festival. The short film Drae wrote and starred in with Rebecca Drysdale\, YOU MOVE ME won the Audience Award for Outstanding Narrative Short at OUTFEST 2010 and has been shown in festivals globally. Drae won the grand prize at the first annual San Miguel De Allende Storytelling Festival in Mexico. She once reigned as Miss LEZ and also got dubbed “the next lezzie comedian on the block” by AfterEllen.com for her comedic stylings on the interwebs. Campbell hosts and curates a monthly queer storytelling show called TELL at BGSQD. Check her out online!  www.draecampbell.com. \n  \n  \n \nDorrell Clark was born in New York City (Harlem Hospital) and grew up in Winsor\, North Carolina. She received her A.A.S. degree\, at Bronx Community College; majoring in Chemistry. Dorrell joined the US Army ranking as Private First Class. After 26 years of employment with NYC’s MTA\, she retired in 2011. Without a breather she jumped right into volunteering her services with:{BAAD} Bronx Academy of Arts & Dance\, SOUNDVIEW COMMUNITY PARTNERSHIP PROGRAM\, MISTAH COLES PRODUCTION COMPANY and Susana Cook’s Co. Dorrell understands the rhythm and importance of preparation\, hard work\, and respect. Applying these values to her endeavors by making an inventory of resources\, planning activities and working on her goals daily. Her past experiences has completely supported her development and she is thankful for it. \n  \n  \n \nMatthew K. Johnson is a playwright\, poet\, storyteller and fiction writer originally from Honolulu\, Hawaii. He has been a featured performer at numerous venues around New York City\, including the Bowery Poetry Club\, the C.O.W. Theater and Dixon Place\, and was the creator and host of “Tongue Lashing”\, a literary series at The Phoenix in the East Village that ran from 2007 to 2010. He lives in Brooklyn. \n  \n \nJustine is a performer-creator-educator working across disciplines and fields of study. She is founder and current Den Mother to Queer Scouts\, a civic performance project that takes up the traditional Boy and Girl Scouts\, re-imagining their handbooks\, histories and practices through a queer\, and creative/critical/activist lens. Her work as a creator-performer has been presented at the Public Theater\, Ars Nova\, Yale Rep\, Berkeley Rep\, the Metropolitan Museum of Art\, Queens Museum\, and her film work has presented at Maryland Film Festival\, MOMA’s New Directors/New Films\, Rotterdam Film Festival and others. She was a 2016 Queer Arts Mentorship fellow in Performance\, and is currently an Artist-in-Residence at Abrons Arts with the Queer Scouts. Justine teaches clown\, play\, games and creation at Yale School of Drama\, as well as within traditional and alternative learning spaces around the globe. MFA: CUNY/Brooklyn College in Performance and Interactive Media Arts\nwww.play-mountain.org \n  \n  \n  \n 
URL:https://www.bgsqd.com/event/tell-34-beginnings/
LOCATION:Online event\, New York\, NY\, United States
ATTACH;FMTTYPE=image/jpeg:https://www.bgsqd.com/wp-content/uploads/2017/05/TELL-34-updated-500.jpg
ORGANIZER;CN="Bureau of General Services%E2%80%94Queer Division":MAILTO:contact@bgsqd.com
END:VEVENT
END:VCALENDAR