BEGIN:VCALENDAR
VERSION:2.0
PRODID:-//BGSQD - ECPv6.15.20//NONSGML v1.0//EN
CALSCALE:GREGORIAN
METHOD:PUBLISH
X-ORIGINAL-URL:https://www.bgsqd.com
X-WR-CALDESC:Events for BGSQD
REFRESH-INTERVAL;VALUE=DURATION:PT1H
X-Robots-Tag:noindex
X-PUBLISHED-TTL:PT1H
BEGIN:VTIMEZONE
TZID:America/New_York
BEGIN:DAYLIGHT
TZOFFSETFROM:-0500
TZOFFSETTO:-0400
TZNAME:EDT
DTSTART:20160313T070000
END:DAYLIGHT
BEGIN:STANDARD
TZOFFSETFROM:-0400
TZOFFSETTO:-0500
TZNAME:EST
DTSTART:20161106T060000
END:STANDARD
BEGIN:DAYLIGHT
TZOFFSETFROM:-0500
TZOFFSETTO:-0400
TZNAME:EDT
DTSTART:20170312T070000
END:DAYLIGHT
BEGIN:STANDARD
TZOFFSETFROM:-0400
TZOFFSETTO:-0500
TZNAME:EST
DTSTART:20171105T060000
END:STANDARD
BEGIN:DAYLIGHT
TZOFFSETFROM:-0500
TZOFFSETTO:-0400
TZNAME:EDT
DTSTART:20180311T070000
END:DAYLIGHT
BEGIN:STANDARD
TZOFFSETFROM:-0400
TZOFFSETTO:-0500
TZNAME:EST
DTSTART:20181104T060000
END:STANDARD
END:VTIMEZONE
BEGIN:VEVENT
DTSTART;TZID=America/New_York:20170512T190000
DTEND;TZID=America/New_York:20170512T210000
DTSTAMP:20260425T213701
CREATED:20170412T165126Z
LAST-MODIFIED:20170412T165126Z
UID:6924-1494615600-1494622800@www.bgsqd.com
SUMMARY:Resist\, Rebel\, Transgress: Nothing Without Us Screening
DESCRIPTION:  \nIn conjunction with the Bureau’s current exhibition\, The Lesbian Avengers: 25th Anniversary Exhibition: \nFriday\, May 12  7 p.m. Lesbian Avengers 25 event series\, “Resist\, Rebel\, Transgress.” A screening of the powerful film\, Nothing Without Us\, by Harriet Hirshorn and Mary Patierno about women fighting AIDS worldwide. \nNothing Without Us is the first and only documentary telling the story of the inspiring women at the forefront of the global AIDS movement. Combining archival footage and interviews with female activists\, scientists and scholars in the US and Africa\, “Nothing Without Us: The Women who Will End AIDS” reveals how women not only shaped grassroots groups like ACT-UP in the U.S.\, but have also played essential roles in HIV prevention and the treatment access movement throughout sub-Saharan Africa. The film explores the unaddressed dynamics that keep women around the world at risk of HIV\, while introducing the remarkable women who have the answers to ending this 30-year old pandemic.\n  \nThe Lesbian Avengers: 25th Anniversary Exhibition is on view at the Bureau through June 4\, 2017. \nWe did it\, and we’ll do it again! A multimedia activist exhibit celebrating the Lesbian Avengers\, formed 25 years ago during another surge of hardcore misogyny\, and anti-gay\, white Nationalist hate. Includes still photos\, flyers\, posters\, slide shows\, and video. Were you there? We welcome your participation. This mobile exhibit won’t take on its final form until late April. In June\, it will begin to pop up all over the country. Including a neighborhood near you! \n  \nRelated upcoming event: \nFriday\, June 2 7 p.m. Lesbian Avengers 25 event series\, “Resist\, Rebel\, Transgress” in co-operation with Lambda Literary. Includes Lesbian Avengers and writers\, Susana Cook\, Ana Simo (co-founder)\, and others. \n  \n  \n  \n 
URL:https://www.bgsqd.com/event/resist-rebel-transgress-nothing-without-us-screening/
LOCATION:NY
ATTACH;FMTTYPE=image/jpeg:https://www.bgsqd.com/wp-content/uploads/2017/04/Lesbian-Avengers-Nothing-without-Us-500.jpeg
END:VEVENT
END:VCALENDAR