BEGIN:VCALENDAR
VERSION:2.0
PRODID:-//BGSQD - ECPv6.15.20//NONSGML v1.0//EN
CALSCALE:GREGORIAN
METHOD:PUBLISH
X-ORIGINAL-URL:https://www.bgsqd.com
X-WR-CALDESC:Events for BGSQD
REFRESH-INTERVAL;VALUE=DURATION:PT1H
X-Robots-Tag:noindex
X-PUBLISHED-TTL:PT1H
BEGIN:VTIMEZONE
TZID:America/New_York
BEGIN:DAYLIGHT
TZOFFSETFROM:-0500
TZOFFSETTO:-0400
TZNAME:EDT
DTSTART:20160313T070000
END:DAYLIGHT
BEGIN:STANDARD
TZOFFSETFROM:-0400
TZOFFSETTO:-0500
TZNAME:EST
DTSTART:20161106T060000
END:STANDARD
BEGIN:DAYLIGHT
TZOFFSETFROM:-0500
TZOFFSETTO:-0400
TZNAME:EDT
DTSTART:20170312T070000
END:DAYLIGHT
BEGIN:STANDARD
TZOFFSETFROM:-0400
TZOFFSETTO:-0500
TZNAME:EST
DTSTART:20171105T060000
END:STANDARD
BEGIN:DAYLIGHT
TZOFFSETFROM:-0500
TZOFFSETTO:-0400
TZNAME:EDT
DTSTART:20180311T070000
END:DAYLIGHT
BEGIN:STANDARD
TZOFFSETFROM:-0400
TZOFFSETTO:-0500
TZNAME:EST
DTSTART:20181104T060000
END:STANDARD
END:VTIMEZONE
BEGIN:VEVENT
DTSTART;TZID=America/New_York:20170505T190000
DTEND;TZID=America/New_York:20170505T210000
DTSTAMP:20260425T194932
CREATED:20170411T185721Z
LAST-MODIFIED:20170411T220320Z
UID:6917-1494010800-1494018000@www.bgsqd.com
SUMMARY:David Pratt's Wallaçonia\, Reading & Signing with guest Don Weise
DESCRIPTION:  \nDavid Pratt reads from his new young adult novel\, Wallaçonia. Following the reading\, independent editor Don Weise will join Pratt in a discussion of the process of writing and editing queer young adult novels. \nCopies of Wallaçonia will be available for purchase at the event.\nTo reserve a copy of Wallaçonia\, please write to us at contact@bgsqd.com. \n  \n \nDavid Pratt is the author of the novels Bob the Book (Lambda Literary Award winner) and Looking After Joey. His short stories are collected in the volume My Movie. He has performed worked for the stage in New York City at HERE\, Dixon Place\, the Cornelia Street Cafe and in the New York International Fringe Festival. He lives in Michigan. \n \n  \nDon Weise has more than twenty years publishing experience\, the majority of which has been devoted to LGBT literature. Don was named by Publishers Weekly as an industry “Change Maker” and listed among Out Magazine’s “100 Most Intriguing Gay Men and Lesbians” of the year. Weise is currently the founder/publisher of the LGBT press Querelle Books.\n  \n  \n 
URL:https://www.bgsqd.com/event/david-pratts-wallaconia-reading-signing-with-guest-don-weise/
LOCATION:NY
ATTACH;FMTTYPE=image/jpeg:https://www.bgsqd.com/wp-content/uploads/2017/04/Wallaconia_cover-final.jpg
END:VEVENT
END:VCALENDAR