BEGIN:VCALENDAR
VERSION:2.0
PRODID:-//BGSQD - ECPv6.15.20//NONSGML v1.0//EN
CALSCALE:GREGORIAN
METHOD:PUBLISH
X-ORIGINAL-URL:https://www.bgsqd.com
X-WR-CALDESC:Events for BGSQD
REFRESH-INTERVAL;VALUE=DURATION:PT1H
X-Robots-Tag:noindex
X-PUBLISHED-TTL:PT1H
BEGIN:VTIMEZONE
TZID:America/New_York
BEGIN:DAYLIGHT
TZOFFSETFROM:-0500
TZOFFSETTO:-0400
TZNAME:EDT
DTSTART:20160313T070000
END:DAYLIGHT
BEGIN:STANDARD
TZOFFSETFROM:-0400
TZOFFSETTO:-0500
TZNAME:EST
DTSTART:20161106T060000
END:STANDARD
BEGIN:DAYLIGHT
TZOFFSETFROM:-0500
TZOFFSETTO:-0400
TZNAME:EDT
DTSTART:20170312T070000
END:DAYLIGHT
BEGIN:STANDARD
TZOFFSETFROM:-0400
TZOFFSETTO:-0500
TZNAME:EST
DTSTART:20171105T060000
END:STANDARD
BEGIN:DAYLIGHT
TZOFFSETFROM:-0500
TZOFFSETTO:-0400
TZNAME:EDT
DTSTART:20180311T070000
END:DAYLIGHT
BEGIN:STANDARD
TZOFFSETFROM:-0400
TZOFFSETTO:-0500
TZNAME:EST
DTSTART:20181104T060000
END:STANDARD
END:VTIMEZONE
BEGIN:VEVENT
DTSTART;TZID=America/New_York:20170421T190000
DTEND;TZID=America/New_York:20170421T210000
DTSTAMP:20260425T230816
CREATED:20170410T180400Z
LAST-MODIFIED:20170418T151956Z
UID:6911-1492801200-1492808400@www.bgsqd.com
SUMMARY:Resist\, Rebel\, Transgress: Sarah Schulman & Carmen Machado
DESCRIPTION:  \nIn conjunction with the Bureau’s current exhibition\, The Lesbian Avengers: 25th Anniversary Exhibition: \n“Resist\, Rebel\, Transgress” in co-operation with Lambda Literary. Reading from their work: Avenger co-founder and writer Sarah Schulman\, and writer Carmen Machado. \nSuggested donation of $5 to $10 to benefit both the traveling exhibition The Lesbian Avengers: 25th Anniversary Exhibition and the Bureau. No one turned away for lack of funds. \n  \nCarmen Maria Machado’s debut short story collection\, Her Body and Other Parties\, is forthcoming from Graywolf Press. Her fiction and nonfiction has appeared in The New Yorker\, Granta\, Best American Science Fiction & Fantasy\, Best Horror of the Year\, and Best Women’s Erotica. She holds an MFA from the Iowa Writers’ Workshop and is the Artist in Residence at the University of Pennsylvania.\n \nSarah Schulman is the author of 18 books\, most recently the novel THE COSMOPOLITANS\, selected by Publishers Weekly as one of the top 20 American novels of 2016\, and CONFLICT IS NOT ABUSE\, which bell hooks called “awesome brilliant.” Sarah is on the advisory board of Jewish Voice for Peace\, faculty advisor to Students for Justice in Palestine\, and on the advisory board of Claudia Rankine’s Racial Imaginary Institute. She is currently writing the book to a musical based on the songs of Joan Armatrading.\n  \n  \nThe Lesbian Avengers: 25th Anniversary Exhibition is on view at the Bureau through June 4\, 2017. \nWe did it\, and we’ll do it again! A multimedia activist exhibit celebrating the Lesbian Avengers\, formed 25 years ago during another surge of hardcore misogyny\, and anti-gay\, white Nationalist hate. Includes still photos\, flyers\, posters\, slide shows\, and video. Were you there? We welcome your participation. This mobile exhibit won’t take on its final form until late April. In June\, it will begin to pop up all over the country. Including a neighborhood near you!\n \nRelated upcoming events:\n \nFriday\, May 12 7 p.m. Lesbian Avengers 25 event series\, “Resist\, Rebel\, Transgress.” A screening of the powerful film\, Nothing Without Us\, by Harriet Hirshorn and Mary Patierno about women fighting AIDS worldwide. \nNothing Without Us is the first and only documentary telling the story of the inspiring women at the forefront of the global AIDS movement. Combining archival footage and interviews with female activists\, scientists and scholars in the US and Africa\, Nothing Without Us: The Women who Will End AIDS reveals how women not only shaped grassroots groups like ACT-UP in the U.S.\, but have also played essential roles in HIV prevention and the treatment access movement throughout sub-Saharan Africa. The film explores the unaddressed dynamics that keep women around the world at risk of HIV\, while introducing the remarkable women who have the answers to ending this 30-year old pandemic.\n \nFriday\, June 2 7 p.m. Lesbian Avengers 25 event series\, “Resist\, Rebel\, Transgress” in co-operation with Lambda Literary. Includes Lesbian Avengers and writers\, Susana Cook\, Ana Simo (co-founder)\, and others. \n  \n 
URL:https://www.bgsqd.com/event/resist-rebel-transgress-sarah-schulman-carmen-machado/
LOCATION:NY
ATTACH;FMTTYPE=image/jpeg:https://www.bgsqd.com/wp-content/uploads/2017/04/Resist-Rebel-Transgress-Schulman-Machado.jpg
END:VEVENT
END:VCALENDAR