BEGIN:VCALENDAR
VERSION:2.0
PRODID:-//BGSQD - ECPv6.15.20//NONSGML v1.0//EN
CALSCALE:GREGORIAN
METHOD:PUBLISH
X-WR-CALNAME:BGSQD
X-ORIGINAL-URL:https://www.bgsqd.com
X-WR-CALDESC:Events for BGSQD
REFRESH-INTERVAL;VALUE=DURATION:PT1H
X-Robots-Tag:noindex
X-PUBLISHED-TTL:PT1H
BEGIN:VTIMEZONE
TZID:America/New_York
BEGIN:DAYLIGHT
TZOFFSETFROM:-0500
TZOFFSETTO:-0400
TZNAME:EDT
DTSTART:20160313T070000
END:DAYLIGHT
BEGIN:STANDARD
TZOFFSETFROM:-0400
TZOFFSETTO:-0500
TZNAME:EST
DTSTART:20161106T060000
END:STANDARD
BEGIN:DAYLIGHT
TZOFFSETFROM:-0500
TZOFFSETTO:-0400
TZNAME:EDT
DTSTART:20170312T070000
END:DAYLIGHT
BEGIN:STANDARD
TZOFFSETFROM:-0400
TZOFFSETTO:-0500
TZNAME:EST
DTSTART:20171105T060000
END:STANDARD
BEGIN:DAYLIGHT
TZOFFSETFROM:-0500
TZOFFSETTO:-0400
TZNAME:EDT
DTSTART:20180311T070000
END:DAYLIGHT
BEGIN:STANDARD
TZOFFSETFROM:-0400
TZOFFSETTO:-0500
TZNAME:EST
DTSTART:20181104T060000
END:STANDARD
END:VTIMEZONE
BEGIN:VEVENT
DTSTART;TZID=America/New_York:20170418T183000
DTEND;TZID=America/New_York:20170418T213000
DTSTAMP:20260425T212952
CREATED:20170410T182156Z
LAST-MODIFIED:20170410T182156Z
UID:6913-1492540200-1492551000@www.bgsqd.com
SUMMARY:Union Square Slam presents Hanif Willis-Abdurraqib and Team Selection Finals!
DESCRIPTION:  \n!! TIME !! FOR !! TEAM !! SELECTION !! FINALS !!\n \nfeaturing\nHANIF WILLIS-ABDURRAQIB\n \nARE YOU READY FOR POEMS?!\n \n6:30pm: Writing Workshop by Hanif Willis-Abdurraqib\n7:45pm: Slam\, First Round\n8:30pm: Feature: Hanif Willis-Abdurraqib\n9:00pm: Slam\, Second Round\n \nWriting Workshop\, by donation/pass-the-bag\nFeature/Slam: suggested $7-$10\, collected at door\n \n* * * We’ll also be selling limited edition copies of Union Square Slam’s Inaugural Year Team Slam Chapbook — all proceeds go to getting the team to Nationals this year ♥ * * *\nBureau of General Services – Queer Division\n(inside the LGBT Center)\n \n208 W 13th St.\, #210 (btw 7th and 8th Ave) \nAll Ages // Wheelchair Accessible\nAbout our Feature:\n \nHanif Willis-Abdurraqib is a poet\, essayist\, and cultural critic from Columbus\, Ohio. His first collection of poems\, The Crown Ain’t Worth Much\, was released by Button Poetry in 2016. His first collection of essays\, They Can’t Kill Us Until They Kill Us\, is forthcoming from Two Dollar Radio in winter 2017. \n  \n  \n 
URL:https://www.bgsqd.com/event/uss-presents-hanif-willis-abdurraqib-and-team-selection-finals/
LOCATION:NY
ATTACH;FMTTYPE=image/jpeg:https://www.bgsqd.com/wp-content/uploads/2017/04/USS-4-18.jpg
END:VEVENT
END:VCALENDAR