BEGIN:VCALENDAR
VERSION:2.0
PRODID:-//BGSQD - ECPv6.15.20//NONSGML v1.0//EN
CALSCALE:GREGORIAN
METHOD:PUBLISH
X-ORIGINAL-URL:https://www.bgsqd.com
X-WR-CALDESC:Events for BGSQD
REFRESH-INTERVAL;VALUE=DURATION:PT1H
X-Robots-Tag:noindex
X-PUBLISHED-TTL:PT1H
BEGIN:VTIMEZONE
TZID:America/New_York
BEGIN:DAYLIGHT
TZOFFSETFROM:-0500
TZOFFSETTO:-0400
TZNAME:EDT
DTSTART:20160313T070000
END:DAYLIGHT
BEGIN:STANDARD
TZOFFSETFROM:-0400
TZOFFSETTO:-0500
TZNAME:EST
DTSTART:20161106T060000
END:STANDARD
BEGIN:DAYLIGHT
TZOFFSETFROM:-0500
TZOFFSETTO:-0400
TZNAME:EDT
DTSTART:20170312T070000
END:DAYLIGHT
BEGIN:STANDARD
TZOFFSETFROM:-0400
TZOFFSETTO:-0500
TZNAME:EST
DTSTART:20171105T060000
END:STANDARD
BEGIN:DAYLIGHT
TZOFFSETFROM:-0500
TZOFFSETTO:-0400
TZNAME:EDT
DTSTART:20180311T070000
END:DAYLIGHT
BEGIN:STANDARD
TZOFFSETFROM:-0400
TZOFFSETTO:-0500
TZNAME:EST
DTSTART:20181104T060000
END:STANDARD
END:VTIMEZONE
BEGIN:VEVENT
DTSTART;TZID=America/New_York:20170411T183000
DTEND;TZID=America/New_York:20170411T213000
DTSTAMP:20260425T230518
CREATED:20170403T155025Z
LAST-MODIFIED:20170403T155213Z
UID:6886-1491935400-1491946200@www.bgsqd.com
SUMMARY:Great Weather for Union Square Slam
DESCRIPTION:  \nGreat weather for media has a brand new anthology called “The Careless Embrace of the Boneshaker.” We are excited to bring you some of the poets from this anthology to our stage.\n \nHere are the poets:\n \nTaylor Steele\nLiv Mammone\nCraig Kite\nBrendan James Gillett\n \nFounded in January 2012 by former Uphook Press editors Jane Ormerod\, Thomas Fucaloro\, and Brant Lyon\, great weather for MEDIA focuses on the unpredictable\, the fearless\, the bright\, the dark\, and the innovative…\n \nThey are based in New York City and showcase both national and international writers. As well as publishing the highest quality poetry and prose\, they organize numerous readings\, performances\, and book releases in New York City and across the country. Find them every Sunday on the Lower East Side at the Parkside Lounge\, 317 East Houston St\, for their reading series\, great weather presents Spoken Word Sundays. Featured readers and a poetry open mic\, 4:00 – 6:00 pm. They’d love to see you! This is a terrific New York City poetry open mic. \n  \n6:30pm Writing Workshop w/ IS Jones\n7:30pm Sign-ups and Socialize\n8:00pm Open Mic \nAll Ages // Wheelchair Accessible\nSuggested Donation: $5-$10 \n \n \n \n 
URL:https://www.bgsqd.com/event/great-weather-for-union-square-slam/
LOCATION:NY
ATTACH;FMTTYPE=image/jpeg:https://www.bgsqd.com/wp-content/uploads/2017/04/USS-Great-Weather.jpg
END:VEVENT
END:VCALENDAR